{"text_format":"1","workbook":"xlsx","n_sheets":17,"sheets":["Menu","データ(1)","データ(2)","データ(3)","クラス(1)","クラス(2)","クラス(3)","分布図","分布図比較","プロフィール選択","PR","風土印刷","基準値","段階","段階表","質問項目","風土説明"],"not_rendered":{"charts":10,"images":15,"macros":1,"external_links":1,"defined_names":66,"comments":1,"pivot_tables":0},"unopened":[],"bounds":{"document_bytes":16777216,"sheet_cells":100000,"rows_first":2000,"rows_last":500,"rows_between":2000,"halvings":0,"cell_chars":16384,"cell_head_chars":4096},"cells_cut":0,"cells_raw":0,"read":"whole","date_system":"1900"}

{"sheet":"Menu","index":0,"n_rows":6,"n_cols":6,"rows_kept":6,"cut":false,"hidden":false,"merged":[]}
[]
[null,"STEP１\n学級風土チェック入力",null,"STEP２\n児童アンケート入力",null,"STEP3\n結果の出力"]
[]
[null,null,null,"RGB0,51,102"]
[null,null,null,"RGB0,51,102"]
[null,null,null,"RGB0,51,102"]

{"sheet":"データ(1)","index":1,"n_rows":53,"n_cols":50,"rows_kept":53,"cut":false,"hidden":false,"merged":[[50,41,51,41],[46,37,47,37],[46,38,47,38],[46,39,47,39],[50,32,51,32],[50,33,51,33],[50,34,51,34],[48,46,49,46],[50,46,51,46],[50,45,51,45],[50,43,51,43],[46,42,47,42],[50,42,51,42],[50,44,51,44],[46,45,47,45],[48,42,49,42],[48,43,49,43],[48,44,49,44],[48,45,49,45],[50,40,51,40],[48,40,49,40],[48,36,49,36],[50,35,51,35],[50,36,51,36],[50,37,51,37],[50,38,51,38],[50,39,51,39],[50,20,51,20],[48,26,49,26],[48,27,49,27],[50,22,51,22],[50,28,51,28],[46,23,51,23],[48,28,49,28],[48,37,49,37],[48,38,49,38],[48,39,49,39],[48,29,49,29],[48,30,49,30],[48,31,49,31],[48,32,49,32],[48,33,49,33],[48,34,49,34],[48,35,49,35],[2,0,4,0],[2,1,4,1],[46,1,47,1],[3,5,3,6],[2,2,3,2],[46,27,47,27],[46,25,47,25],[46,16,47,16],[46,36,47,36],[46,9,47,9],[46,10,47,10],[46,11,47,11],[46,12,47,12],[46,13,47,13],[46,14,47,14],[48,9,49,9],[48,10,49,10],[48,11,49,11],[48,12,49,12],[2,49,4,49],[2,45,4,45],[2,46,4,46],[2,47,4,47],[2,48,4,48],[46,46,47,46],[2,44,4,44],[2,24,3,35],[46,17,47,17],[46,18,47,18],[46,24,47,24],[46,28,47,28],[46,33,47,33],[46,34,47,34],[46,22,47,22],[46,26,47,26],[46,31,47,31],[46,29,47,29],[46,35,47,35],[48,41,49,41],[46,43,47,43],[46,44,47,44],[46,40,47,40],[46,30,47,30],[46,41,47,41],[1,41,1,42],[1,43,1,44],[2,36,4,36],[2,37,4,37],[2,38,4,38],[2,39,4,39],[2,41,4,41],[2,42,4,42],[2,43,4,43],[0,2,1,40],[2,3,2,8],[3,3,3,4],[2,9,3,18],[2,19,3,22],[50,1,51,1],[46,0,47,0],[48,0,49,0],[50,0,51,0],[48,1,49,1],[2,40,4,40],[3,7,3,8],[46,19,47,19],[46,20,47,20],[46,32,47,32],[50,19,51,19],[48,18,49,18],[50,17,51,17],[50,18,51,18],[50,9,51,9],[50,10,51,10],[50,11,51,11],[50,12,51,12],[48,14,49,14],[48,15,49,15],[48,13,49,13],[50,13,51,13],[50,14,51,14],[50,15,51,15],[50,16,51,16],[46,15,47,15],[50,29,51,29],[50,30,51,30],[50,31,51,31],[50,24,51,24],[50,25,51,25],[50,26,51,26],[50,27,51,27],[48,19,49,19],[48,17,49,17],[48,20,49,20],[48,22,49,22],[48,24,49,24],[48,25,49,25],[48,16,49,16],[46,21,47,21],[48,21,49,21],[50,21,51,21]]}
["学年",null,"　　　　個人アセスメント入力シート１回目"]
["組",null,null,null,null,null,null,null,null,null,null,null,null,null,null,null,null,null,null,null,null,null,null,null,null,null,null,null,null,null,null,null,null,null,null,null,null,null,null,null,null,"自分づくり",null,"仲間づくり"]
["ＮＯ","氏名","性別","風土まとめ合計",null,null,null,null,null,"Ａ項目\n自分づくりスキル",null,null,null,null,null,null,null,null,null,"C項目\n学級居心地感",null,null,null,null,"Ｂ項目\n仲間づくりスキル",null,null,null,null,null,null,null,null,null,null,null,"自分づくり","仲間づくり","学級居心地感","心配傾向","かかわり","自己効力感","自尊感情","自己表現","共感・配慮","仲間づくり","自分づくり","自分づくり\n学級","仲間づくり\n学級","集団づくり\n学級"]
[null,null,null,"自分づくり",null,"仲間づくり",null,"集団づくり"]
[null,null,"性別","公正","寛容","自己表現","配慮","課題遂行","合意形成","１","２","３","４","５","６","７","８","９","１０","１１","１２","１３","１４","性別","１","２","３","４","５","６","７","８","９","１０","１１","１２"]
[1,null,null,0,0,0,0,0,0,null,null,null,null,null,null,null,null,null,null,null,null,null,null,{"$f":"C6","v":0},null,null,null,null,null,null,null,null,null,null,null,null,{"$f":"SUM(J6,K6,M6,N6,P6,Q6,S6)","v":0},{"$f":"SUM(Y6:AJ6)","v":0},{"$f":"SUM(T6,U6,V6,W6)","v":0},{"$f":"SUM(L6,O6,R6)","v":0},{"$f":"SUM(Z6,AI6,AA6,AD6)","v":0},{"$f":"SUM(J6,Q6,K6,S6)","v":0},{"$f":"SUM(M6,N6,P6)","v":0},{"$f":"SUM(Y6,Z6,AB6,AC6,AF6,AI6)","v":0},{"$f":"SUM(AA6,AD6,AE6,AG6,AH6,AJ6)","v":0},{"$f":"SUM(Y6:AJ6)","v":0},{"$f":"SUM(J6,K6,M6,N6,P6,Q6,S6)","v":0},{"$f":"D6","v":0},{"$f":"F6","v":0},{"$f":"H6","v":0}]
[2,null,null,0,0,0,0,0,0,null,null,null,null,null,null,null,null,null,null,null,null,null,null,0,null,null,null,null,null,null,null,null,null,null,null,null,{"$f":"SUM(J7,K7,M7,N7,P7,Q7,S7)","v":0},{"$f":"SUM(Y7:AJ7)","v":0},{"$f":"SUM(T7,U7,V7,W7)","v":0},{"$f":"SUM(L7,O7,R7)","v":0},{"$f":"SUM(Z7,AI7,AA7,AD7)","v":0},{"$f":"SUM(J7,Q7,K7,S7)","v":0},{"$f":"SUM(M7,N7,P7)","v":0},{"$f":"SUM(Y7,Z7,AB7,AC7,AF7,AI7)","v":0},{"$f":"SUM(AA7,AD7,AE7,AG7,AH7,AJ7)","v":0},{"$f":"SUM(Y7:AJ7)","v":0},{"$f":"SUM(J7,K7,M7,N7,P7,Q7,S7)","v":0},{"$f":"D7","v":0},{"$f":"F7","v":0},{"$f":"H7","v":0}]
[3,null,null,0,0,0,0,0,0,null,null,null,null,null,null,null,null,null,null,null,null,null,null,0,null,null,null,null,null,null,null,null,null,null,null,null,0,0,0,0,0,0,0,0,0,0,0,0,0,0]
[4,null,null,0,0,0,0,0,0,null,null,null,null,null,null,null,null,null,null,null,null,null,null,0,null,null,null,null,null,null,null,null,null,null,null,null,0,0,0,0,0,0,0,0,0,0,0,0,0,0]
[5,null,null,0,0,0,0,0,0,null,null,null,null,null,null,null,null,null,null,null,null,null,null,0,null,null,null,null,null,null,null,null,null,null,null,null,0,0,0,0,0,0,0,0,0,0,0,0,0,0]
[6,null,null,0,0,0,0,0,0,null,null,null,null,null,null,null,null,null,null,null,null,null,null,0,null,null,null,null,null,null,null,null,null,null,null,null,0,0,0,0,0,0,0,0,0,0,0,0,0,0]
[7,null,null,0,0,0,0,0,0,null,null,null,null,null,null,null,null,null,null,null,null,null,null,0,null,null,null,null,null,null,null,null,null,null,null,null,0,0,0,0,0,0,0,0,0,0,0,0,0,0]
[8,null,null,0,0,0,0,0,0,null,null,null,null,null,null,null,null,null,null,null,null,null,null,0,null,null,null,null,null,null,null,null,null,null,null,null,0,0,0,0,0,0,0,0,0,0,0,0,0,0]
[9,null,null,0,0,0,0,0,0,null,null,null,null,null,null,null,null,null,null,null,null,null,null,0,null,null,null,null,null,null,null,null,null,null,null,null,0,0,0,0,0,0,0,0,0,0,0,0,0,0]
[10,null,null,0,0,0,0,0,0,null,null,null,null,null,null,null,null,null,null,null,null,null,null,0,null,null,null,null,null,null,null,null,null,null,null,null,0,0,0,0,0,0,0,0,0,0,0,0,0,0]
[11,null,null,0,0,0,0,0,0,null,null,null,null,null,null,null,null,null,null,null,null,null,null,0,null,null,null,null,null,null,null,null,null,null,null,null,0,0,0,0,0,0,0,0,0,0,0,0,0,0]
[12,null,null,0,0,0,0,0,0,null,null,null,null,null,null,null,null,null,null,null,null,null,null,0,null,null,null,null,null,null,null,null,null,null,null,null,0,0,0,0,0,0,0,0,0,0,0,0,0,0]
[13,null,null,0,0,0,0,0,0,null,null,null,null,null,null,null,null,null,null,null,null,null,null,0,null,null,null,null,null,null,null,null,null,null,null,null,0,0,0,0,0,0,0,0,0,0,0,0,0,0]
[14,null,null,0,0,0,0,0,0,null,null,null,null,null,null,null,null,null,null,null,null,null,null,0,null,null,null,null,null,null,null,null,null,null,null,null,0,0,0,0,0,0,0,0,0,0,0,0,0,0]
[15,null,null,0,0,0,0,0,0,null,null,null,null,null,null,null,null,null,null,null,null,null,null,0,null,null,null,null,null,null,null,null,null,null,null,null,0,0,0,0,0,0,0,0,0,0,0,0,0,0]
[16,null,null,0,0,0,0,0,0,null,null,null,null,null,null,null,null,null,null,null,null,null,null,0,null,null,null,null,null,null,null,null,null,null,null,null,0,0,0,0,0,0,0,0,0,0,0,0,0,0]
[17,null,null,0,0,0,0,0,0,null,null,null,null,null,null,null,null,null,null,null,null,null,null,0,null,null,null,null,null,null,null,null,null,null,null,null,0,0,0,0,0,0,0,0,0,0,0,0,0,0]
[18,null,null,0,0,0,0,0,0,null,null,null,null,null,null,null,null,null,null,null,null,null,null,0,null,null,null,null,null,null,null,null,null,null,null,null,0,0,0,0,0,0,0,0,0,0,0,0,0,0]
[19,null,null,0,0,0,0,0,0,null,null,null,null,null,null,null,null,null,null,null,null,null,null,0,null,null,null,null,null,null,null,null,null,null,null,null,0,0,0,0,0,0,0,0,0,0,0,0,0,0]
[20,null,null,0,0,0,0,0,0,null,null,null,null,null,null,null,null,null,null,null,null,null,null,0,null,null,null,null,null,null,null,null,null,null,null,null,0,0,0,0,0,0,0,0,0,0,0,0,0,0]
[21,null,null,0,0,0,0,0,0,null,null,null,null,null,null,null,null,null,null,null,null,null,null,0,null,null,null,null,null,null,null,null,null,null,null,null,0,0,0,0,0,0,0,0,0,0,0,0,0,0]
[22,null,null,0,0,0,0,0,0,null,null,null,null,null,null,null,null,null,null,null,null,null,null,0,null,null,null,null,null,null,null,null,null,null,null,null,0,0,0,0,0,0,0,0,0,0,0,0,0,0]
[23,null,null,0,0,0,0,0,0,null,null,null,null,null,null,null,null,null,null,null,null,null,null,0,null,null,null,null,null,null,null,null,null,null,null,null,0,0,0,0,0,0,0,0,0,0,0,0,0,0]
[24,null,null,0,0,0,0,0,0,null,null,null,null,null,null,null,null,null,null,null,null,null,null,0,null,null,null,null,null,null,null,null,null,null,null,null,0,0,0,0,0,0,0,0,0,0,0,0,0,0]
[25,null,null,0,0,0,0,0,0,null,null,null,null,null,null,null,null,null,null,null,null,null,null,0,null,null,null,null,null,null,null,null,null,null,null,null,0,0,0,0,0,0,0,0,0,0,0,0,0,0]
[26,null,null,{"$f":"'クラス(1)'!$AG$30","v":0},{"$f":"'クラス(1)'!$AG$31","v":0},{"$f":"'クラス(1)'!$AG$32","v":0},{"$f":"'クラス(1)'!$AG$33","v":0},{"$f":"'クラス(1)'!$AG$34","v":0},{"$f":"'クラス(1)'!$AG$35","v":0},null,null,null,null,null,null,null,null,null,null,null,null,null,null,0,null,null,null,null,null,null,null,null,null,null,null,null,0,0,0,0,0,0,0,0,0,0,0,0,0,0]
[27,null,null,{"$f":"'クラス(1)'!$AH$30","v":0},{"$f":"'クラス(1)'!$AH$31","v":0},{"$f":"'クラス(1)'!$AH$32","v":0},{"$f":"'クラス(1)'!$AH$33","v":0},{"$f":"'クラス(1)'!$AH$34","v":0},{"$f":"'クラス(1)'!$AH$35","v":0},null,null,null,null,null,null,null,null,null,null,null,null,null,null,0,null,null,null,null,null,null,null,null,null,null,null,null,0,0,0,0,0,0,0,0,0,0,0,0,0,0]
[28,null,null,{"$f":"'クラス(1)'!$AI$30","v":0},{"$f":"'クラス(1)'!$AI$31","v":0},{"$f":"'クラス(1)'!$AI$32","v":0},{"$f":"'クラス(1)'!$AI$33","v":0},{"$f":"'クラス(1)'!$AI$34","v":0},{"$f":"'クラス(1)'!$AI$35","v":0},null,null,null,null,null,null,null,null,null,null,null,null,null,null,0,null,null,null,null,null,null,null,null,null,null,null,null,0,0,0,0,0,0,0,0,0,0,0,0,0,0]
[29,null,null,{"$f":"'クラス(1)'!$AJ$30","v":0},{"$f":"'クラス(1)'!$AJ$31","v":0},{"$f":"'クラス(1)'!$AJ$32","v":0},{"$f":"'クラス(1)'!$AJ$33","v":0},{"$f":"'クラス(1)'!$AJ$34","v":0},{"$f":"'クラス(1)'!$AJ$35","v":0},null,null,null,null,null,null,null,null,null,null,null,null,null,null,0,null,null,null,null,null,null,null,null,null,null,null,null,0,0,0,0,0,0,0,0,0,0,0,0,0,0]
[30,null,null,{"$f":"'クラス(1)'!$AK$30","v":0},{"$f":"'クラス(1)'!$AK$31","v":0},{"$f":"'クラス(1)'!$AK$32","v":0},{"$f":"'クラス(1)'!$AK$33","v":0},{"$f":"'クラス(1)'!$AK$34","v":0},{"$f":"'クラス(1)'!$AK$35","v":0},null,null,null,null,null,null,null,null,null,null,null,null,null,null,0,null,null,null,null,null,null,null,null,null,null,null,null,0,0,0,0,0,0,0,0,0,0,0,0,0,0]
[31,null,null,{"$f":"'クラス(1)'!$AL$30","v":0},{"$f":"'クラス(1)'!$AL$31","v":0},{"$f":"'クラス(1)'!$AL$32","v":0},{"$f":"'クラス(1)'!$AL$33","v":0},{"$f":"'クラス(1)'!$AL$34","v":0},{"$f":"'クラス(1)'!$AL$35","v":0},null,null,null,null,null,null,null,null,null,null,null,null,null,null,0,null,null,null,null,null,null,null,null,null,null,null,null,0,0,0,0,0,0,0,0,0,0,0,0,0,0]
[32,null,null,{"$f":"'クラス(1)'!$AM$30","v":0},{"$f":"'クラス(1)'!$AM$31","v":0},{"$f":"'クラス(1)'!$AM$32","v":0},{"$f":"'クラス(1)'!$AM$33","v":0},{"$f":"'クラス(1)'!$AM$34","v":0},{"$f":"'クラス(1)'!$AM$35","v":0},null,null,null,null,null,null,null,null,null,null,null,null,null,null,0,null,null,null,null,null,null,null,null,null,null,null,null,0,0,0,0,0,0,0,0,0,0,0,0,0,0]
[33,null,null,{"$f":"'クラス(1)'!$AN$30","v":0},{"$f":"'クラス(1)'!$AN$31","v":0},{"$f":"'クラス(1)'!$AN$32","v":0},{"$f":"'クラス(1)'!$AN$33","v":0},{"$f":"'クラス(1)'!$AN$34","v":0},{"$f":"'クラス(1)'!$AN$35","v":0},null,null,null,null,null,null,null,null,null,null,null,null,null,null,0,null,null,null,null,null,null,null,null,null,null,null,null,0,0,0,0,0,0,0,0,0,0,0,0,0,0]
[34,null,null,{"$f":"'クラス(1)'!$AO$30","v":0},{"$f":"'クラス(1)'!$AO$31","v":0},{"$f":"'クラス(1)'!$AO$32","v":0},{"$f":"'クラス(1)'!$AO$33","v":0},{"$f":"'クラス(1)'!$AO$34","v":0},{"$f":"'クラス(1)'!$AO$35","v":0},null,null,null,null,null,null,null,null,null,null,null,null,null,null,0,null,null,null,null,null,null,null,null,null,null,null,null,0,0,0,0,0,0,0,0,0,0,0,0,0,0]
[35,null,null,{"$f":"'クラス(1)'!$AP$30","v":0},{"$f":"'クラス(1)'!$AP$31","v":0},{"$f":"'クラス(1)'!$AP$32","v":0},{"$f":"'クラス(1)'!$AP$33","v":0},{"$f":"'クラス(1)'!$AP$34","v":0},{"$f":"'クラス(1)'!$AP$35","v":0},null,null,null,null,null,null,null,null,null,null,null,null,null,null,0,null,null,null,null,null,null,null,null,null,null,null,null,0,0,0,0,0,0,0,0,0,0,0,0,0,0]
[36,null,null,{"$f":"'クラス(1)'!$AQ$30","v":0},{"$f":"'クラス(1)'!$AQ$31","v":0},{"$f":"'クラス(1)'!$AQ$32","v":0},{"$f":"'クラス(1)'!$AQ$33","v":0},{"$f":"'クラス(1)'!$AQ$34","v":0},{"$f":"'クラス(1)'!$AQ$35","v":0},null,null,null,null,null,null,null,null,null,null,null,null,null,null,0,null,null,null,null,null,null,null,null,null,null,null,null,0,0,0,0,0,0,0,0,0,0,0,0,0,0]
[37,null,null,{"$f":"'クラス(1)'!$AR$30","v":0},{"$f":"'クラス(1)'!$AR$31","v":0},{"$f":"'クラス(1)'!$AR$32","v":0},{"$f":"'クラス(1)'!$AR$33","v":0},{"$f":"'クラス(1)'!$AR$34","v":0},{"$f":"'クラス(1)'!$AR$35","v":0},null,null,null,null,null,null,null,null,null,null,null,null,null,null,0,null,null,null,null,null,null,null,null,null,null,null,null,0,0,0,0,0,0,0,0,0,0,0,0,0,0]
[38,null,null,{"$f":"'クラス(1)'!$AS$30","v":0},{"$f":"'クラス(1)'!$AS$31","v":0},{"$f":"'クラス(1)'!$AS$32","v":0},{"$f":"'クラス(1)'!$AS$33","v":0},{"$f":"'クラス(1)'!$AS$34","v":0},{"$f":"'クラス(1)'!$AS$35","v":0},null,null,null,null,null,null,null,null,null,null,null,null,null,null,0,null,null,null,null,null,null,null,null,null,null,null,null,0,0,0,0,0,0,0,0,0,0,0,0,0,0]
[39,null,null,{"$f":"'クラス(1)'!$AT$30","v":0},{"$f":"'クラス(1)'!$AT$31","v":0},{"$f":"'クラス(1)'!$AT$32","v":0},{"$f":"'クラス(1)'!$AT$33","v":0},{"$f":"'クラス(1)'!$AT$34","v":0},{"$f":"'クラス(1)'!$AT$35","v":0},null,null,null,null,null,null,null,null,null,null,null,null,null,null,0,null,null,null,null,null,null,null,null,null,null,null,null,0,0,0,0,0,0,0,0,0,0,0,0,0,0]
[40,null,null,{"$f":"'クラス(1)'!$AU$30","v":0},{"$f":"'クラス(1)'!$AU$31","v":0},{"$f":"'クラス(1)'!$AU$32","v":0},{"$f":"'クラス(1)'!$AU$33","v":0},{"$f":"'クラス(1)'!$AU$34","v":0},{"$f":"'クラス(1)'!$AU$35","v":0},null,null,null,null,null,null,null,null,null,null,null,null,null,null,0,null,null,null,null,null,null,null,null,null,null,null,null,0,0,0,0,0,0,0,0,0,0,0,0,0,0]
[]
[41,"男子平均","◎",{"$f":"DCOUNTA($C$5:$I$45,$D$5,'データ(3)'!B64:C65)/J53","v":{"$error":"#DIV/0!"}},{"$f":"DCOUNTA($C$5:$I$45,$D$5,'データ(3)'!D64:E65)/J53","v":{"$error":"#DIV/0!"}},{"$f":"DCOUNTA($C$5:$I$45,$D$5,'データ(3)'!F64:G65)/J53","v":{"$error":"#DIV/0!"}},{"$f":"DCOUNTA($C$5:$I$45,$D$5,'データ(3)'!H64:I65)/J53","v":{"$error":"#DIV/0!"}},{"$f":"DCOUNTA($C$5:$I$45,$D$5,'データ(3)'!J64:K65)/J53","v":{"$error":"#DIV/0!"}},{"$f":"DCOUNTA($C$5:$I$45,$D$5,'データ(3)'!L64:M65)/J53","v":{"$error":"#DIV/0!"}},{"$f":"DAVERAGE($C$5:$W$45,J$5,'データ(3)'!$D59:$E60)","v":{"$error":"#DIV/0!"}},{"$f":"DAVERAGE($C$5:$W$45,K$5,'データ(3)'!$F59:$G60)","v":{"$error":"#DIV/0!"}},{"$f":"DAVERAGE($C$5:$W$45,L$5,'データ(3)'!$H59:$I60)","v":{"$error":"#DIV/0!"}},{"$f":"DAVERAGE($C$5:$W$45,M$5,'データ(3)'!$J59:$K60)","v":{"$error":"#DIV/0!"}},{"$f":"DAVERAGE($C$5:$W$45,N$5,'データ(3)'!$L59:$M60)","v":{"$error":"#DIV/0!"}},{"$f":"DAVERAGE($C$5:$W$45,O$5,'データ(3)'!$N59:$O60)","v":{"$error":"#DIV/0!"}},{"$f":"DAVERAGE($C$5:$W$45,P$5,'データ(3)'!$P59:$Q60)","v":{"$error":"#DIV/0!"}},{"$f":"DAVERAGE($C$5:$W$45,Q$5,'データ(3)'!$R59:$S60)","v":{"$error":"#DIV/0!"}},{"$f":"DAVERAGE($C$5:$W$45,R$5,'データ(3)'!$T59:$U60)","v":{"$error":"#DIV/0!"}},{"$f":"DAVERAGE($C$5:$W$45,S$5,'データ(3)'!$W59:$X60)","v":{"$error":"#DIV/0!"}},{"$f":"DAVERAGE($C$5:$W$45,T$5,'データ(3)'!$Y59:$Z60)","v":{"$error":"#DIV/0!"}},{"$f":"DAVERAGE($C$5:$W$45,U$5,'データ(3)'!$AA59:$AB60)","v":{"$error":"#DIV/0!"}},{"$f":"DAVERAGE($C$5:$W$45,V$5,'データ(3)'!$AC59:$AD60)","v":{"$error":"#DIV/0!"}},{"$f":"DAVERAGE($C$5:$W$45,W$5,'データ(3)'!$AE59:$AF60)","v":{"$error":"#DIV/0!"}},null,{"$f":"DAVERAGE($X$5:$AJ$45,Y$5,'データ(3)'!$D59:$E60)","v":{"$error":"#DIV/0!"}},{"$f":"DAVERAGE($X$5:$AJ$45,Z$5,'データ(3)'!$F59:$G60)","v":{"$error":"#DIV/0!"}},{"$f":"DAVERAGE($X$5:$AJ$45,AA$5,'データ(3)'!$H59:$I60)","v":{"$error":"#DIV/0!"}},{"$f":"DAVERAGE($X$5:$AJ$45,AB$5,'データ(3)'!$J59:$K60)","v":{"$error":"#DIV/0!"}},{"$f":"DAVERAGE($X$5:$AJ$45,AC$5,'データ(3)'!$L59:$M60)","v":{"$error":"#DIV/0!"}},{"$f":"DAVERAGE($X$5:$AJ$45,AD$5,'データ(3)'!$N59:$O60)","v":{"$error":"#DIV/0!"}},{"$f":"DAVERAGE($X$5:$AJ$45,AE$5,'データ(3)'!$P59:$Q60)","v":{"$error":"#DIV/0!"}},{"$f":"DAVERAGE($X$5:$AJ$45,AF$5,'データ(3)'!$R59:$S60)","v":{"$error":"#DIV/0!"}},{"$f":"DAVERAGE($X$5:$AJ$45,AG$5,'データ(3)'!$T59:$U60)","v":{"$error":"#DIV/0!"}},{"$f":"DAVERAGE($X$5:$AJ$45,AH$5,'データ(3)'!$W59:$X60)","v":{"$error":"#DIV/0!"}},{"$f":"DAVERAGE($X$5:$AJ$45,AI$5,'データ(3)'!$Y59:$Z60)","v":{"$error":"#DIV/0!"}},{"$f":"DAVERAGE($X$5:$AJ$45,AJ$5,'データ(3)'!$AA59:$AB60)","v":{"$error":"#DIV/0!"}},{"$f":"DAVERAGE($A$3:$AU$45,$AK$3,'データ(3)'!$B$59:$C60)/8","v":{"$error":"#DIV/0!"}},{"$f":"DAVERAGE($A$3:$AU$45,$AL$3,'データ(3)'!$B$59:$C60)/12","v":{"$error":"#DIV/0!"}},{"$f":"AVERAGEIFS(AM$6:AM$45, $C$6:$C$45, \"男\", $T$6:$T$45, \"<>\", $U$6:$U$45, \"<>\", $V$6:$V$45, \"<>\", $W$6:$W$45, \"<>\")","v":{"$error":"#DIV/0!"}},{"$f":"AVERAGEIFS(AN$6:AN$45, $C$6:$C$45, \"男\", $L$6:$L$45, \"<>\", $O$6:$O$45, \"<>\", $R$6:$R$45, \"<>\")","v":{"$error":"#DIV/0!"}},{"$f":"AVERAGEIFS(AO$6:AO$45, $C$6:$C$45, \"男\", $Z$6:$Z$45, \"<>\", $AA$6:$AA$45, \"<>\", $AD$6:$AD$45, \"<>\", $AI$6:$AI$45, \"<>\")","v":{"$error":"#DIV/0!"}},{"$f":"AVERAGEIFS(AP$6:AP$45, $C$6:$C$45, \"男\", $J$6:$J$45, \"<>\", $K$6:$K$45, \"<>\", $Q$6:$Q$45, \"<>\", $S$6:$S$45, \"<>\")","v":{"$error":"#DIV/0!"}},{"$f":"AVERAGEIFS(AQ$6:AQ$45, $C$6:$C$45, \"男\", $M$6:$M$45, \"<>\", $N$6:$N$45, \"<>\", $P$6:$P$45, \"<>\")","v":{"$error":"#DIV/0!"}},{"$f":"AVERAGEIFS(AR$6:AR$45, $C$6:$C$45, \"男\", $Y$6:$Y$45, \"<>\", $Z$6:$Z$45, \"<>\", $AB$6:$AB$45, \"<>\", $AC$6:$AC$45, \"<>\", $AF$6:$AF$45, \"<>\", $AI$6:$AI$45, \"<>\")","v":{"$error":"#DIV/0!"}},{"$f":"AVERAGEIFS(AS$6:AS$45, $C$6:$C$45, \"男\", $AA$6:$AA$45, \"<>\", $AD$6:$AD$45, \"<>\", $AE$6:$AE$45, \"<>\", $AG$6:$AG$45, \"<>\", $AH$6:$AH$45, \"<>\", $AJ$6:$AJ$45, \"<>\")","v":{"$error":"#DIV/0!"}},{"$f":"AVERAGEIFS(AT$6:AT$45, $C$6:$C$45, \"男\", $Y$6:$Y$45, \"<>\", $Z$6:$Z$45, \"<>\", $AA$6:$AA$45, \"<>\", $AB$6:$AB$45, \"<>\", $AC$6:$AC$45, \"<>\", $AD$6:$AD$45, \"<>\", $AE$6:$AE$45, \"<>\", $AF$6:$AF$45, \"<>\", $AG$6:$AG$45, \"<>\", $AH$6:$AH$45, \"<>\", $AI$6:$AI$45, \"<>\", $AJ$6:$AJ$45, \"<>\")","v":{"$error":"#DIV/0!"}},{"$f":"AVERAGEIFS(AU$6:AU$45, $C$6:$C$45, \"男\", $J$6:$J$45, \"<>\", $K$6:$K$45, \"<>\", $M$6:$M$45, \"<>\", $N$6:$N$45, \"<>\", $P$6:$P$45, \"<>\", $Q$6:$Q$45, \"<>\", $S$6:$S$45, \"<>\")","v":{"$error":"#DIV/0!"}}]
[null,null,"△",{"$f":"DCOUNTA($C$5:$I$45,$D$5,'データ(3)'!B68:C69)/J53","v":{"$error":"#DIV/0!"}},{"$f":"DCOUNTA($C$5:$I$45,$D$5,'データ(3)'!D68:E69)/J53","v":{"$error":"#DIV/0!"}},{"$f":"DCOUNTA($C$5:$I$45,$D$5,'データ(3)'!F68:G69)/J53","v":{"$error":"#DIV/0!"}},{"$f":"DCOUNTA($C$5:$I$45,$D$5,'データ(3)'!H68:I69)/J53","v":{"$error":"#DIV/0!"}},{"$f":"DCOUNTA($C$5:$I$45,$D$5,'データ(3)'!J68:K69)/J53","v":{"$error":"#DIV/0!"}},{"$f":"DCOUNTA($C$5:$I$45,$D$5,'データ(3)'!L68:M69)/J53","v":{"$error":"#DIV/0!"}}]
[42,"女子平均","◎",{"$f":"DCOUNTA($C$5:$I$45,$D$5,'データ(3)'!B66:C67)/J53","v":{"$error":"#DIV/0!"}},{"$f":"DCOUNTA($C$5:$I$45,$D$5,'データ(3)'!D66:E67)/J53","v":{"$error":"#DIV/0!"}},{"$f":"DCOUNTA($C$5:$I$45,$D$5,'データ(3)'!F66:G67)/J53","v":{"$error":"#DIV/0!"}},{"$f":"DCOUNTA($C$5:$I$45,$D$5,'データ(3)'!H66:I67)/J53","v":{"$error":"#DIV/0!"}},{"$f":"DCOUNTA($C$5:$I$45,$D$5,'データ(3)'!J66:K67)/J53","v":{"$error":"#DIV/0!"}},{"$f":"DCOUNTA($C$5:$I$45,$D$5,'データ(3)'!L66:M67)/J53","v":{"$error":"#DIV/0!"}},{"$f":"DAVERAGE($C$5:$W$45,J$5,'データ(3)'!$D61:$E62)","v":{"$error":"#DIV/0!"}},{"$f":"DAVERAGE($C$5:$W$45,K$5,'データ(3)'!$F61:$G62)","v":{"$error":"#DIV/0!"}},{"$f":"DAVERAGE($C$5:$W$45,L$5,'データ(3)'!$H61:$I62)","v":{"$error":"#DIV/0!"}},{"$f":"DAVERAGE($C$5:$W$45,M$5,'データ(3)'!$J61:$K62)","v":{"$error":"#DIV/0!"}},{"$f":"DAVERAGE($C$5:$W$45,N$5,'データ(3)'!$L61:$M62)","v":{"$error":"#DIV/0!"}},{"$f":"DAVERAGE($C$5:$W$45,O$5,'データ(3)'!$N61:$O62)","v":{"$error":"#DIV/0!"}},{"$f":"DAVERAGE($C$5:$W$45,P$5,'データ(3)'!$P61:$Q62)","v":{"$error":"#DIV/0!"}},{"$f":"DAVERAGE($C$5:$W$45,Q$5,'データ(3)'!$R61:$S62)","v":{"$error":"#DIV/0!"}},{"$f":"DAVERAGE($C$5:$W$45,R$5,'データ(3)'!$T61:$U62)","v":{"$error":"#DIV/0!"}},{"$f":"DAVERAGE($C$5:$W$45,S$5,'データ(3)'!$W61:$X62)","v":{"$error":"#DIV/0!"}},{"$f":"DAVERAGE($C$5:$W$45,T$5,'データ(3)'!$Y61:$Z62)","v":{"$error":"#DIV/0!"}},{"$f":"DAVERAGE($C$5:$W$45,U$5,'データ(3)'!$AA61:$AB62)","v":{"$error":"#DIV/0!"}},{"$f":"DAVERAGE($C$5:$W$45,V$5,'データ(3)'!$AC61:$AD62)","v":{"$error":"#DIV/0!"}},{"$f":"DAVERAGE($C$5:$W$45,W$5,'データ(3)'!$AE61:$AF62)","v":{"$error":"#DIV/0!"}},null,{"$f":"DAVERAGE($X$5:$AJ$45,Y$5,'データ(3)'!$D61:$E62)","v":{"$error":"#DIV/0!"}},{"$f":"DAVERAGE($X$5:$AJ$45,Z$5,'データ(3)'!$F61:$G62)","v":{"$error":"#DIV/0!"}},{"$f":"DAVERAGE($X$5:$AJ$45,AA$5,'データ(3)'!$H61:$I62)","v":{"$error":"#DIV/0!"}},{"$f":"DAVERAGE($X$5:$AJ$45,AB$5,'データ(3)'!$J61:$K62)","v":{"$error":"#DIV/0!"}},{"$f":"DAVERAGE($X$5:$AJ$45,AC$5,'データ(3)'!$L61:$M62)","v":{"$error":"#DIV/0!"}},{"$f":"DAVERAGE($X$5:$AJ$45,AD$5,'データ(3)'!$N61:$O62)","v":{"$error":"#DIV/0!"}},{"$f":"DAVERAGE($X$5:$AJ$45,AE$5,'データ(3)'!$P61:$Q62)","v":{"$error":"#DIV/0!"}},{"$f":"DAVERAGE($X$5:$AJ$45,AF$5,'データ(3)'!$R61:$S62)","v":{"$error":"#DIV/0!"}},{"$f":"DAVERAGE($X$5:$AJ$45,AG$5,'データ(3)'!$T61:$U62)","v":{"$error":"#DIV/0!"}},{"$f":"DAVERAGE($X$5:$AJ$45,AH$5,'データ(3)'!$W61:$X62)","v":{"$error":"#DIV/0!"}},{"$f":"DAVERAGE($X$5:$AJ$45,AI$5,'データ(3)'!$Y61:$Z62)","v":{"$error":"#DIV/0!"}},{"$f":"DAVERAGE($X$5:$AJ$45,AJ$5,'データ(3)'!$AA61:$AB62)","v":{"$error":"#DIV/0!"}},{"$f":"DAVERAGE($A$3:$AU$45,$AK$3,'データ(3)'!$B$61:$C62)/8","v":{"$error":"#DIV/0!"}},{"$f":"DAVERAGE($A$3:$AU$45,$AL$3,'データ(3)'!$B$61:$C62)/12","v":{"$error":"#DIV/0!"}},{"$f":"AVERAGEIFS(AM$6:AM$45, $C$6:$C$45, \"女\", $T$6:$T$45, \"<>\", $U$6:$U$45, \"<>\", $V$6:$V$45, \"<>\", $W$6:$W$45, \"<>\")","v":{"$error":"#DIV/0!"}},{"$f":"AVERAGEIFS(AN$6:AN$45, $C$6:$C$45, \"女\", $L$6:$L$45, \"<>\", $O$6:$O$45, \"<>\", $R$6:$R$45, \"<>\")","v":{"$error":"#DIV/0!"}},{"$f":"AVERAGEIFS(AO$6:AO$45, $C$6:$C$45, \"女\", $Z$6:$Z$45, \"<>\", $AA$6:$AA$45, \"<>\", $AD$6:$AD$45, \"<>\", $AI$6:$AI$45, \"<>\")","v":{"$error":"#DIV/0!"}},{"$f":"AVERAGEIFS(AP$6:AP$45, $C$6:$C$45, \"女\", $J$6:$J$45, \"<>\", $K$6:$K$45, \"<>\", $Q$6:$Q$45, \"<>\", $S$6:$S$45, \"<>\")","v":{"$error":"#DIV/0!"}},{"$f":"AVERAGEIFS(AQ$6:AQ$45, $C$6:$C$45, \"女\", $M$6:$M$45, \"<>\", $N$6:$N$45, \"<>\", $P$6:$P$45, \"<>\")","v":{"$error":"#DIV/0!"}},{"$f":"AVERAGEIFS(AR$6:AR$45, $C$6:$C$45, \"女\", $Y$6:$Y$45, \"<>\", $Z$6:$Z$45, \"<>\", $AB$6:$AB$45, \"<>\", $AC$6:$AC$45, \"<>\", $AF$6:$AF$45, \"<>\", $AI$6:$AI$45, \"<>\")","v":{"$error":"#DIV/0!"}},{"$f":"AVERAGEIFS(AS$6:AS$45, $C$6:$C$45, \"女\", $AA$6:$AA$45, \"<>\", $AD$6:$AD$45, \"<>\", $AE$6:$AE$45, \"<>\", $AG$6:$AG$45, \"<>\", $AH$6:$AH$45, \"<>\", $AJ$6:$AJ$45, \"<>\")","v":{"$error":"#DIV/0!"}},{"$f":"AVERAGEIFS(AT$6:AT$45, $C$6:$C$45, \"女\", $Y$6:$Y$45, \"<>\", $Z$6:$Z$45, \"<>\", $AA$6:$AA$45, \"<>\", $AB$6:$AB$45, \"<>\", $AC$6:$AC$45, \"<>\", $AD$6:$AD$45, \"<>\", $AE$6:$AE$45, \"<>\", $AF$6:$AF$45, \"<>\", $AG$6:$AG$45, \"<>\", $AH$6:$AH$45, \"<>\", $AI$6:$AI$45, \"<>\", $AJ$6:$AJ$45, \"<>\")","v":{"$error":"#DIV/0!"}},{"$f":"AVERAGEIFS(AU$6:AU$45, $C$6:$C$45, \"女\", $J$6:$J$45, \"<>\", $K$6:$K$45, \"<>\", $M$6:$M$45, \"<>\", $N$6:$N$45, \"<>\", $P$6:$P$45, \"<>\", $Q$6:$Q$45, \"<>\", $S$6:$S$45, \"<>\")","v":{"$error":"#DIV/0!"}}]
[null,null,"△",{"$f":"DCOUNTA($C$5:$I$45,$D$5,'データ(3)'!B70:C71)/J53","v":{"$error":"#DIV/0!"}},{"$f":"DCOUNTA($C$5:$I$45,$D$5,'データ(3)'!D70:E71)/J53","v":{"$error":"#DIV/0!"}},{"$f":"DCOUNTA($C$5:$I$45,$D$5,'データ(3)'!F70:G71)/J53","v":{"$error":"#DIV/0!"}},{"$f":"DCOUNTA($C$5:$I$45,$D$5,'データ(3)'!H70:I71)/J53","v":{"$error":"#DIV/0!"}},{"$f":"DCOUNTA($C$5:$I$45,$D$5,'データ(3)'!J70:K71)/J53","v":{"$error":"#DIV/0!"}},{"$f":"DCOUNTA($C$5:$I$45,$D$5,'データ(3)'!L70:M71)/J53","v":{"$error":"#DIV/0!"}}]
[43,"全体平均","◎",{"$f":"COUNTIF(D$6:D$45,\"◎\")/J53","v":{"$error":"#DIV/0!"}},{"$f":"COUNTIF(E$6:E$45,\"◎\")/J53","v":{"$error":"#DIV/0!"}},{"$f":"COUNTIF(F$6:F$45,\"◎\")/J53","v":{"$error":"#DIV/0!"}},{"$f":"COUNTIF(G$6:G$45,\"◎\")/J53","v":{"$error":"#DIV/0!"}},{"$f":"COUNTIF(H$6:H$45,\"◎\")/J53","v":{"$error":"#DIV/0!"}},{"$f":"COUNTIF(I$6:I$45,\"◎\")/J53","v":{"$error":"#DIV/0!"}},{"$f":"AVERAGE(J6:J45)","v":{"$error":"#DIV/0!"}},{"$f":"AVERAGE(K6:K45)","v":{"$error":"#DIV/0!"}},{"$error":"#DIV/0!"},{"$error":"#DIV/0!"},{"$error":"#DIV/0!"},{"$error":"#DIV/0!"},{"$error":"#DIV/0!"},{"$error":"#DIV/0!"},{"$error":"#DIV/0!"},{"$error":"#DIV/0!"},{"$error":"#DIV/0!"},{"$error":"#DIV/0!"},{"$f":"AVERAGE(V6:V45)","v":{"$error":"#DIV/0!"}},{"$error":"#DIV/0!"},null,{"$f":"AVERAGE(Y6:Y45)","v":{"$error":"#DIV/0!"}},{"$error":"#DIV/0!"},{"$error":"#DIV/0!"},{"$error":"#DIV/0!"},{"$error":"#DIV/0!"},{"$error":"#DIV/0!"},{"$error":"#DIV/0!"},{"$error":"#DIV/0!"},{"$error":"#DIV/0!"},{"$error":"#DIV/0!"},{"$error":"#DIV/0!"},{"$error":"#DIV/0!"},{"$f":"AK53/$J$53/8","v":{"$error":"#DIV/0!"}},{"$f":"AL53/$J$53/12","v":{"$error":"#DIV/0!"}},{"$f":"AVERAGEIFS(AM$6:AM$45, $T$6:$T$45, \"<>\", $U$6:$U$45, \"<>\", $V$6:$V$45, \"<>\", $W$6:$W$45, \"<>\")","v":{"$error":"#DIV/0!"}},{"$f":"AVERAGEIFS(AN$6:AN$45, $L$6:$L$45, \"<>\", $O$6:$O$45, \"<>\", $R$6:$R$45, \"<>\")","v":{"$error":"#DIV/0!"}},{"$f":"AVERAGEIFS(AO$6:AO$45, $Z$6:$Z$45, \"<>\", $AA$6:$AA$45, \"<>\", $AD$6:$AD$45, \"<>\", $AI$6:$AI$45, \"<>\")","v":{"$error":"#DIV/0!"}},{"$f":"AVERAGEIFS(AP$6:AP$45, $J$6:$J$45, \"<>\", $K$6:$K$45, \"<>\", $Q$6:$Q$45, \"<>\", $S$6:$S$45, \"<>\")","v":{"$error":"#DIV/0!"}},{"$f":"AVERAGEIFS(AQ$6:AQ$45, $M$6:$M$45, \"<>\", $N$6:$N$45, \"<>\", $P$6:$P$45, \"<>\")","v":{"$error":"#DIV/0!"}},{"$f":"AVERAGEIFS(AR$6:AR$45, $Y$6:$Y$45, \"<>\", $Z$6:$Z$45, \"<>\", $AB$6:$AB$45, \"<>\", $AC$6:$AC$45, \"<>\", $AF$6:$AF$45, \"<>\", $AI$6:$AI$45, \"<>\")","v":{"$error":"#DIV/0!"}},{"$f":"AVERAGEIFS(AS$6:AS$45, $AA$6:$AA$45, \"<>\", $AD$6:$AD$45, \"<>\", $AE$6:$AE$45, \"<>\", $AG$6:$AG$45, \"<>\", $AH$6:$AH$45, \"<>\", $AJ$6:$AJ$45, \"<>\")","v":{"$error":"#DIV/0!"}},{"$f":"AVERAGEIFS(AT$6:AT$45, $Y$6:$Y$45, \"<>\", $Z$6:$Z$45, \"<>\", $AA$6:$AA$45, \"<>\", $AB$6:$AB$45, \"<>\", $AC$6:$AC$45, \"<>\", $AD$6:$AD$45, \"<>\", $AE$6:$AE$45, \"<>\", $AF$6:$AF$45, \"<>\", $AG$6:$AG$45, \"<>\", $AH$6:$AH$45, \"<>\", $AI$6:$AI$45, \"<>\", $AJ$6:$AJ$45, \"<>\")","v":{"$error":"#DIV/0!"}},{"$f":"AVERAGEIFS(AU$6:AU$45, $J$6:$J$45, \"<>\", $K$6:$K$45, \"<>\", $M$6:$M$45, \"<>\", $N$6:$N$45, \"<>\", $P$6:$P$45, \"<>\", $Q$6:$Q$45, \"<>\", $S$6:$S$45, \"<>\")","v":{"$error":"#DIV/0!"}}]
[null,null,"△",{"$f":"COUNTIF(D$6:D$45,\"△\")/J53","v":{"$error":"#DIV/0!"}},{"$f":"COUNTIF(E$6:E$45,\"△\")/J53","v":{"$error":"#DIV/0!"}},{"$f":"COUNTIF(F$6:F$45,\"△\")/J53","v":{"$error":"#DIV/0!"}},{"$f":"COUNTIF(G$6:G$45,\"△\")/J53","v":{"$error":"#DIV/0!"}},{"$f":"COUNTIF(H$6:H$45,\"△\")/J53","v":{"$error":"#DIV/0!"}},{"$f":"COUNTIF(I$6:I$45,\"△\")/J53","v":{"$error":"#DIV/0!"}}]
[null,null,null,null,null,null,null,null,null,{"$f":"COUNTA(J6:J45)","v":0},null,null,null,null,null,null,null,null,null,null,null,null,null,null,null,null,null,null,null,null,null,null,null,null,null,null,{"$f":"SUM(AK6:AK45)","v":0},0]

{"sheet":"データ(2)","index":2,"n_rows":53,"n_cols":50,"rows_kept":53,"cut":false,"hidden":false,"merged":[[50,22,51,22],[50,24,51,24],[50,25,51,25],[46,23,51,23],[46,25,47,25],[50,15,51,15],[50,16,51,16],[48,20,49,20],[48,22,49,22],[48,24,49,24],[48,25,49,25],[50,17,51,17],[50,18,51,18],[50,19,51,19],[50,20,51,20],[46,22,47,22],[46,24,47,24],[46,16,47,16],[46,17,47,17],[46,18,47,18],[48,18,49,18],[48,19,49,19],[46,21,47,21],[48,21,49,21],[46,26,47,26],[48,26,49,26],[50,42,51,42],[50,43,51,43],[48,35,49,35],[46,29,47,29],[46,27,47,27],[46,31,47,31],[48,30,49,30],[46,33,47,33],[50,34,51,34],[50,27,51,27],[50,28,51,28],[48,27,49,27],[48,28,49,28],[48,29,49,29],[46,34,47,34],[48,32,49,32],[48,33,49,33],[48,34,49,34],[46,32,47,32],[48,31,49,31],[50,26,51,26],[50,29,51,29],[50,33,51,33],[46,30,47,30],[50,44,51,44],[48,42,49,42],[46,38,47,38],[46,39,47,39],[46,41,47,41],[46,42,47,42],[48,38,49,38],[48,39,49,39],[48,41,49,41],[50,30,51,30],[50,31,51,31],[50,32,51,32],[2,49,4,49],[2,45,4,45],[2,46,4,46],[2,47,4,47],[2,48,4,48],[46,37,47,37],[50,36,51,36],[50,37,51,37],[48,37,49,37],[46,36,47,36],[48,36,49,36],[48,45,49,45],[46,46,47,46],[46,43,47,43],[46,44,47,44],[46,45,47,45],[48,46,49,46],[48,43,49,43],[48,44,49,44],[50,45,51,45],[50,46,51,46],[50,38,51,38],[50,39,51,39],[50,41,51,41],[1,41,1,42],[1,43,1,44],[2,36,4,36],[2,37,4,37],[2,38,4,38],[2,39,4,39],[2,41,4,41],[2,42,4,42],[2,43,4,43],[2,40,4,40],[2,44,4,44],[46,0,47,0],[48,0,49,0],[50,0,51,0],[0,2,1,40],[50,40,51,40],[46,40,47,40],[48,40,49,40],[2,3,2,8],[46,11,47,11],[50,35,51,35],[2,9,3,18],[2,19,3,22],[2,24,3,35],[46,9,47,9],[46,10,47,10],[2,2,3,2],[2,0,4,0],[2,1,4,1],[46,1,47,1],[3,3,3,4],[3,5,3,6],[3,7,3,8],[46,35,47,35],[46,28,47,28],[50,21,51,21],[48,1,49,1],[46,12,47,12],[46,13,47,13],[46,14,47,14],[46,15,47,15],[46,19,47,19],[46,20,47,20],[50,1,51,1],[50,9,51,9],[50,10,51,10],[50,11,51,11],[50,12,51,12],[50,13,51,13],[50,14,51,14],[48,9,49,9],[48,10,49,10],[48,11,49,11],[48,12,49,12],[48,13,49,13],[48,14,49,14],[48,15,49,15],[48,16,49,16],[48,17,49,17]]}
[{"$f":"'データ(1)'!A1","v":"学年"},{"$f":"'データ(1)'!B1","v":0},"           個人アセスメント入力シート２回目"]
[{"$f":"'データ(1)'!A2","v":"組"},{"$f":"'データ(1)'!B2","v":0},null,null,null,null,null,null,null,null,null,null,null,null,null,null,null,null,null,null,null,null,null,null,null,null,null,null,null,null,null,null,null,null,null,null,null,null,null,null,null,"自分づくり",null,"仲間づくり"]
["ＮＯ","氏名","性別","風土まとめ合計",null,null,null,null,null,"Ａ項目\n自分づくりスキル",null,null,null,null,null,null,null,null,null,"C項目\n学級居心地感",null,null,null,null,"Ｂ項目\n仲間づくりスキル",null,null,null,null,null,null,null,null,null,null,null,"自分づくり","仲間づくり","学級居心地感","心配傾向","かかわり","自己効力感","自尊感情","自己表現","共感・配慮","仲間づくり","自分づくり","自分づくり\n学級","仲間づくり\n学級","集団づくり\n学級"]
[null,null,null,"自分づくり",null,"仲間づくり",null,"集団づくり"]
[null,null,"性別","公正","寛容","自己表現","配慮","課題遂行","合意形成","１","２","３","４","５","６","７","８","９","１０","１１","１２","１３","１４","性別","１","２","３","４","５","６","７","８","９","１０","１１","１２"]
[1,{"$f":"'データ(1)'!B6","v":0},{"$f":"'データ(1)'!C6","v":0},{"$f":"'クラス(2)'!$H$30","v":0},{"$f":"'クラス(2)'!$H$31","v":0},{"$f":"'クラス(2)'!$H$32","v":0},{"$f":"'クラス(2)'!$H$33","v":0},{"$f":"'クラス(2)'!$H$34","v":0},{"$f":"'クラス(2)'!$H$35","v":0},null,null,null,null,null,null,null,null,null,null,null,null,null,null,{"$f":"C6","v":0},null,null,null,null,null,null,null,null,null,null,null,null,{"$f":"SUM(J6,K6,M6,N6,P6,Q6,S6)","v":0},{"$f":"SUM(Y6:AJ6)","v":0},{"$f":"SUM(T6,U6,V6,W6)","v":0},{"$f":"SUM(L6,O6,R6)","v":0},{"$f":"SUM(Z6,AI6,AA6,AD6)","v":0},{"$f":"SUM(J6,Q6,K6,S6)","v":0},{"$f":"SUM(M6,N6,P6)","v":0},{"$f":"SUM(Y6,Z6,AB6,AC6,AF6,AI6)","v":0},{"$f":"SUM(AA6,AD6,AE6,AG6,AH6,AJ6)","v":0},{"$f":"SUM(Y6:AJ6)","v":0},{"$f":"SUM(J6,K6,M6,N6,P6,Q6,S6)","v":0},{"$f":"D6","v":0},{"$f":"F6","v":0},{"$f":"H6","v":0}]
[2,{"$f":"'データ(1)'!B7","v":0},{"$f":"'データ(1)'!C7","v":0},{"$f":"'クラス(2)'!$I$30","v":0},{"$f":"'クラス(2)'!$I$31","v":0},{"$f":"'クラス(2)'!$I$32","v":0},{"$f":"'クラス(2)'!$I$33","v":0},{"$f":"'クラス(2)'!$I$34","v":0},{"$f":"'クラス(2)'!$I$35","v":0},null,null,null,null,null,null,null,null,null,null,null,null,null,null,0,null,null,null,null,null,null,null,null,null,null,null,null,{"$f":"SUM(J7,K7,M7,N7,P7,Q7,S7)","v":0},{"$f":"SUM(Y7:AJ7)","v":0},{"$f":"SUM(T7,U7,V7,W7)","v":0},{"$f":"SUM(L7,O7,R7)","v":0},{"$f":"SUM(Z7,AI7,AA7,AD7)","v":0},{"$f":"SUM(J7,Q7,K7,S7)","v":0},{"$f":"SUM(M7,N7,P7)","v":0},{"$f":"SUM(Y7,Z7,AB7,AC7,AF7,AI7)","v":0},{"$f":"SUM(AA7,AD7,AE7,AG7,AH7,AJ7)","v":0},{"$f":"SUM(Y7:AJ7)","v":0},{"$f":"SUM(J7,K7,M7,N7,P7,Q7,S7)","v":0},{"$f":"D7","v":0},{"$f":"F7","v":0},{"$f":"H7","v":0}]
[3,{"$f":"'データ(1)'!B8","v":0},{"$f":"'データ(1)'!C8","v":0},{"$f":"'クラス(2)'!$J$30","v":0},{"$f":"'クラス(2)'!$J$31","v":0},{"$f":"'クラス(2)'!$J$32","v":0},{"$f":"'クラス(2)'!$J$33","v":0},{"$f":"'クラス(2)'!$J$34","v":0},{"$f":"'クラス(2)'!$J$35","v":0},null,null,null,null,null,null,null,null,null,null,null,null,null,null,0,null,null,null,null,null,null,null,null,null,null,null,null,0,0,0,0,0,0,0,0,0,0,0,0,0,0]
[4,{"$f":"'データ(1)'!B9","v":0},{"$f":"'データ(1)'!C9","v":0},{"$f":"'クラス(2)'!$K$30","v":0},{"$f":"'クラス(2)'!$K$31","v":0},{"$f":"'クラス(2)'!$K$32","v":0},{"$f":"'クラス(2)'!$K$33","v":0},{"$f":"'クラス(2)'!$K$34","v":0},{"$f":"'クラス(2)'!$K$35","v":0},null,null,null,null,null,null,null,null,null,null,null,null,null,null,0,null,null,null,null,null,null,null,null,null,null,null,null,0,0,0,0,0,0,0,0,0,0,0,0,0,0]
[5,{"$f":"'データ(1)'!B10","v":0},{"$f":"'データ(1)'!C10","v":0},{"$f":"'クラス(2)'!$L$30","v":0},{"$f":"'クラス(2)'!$L$31","v":0},{"$f":"'クラス(2)'!$L$32","v":0},{"$f":"'クラス(2)'!$L$33","v":0},{"$f":"'クラス(2)'!$L$34","v":0},{"$f":"'クラス(2)'!$L$35","v":0},null,null,null,null,null,null,null,null,null,null,null,null,null,null,0,null,null,null,null,null,null,null,null,null,null,null,null,0,0,0,0,0,0,0,0,0,0,0,0,0,0]
[6,{"$f":"'データ(1)'!B11","v":0},{"$f":"'データ(1)'!C11","v":0},{"$f":"'クラス(2)'!$M$30","v":0},{"$f":"'クラス(2)'!$M$31","v":0},{"$f":"'クラス(2)'!$M$32","v":0},{"$f":"'クラス(2)'!$M$33","v":0},{"$f":"'クラス(2)'!$M$34","v":0},{"$f":"'クラス(2)'!$M$35","v":0},null,null,null,null,null,null,null,null,null,null,null,null,null,null,0,null,null,null,null,null,null,null,null,null,null,null,null,0,0,0,0,0,0,0,0,0,0,0,0,0,0]
[7,{"$f":"'データ(1)'!B12","v":0},{"$f":"'データ(1)'!C12","v":0},{"$f":"'クラス(2)'!$N$30","v":0},{"$f":"'クラス(2)'!$N$31","v":0},{"$f":"'クラス(2)'!$N$32","v":0},{"$f":"'クラス(2)'!$N$33","v":0},{"$f":"'クラス(2)'!$N$34","v":0},{"$f":"'クラス(2)'!$N$35","v":0},null,null,null,null,null,null,null,null,null,null,null,null,null,null,0,null,null,null,null,null,null,null,null,null,null,null,null,0,0,0,0,0,0,0,0,0,0,0,0,0,0]
[8,{"$f":"'データ(1)'!B13","v":0},{"$f":"'データ(1)'!C13","v":0},{"$f":"'クラス(2)'!$O$30","v":0},{"$f":"'クラス(2)'!$O$31","v":0},{"$f":"'クラス(2)'!$O$32","v":0},{"$f":"'クラス(2)'!$O$33","v":0},{"$f":"'クラス(2)'!$O$34","v":0},{"$f":"'クラス(2)'!$O$35","v":0},null,null,null,null,null,null,null,null,null,null,null,null,null,null,0,null,null,null,null,null,null,null,null,null,null,null,null,0,0,0,0,0,0,0,0,0,0,0,0,0,0]
[9,{"$f":"'データ(1)'!B14","v":0},{"$f":"'データ(1)'!C14","v":0},{"$f":"'クラス(2)'!$P$30","v":0},{"$f":"'クラス(2)'!$P$31","v":0},{"$f":"'クラス(2)'!$P$32","v":0},{"$f":"'クラス(2)'!$P$33","v":0},{"$f":"'クラス(2)'!$P$34","v":0},{"$f":"'クラス(2)'!$P$35","v":0},null,null,null,null,null,null,null,null,null,null,null,null,null,null,0,null,null,null,null,null,null,null,null,null,null,null,null,0,0,0,0,0,0,0,0,0,0,0,0,0,0]
[10,{"$f":"'データ(1)'!B15","v":0},{"$f":"'データ(1)'!C15","v":0},{"$f":"'クラス(2)'!$Q$30","v":0},{"$f":"'クラス(2)'!$Q$31","v":0},{"$f":"'クラス(2)'!$Q$32","v":0},{"$f":"'クラス(2)'!$Q$33","v":0},{"$f":"'クラス(2)'!$Q$34","v":0},{"$f":"'クラス(2)'!$Q$35","v":0},null,null,null,null,null,null,null,null,null,null,null,null,null,null,0,null,null,null,null,null,null,null,null,null,null,null,null,0,0,0,0,0,0,0,0,0,0,0,0,0,0]
[11,{"$f":"'データ(1)'!B16","v":0},{"$f":"'データ(1)'!C16","v":0},{"$f":"'クラス(2)'!$R$30","v":0},{"$f":"'クラス(2)'!$R$31","v":0},{"$f":"'クラス(2)'!$R$32","v":0},{"$f":"'クラス(2)'!$R$33","v":0},{"$f":"'クラス(2)'!$R$34","v":0},{"$f":"'クラス(2)'!$R$35","v":0},null,null,null,null,null,null,null,null,null,null,null,null,null,null,0,null,null,null,null,null,null,null,null,null,null,null,null,0,0,0,0,0,0,0,0,0,0,0,0,0,0]
[12,{"$f":"'データ(1)'!B17","v":0},{"$f":"'データ(1)'!C17","v":0},{"$f":"'クラス(2)'!$S$30","v":0},{"$f":"'クラス(2)'!$S$31","v":0},{"$f":"'クラス(2)'!$S$32","v":0},{"$f":"'クラス(2)'!$S$33","v":0},{"$f":"'クラス(2)'!$S$34","v":0},{"$f":"'クラス(2)'!$S$35","v":0},null,null,null,null,null,null,null,null,null,null,null,null,null,null,0,null,null,null,null,null,null,null,null,null,null,null,null,0,0,0,0,0,0,0,0,0,0,0,0,0,0]
[13,{"$f":"'データ(1)'!B18","v":0},{"$f":"'データ(1)'!C18","v":0},{"$f":"'クラス(2)'!$T$30","v":0},{"$f":"'クラス(2)'!$T$31","v":0},{"$f":"'クラス(2)'!$T$32","v":0},{"$f":"'クラス(2)'!$T$33","v":0},{"$f":"'クラス(2)'!$T$34","v":0},{"$f":"'クラス(2)'!$T$35","v":0},null,null,null,null,null,null,null,null,null,null,null,null,null,null,0,null,null,null,null,null,null,null,null,null,null,null,null,0,0,0,0,0,0,0,0,0,0,0,0,0,0]
[14,{"$f":"'データ(1)'!B19","v":0},{"$f":"'データ(1)'!C19","v":0},{"$f":"'クラス(2)'!$U$30","v":0},{"$f":"'クラス(2)'!$U$31","v":0},{"$f":"'クラス(2)'!$U$32","v":0},{"$f":"'クラス(2)'!$U$33","v":0},{"$f":"'クラス(2)'!$U$34","v":0},{"$f":"'クラス(2)'!$U$35","v":0},null,null,null,null,null,null,null,null,null,null,null,null,null,null,0,null,null,null,null,null,null,null,null,null,null,null,null,0,0,0,0,0,0,0,0,0,0,0,0,0,0]
[15,{"$f":"'データ(1)'!B20","v":0},{"$f":"'データ(1)'!C20","v":0},{"$f":"'クラス(2)'!$V$30","v":0},{"$f":"'クラス(2)'!$V$31","v":0},{"$f":"'クラス(2)'!$V$32","v":0},{"$f":"'クラス(2)'!$V$33","v":0},{"$f":"'クラス(2)'!$V$34","v":0},{"$f":"'クラス(2)'!$V$35","v":0},null,null,null,null,null,null,null,null,null,null,null,null,null,null,0,null,null,null,null,null,null,null,null,null,null,null,null,0,0,0,0,0,0,0,0,0,0,0,0,0,0]
[16,{"$f":"'データ(1)'!B21","v":0},{"$f":"'データ(1)'!C21","v":0},{"$f":"'クラス(2)'!$W$30","v":0},{"$f":"'クラス(2)'!$W$31","v":0},{"$f":"'クラス(2)'!$W$32","v":0},{"$f":"'クラス(2)'!$W$33","v":0},{"$f":"'クラス(2)'!$W$34","v":0},{"$f":"'クラス(2)'!$W$35","v":0},null,null,null,null,null,null,null,null,null,null,null,null,null,null,0,null,null,null,null,null,null,null,null,null,null,null,null,0,0,0,0,0,0,0,0,0,0,0,0,0,0]
[17,{"$f":"'データ(1)'!B22","v":0},{"$f":"'データ(1)'!C22","v":0},{"$f":"'クラス(2)'!$X$30","v":0},{"$f":"'クラス(2)'!$X$31","v":0},{"$f":"'クラス(2)'!$X$32","v":0},{"$f":"'クラス(2)'!$X$33","v":0},{"$f":"'クラス(2)'!$X$34","v":0},{"$f":"'クラス(2)'!$X$35","v":0},null,null,null,null,null,null,null,null,null,null,null,null,null,null,0,null,null,null,null,null,null,null,null,null,null,null,null,0,0,0,0,0,0,0,0,0,0,0,0,0,0]
[18,{"$f":"'データ(1)'!B23","v":0},{"$f":"'データ(1)'!C23","v":0},{"$f":"'クラス(2)'!$Y$30","v":0},{"$f":"'クラス(2)'!$Y$31","v":0},{"$f":"'クラス(2)'!$Y$32","v":0},{"$f":"'クラス(2)'!$Y$33","v":0},{"$f":"'クラス(2)'!$Y$34","v":0},{"$f":"'クラス(2)'!$Y$35","v":0},null,null,null,null,null,null,null,null,null,null,null,null,null,null,0,null,null,null,null,null,null,null,null,null,null,null,null,0,0,0,0,0,0,0,0,0,0,0,0,0,0]
[19,{"$f":"'データ(1)'!B24","v":0},{"$f":"'データ(1)'!C24","v":0},{"$f":"'クラス(2)'!$Z$30","v":0},{"$f":"'クラス(2)'!$Z$31","v":0},{"$f":"'クラス(2)'!$Z$32","v":0},{"$f":"'クラス(2)'!$Z$33","v":0},{"$f":"'クラス(2)'!$Z$34","v":0},{"$f":"'クラス(2)'!$Z$35","v":0},null,null,null,null,null,null,null,null,null,null,null,null,null,null,0,null,null,null,null,null,null,null,null,null,null,null,null,0,0,0,0,0,0,0,0,0,0,0,0,0,0]
[20,{"$f":"'データ(1)'!B25","v":0},{"$f":"'データ(1)'!C25","v":0},{"$f":"'クラス(2)'!$AA$30","v":0},{"$f":"'クラス(2)'!$AA$31","v":0},{"$f":"'クラス(2)'!$AA$32","v":0},{"$f":"'クラス(2)'!$AA$33","v":0},{"$f":"'クラス(2)'!$AA$34","v":0},{"$f":"'クラス(2)'!$AA$35","v":0},null,null,null,null,null,null,null,null,null,null,null,null,null,null,0,null,null,null,null,null,null,null,null,null,null,null,null,0,0,0,0,0,0,0,0,0,0,0,0,0,0]
[21,{"$f":"'データ(1)'!B26","v":0},{"$f":"'データ(1)'!C26","v":0},{"$f":"'クラス(2)'!$AB$30","v":0},{"$f":"'クラス(2)'!$AB$31","v":0},{"$f":"'クラス(2)'!$AB$32","v":0},{"$f":"'クラス(2)'!$AB$33","v":0},{"$f":"'クラス(2)'!$AB$34","v":0},{"$f":"'クラス(2)'!$AB$35","v":0},null,null,null,null,null,null,null,null,null,null,null,null,null,null,0,null,null,null,null,null,null,null,null,null,null,null,null,0,0,0,0,0,0,0,0,0,0,0,0,0,0]
[22,{"$f":"'データ(1)'!B27","v":0},{"$f":"'データ(1)'!C27","v":0},{"$f":"'クラス(2)'!$AC$30","v":0},{"$f":"'クラス(2)'!$AC$31","v":0},{"$f":"'クラス(2)'!$AC$32","v":0},{"$f":"'クラス(2)'!$AC$33","v":0},{"$f":"'クラス(2)'!$AC$34","v":0},{"$f":"'クラス(2)'!$AC$35","v":0},null,null,null,null,null,null,null,null,null,null,null,null,null,null,0,null,null,null,null,null,null,null,null,null,null,null,null,0,0,0,0,0,0,0,0,0,0,0,0,0,0]
[23,{"$f":"'データ(1)'!B28","v":0},{"$f":"'データ(1)'!C28","v":0},{"$f":"'クラス(2)'!$AD$30","v":0},{"$f":"'クラス(2)'!$AD$31","v":0},{"$f":"'クラス(2)'!$AD$32","v":0},{"$f":"'クラス(2)'!$AD$33","v":0},{"$f":"'クラス(2)'!$AD$34","v":0},{"$f":"'クラス(2)'!$AD$35","v":0},null,null,null,null,null,null,null,null,null,null,null,null,null,null,0,null,null,null,null,null,null,null,null,null,null,null,null,0,0,0,0,0,0,0,0,0,0,0,0,0,0]
[24,{"$f":"'データ(1)'!B29","v":0},{"$f":"'データ(1)'!C29","v":0},{"$f":"'クラス(2)'!$AE$30","v":0},{"$f":"'クラス(2)'!$AE$31","v":0},{"$f":"'クラス(2)'!$AE$32","v":0},{"$f":"'クラス(2)'!$AE$33","v":0},{"$f":"'クラス(2)'!$AE$34","v":0},{"$f":"'クラス(2)'!$AE$35","v":0},null,null,null,null,null,null,null,null,null,null,null,null,null,null,0,null,null,null,null,null,null,null,null,null,null,null,null,0,0,0,0,0,0,0,0,0,0,0,0,0,0]
[25,{"$f":"'データ(1)'!B30","v":0},{"$f":"'データ(1)'!C30","v":0},{"$f":"'クラス(2)'!$AF$30","v":0},{"$f":"'クラス(2)'!$AF$31","v":0},{"$f":"'クラス(2)'!$AF$32","v":0},{"$f":"'クラス(2)'!$AF$33","v":0},{"$f":"'クラス(2)'!$AF$34","v":0},{"$f":"'クラス(2)'!$AF$35","v":0},null,null,null,null,null,null,null,null,null,null,null,null,null,null,0,null,null,null,null,null,null,null,null,null,null,null,null,0,0,0,0,0,0,0,0,0,0,0,0,0,0]
[26,{"$f":"'データ(1)'!B31","v":0},{"$f":"'データ(1)'!C31","v":0},{"$f":"'クラス(2)'!$AG$30","v":0},{"$f":"'クラス(2)'!$AG$31","v":0},{"$f":"'クラス(2)'!$AG$32","v":0},{"$f":"'クラス(2)'!$AG$33","v":0},{"$f":"'クラス(2)'!$AG$34","v":0},{"$f":"'クラス(2)'!$AG$35","v":0},null,null,null,null,null,null,null,null,null,null,null,null,null,null,0,null,null,null,null,null,null,null,null,null,null,null,null,0,0,0,0,0,0,0,0,0,0,0,0,0,0]
[27,{"$f":"'データ(1)'!B32","v":0},{"$f":"'データ(1)'!C32","v":0},{"$f":"'クラス(2)'!$AH$30","v":0},{"$f":"'クラス(2)'!$AH$31","v":0},{"$f":"'クラス(2)'!$AH$32","v":0},{"$f":"'クラス(2)'!$AH$33","v":0},{"$f":"'クラス(2)'!$AH$34","v":0},{"$f":"'クラス(2)'!$AH$35","v":0},null,null,null,null,null,null,null,null,null,null,null,null,null,null,0,null,null,null,null,null,null,null,null,null,null,null,null,0,0,0,0,0,0,0,0,0,0,0,0,0,0]
[28,{"$f":"'データ(1)'!B33","v":0},{"$f":"'データ(1)'!C33","v":0},{"$f":"'クラス(2)'!$AI$30","v":0},{"$f":"'クラス(2)'!$AI$31","v":0},{"$f":"'クラス(2)'!$AI$32","v":0},{"$f":"'クラス(2)'!$AI$33","v":0},{"$f":"'クラス(2)'!$AI$34","v":0},{"$f":"'クラス(2)'!$AI$35","v":0},null,null,null,null,null,null,null,null,null,null,null,null,null,null,0,null,null,null,null,null,null,null,null,null,null,null,null,0,0,0,0,0,0,0,0,0,0,0,0,0,0]
[29,{"$f":"'データ(1)'!B34","v":0},{"$f":"'データ(1)'!C34","v":0},{"$f":"'クラス(2)'!$AJ$30","v":0},{"$f":"'クラス(2)'!$AJ$31","v":0},{"$f":"'クラス(2)'!$AJ$32","v":0},{"$f":"'クラス(2)'!$AJ$33","v":0},{"$f":"'クラス(2)'!$AJ$34","v":0},{"$f":"'クラス(2)'!$AJ$35","v":0},null,null,null,null,null,null,null,null,null,null,null,null,null,null,0,null,null,null,null,null,null,null,null,null,null,null,null,0,0,0,0,0,0,0,0,0,0,0,0,0,0]
[30,{"$f":"'データ(1)'!B35","v":0},{"$f":"'データ(1)'!C35","v":0},{"$f":"'クラス(2)'!$AK$30","v":0},{"$f":"'クラス(2)'!$AK$31","v":0},{"$f":"'クラス(2)'!$AK$32","v":0},{"$f":"'クラス(2)'!$AK$33","v":0},{"$f":"'クラス(2)'!$AK$34","v":0},{"$f":"'クラス(2)'!$AK$35","v":0},null,null,null,null,null,null,null,null,null,null,null,null,null,null,0,null,null,null,null,null,null,null,null,null,null,null,null,0,0,0,0,0,0,0,0,0,0,0,0,0,0]
[31,{"$f":"'データ(1)'!B36","v":0},{"$f":"'データ(1)'!C36","v":0},{"$f":"'クラス(2)'!$AL$30","v":0},{"$f":"'クラス(2)'!$AL$31","v":0},{"$f":"'クラス(2)'!$AL$32","v":0},{"$f":"'クラス(2)'!$AL$33","v":0},{"$f":"'クラス(2)'!$AL$34","v":0},{"$f":"'クラス(2)'!$AL$35","v":0},null,null,null,null,null,null,null,null,null,null,null,null,null,null,0,null,null,null,null,null,null,null,null,null,null,null,null,0,0,0,0,0,0,0,0,0,0,0,0,0,0]
[32,{"$f":"'データ(1)'!B37","v":0},{"$f":"'データ(1)'!C37","v":0},{"$f":"'クラス(2)'!$AM$30","v":0},{"$f":"'クラス(2)'!$AM$31","v":0},{"$f":"'クラス(2)'!$AM$32","v":0},{"$f":"'クラス(2)'!$AM$33","v":0},{"$f":"'クラス(2)'!$AM$34","v":0},{"$f":"'クラス(2)'!$AM$35","v":0},null,null,null,null,null,null,null,null,null,null,null,null,null,null,0,null,null,null,null,null,null,null,null,null,null,null,null,0,0,0,0,0,0,0,0,0,0,0,0,0,0]
[33,{"$f":"'データ(1)'!B38","v":0},{"$f":"'データ(1)'!C38","v":0},{"$f":"'クラス(2)'!$AN$30","v":0},{"$f":"'クラス(2)'!$AN$31","v":0},{"$f":"'クラス(2)'!$AN$32","v":0},{"$f":"'クラス(2)'!$AN$33","v":0},{"$f":"'クラス(2)'!$AN$34","v":0},{"$f":"'クラス(2)'!$AN$35","v":0},null,null,null,null,null,null,null,null,null,null,null,null,null,null,0,null,null,null,null,null,null,null,null,null,null,null,null,0,0,0,0,0,0,0,0,0,0,0,0,0,0]
[34,{"$f":"'データ(1)'!B39","v":0},{"$f":"'データ(1)'!C39","v":0},{"$f":"'クラス(2)'!$AO$30","v":0},{"$f":"'クラス(2)'!$AO$31","v":0},{"$f":"'クラス(2)'!$AO$32","v":0},{"$f":"'クラス(2)'!$AO$33","v":0},{"$f":"'クラス(2)'!$AO$34","v":0},{"$f":"'クラス(2)'!$AO$35","v":0},null,null,null,null,null,null,null,null,null,null,null,null,null,null,0,null,null,null,null,null,null,null,null,null,null,null,null,0,0,0,0,0,0,0,0,0,0,0,0,0,0]
[35,{"$f":"'データ(1)'!B40","v":0},{"$f":"'データ(1)'!C40","v":0},{"$f":"'クラス(2)'!$AP$30","v":0},{"$f":"'クラス(2)'!$AP$31","v":0},{"$f":"'クラス(2)'!$AP$32","v":0},{"$f":"'クラス(2)'!$AP$33","v":0},{"$f":"'クラス(2)'!$AP$34","v":0},{"$f":"'クラス(2)'!$AP$35","v":0},null,null,null,null,null,null,null,null,null,null,null,null,null,null,0,null,null,null,null,null,null,null,null,null,null,null,null,0,0,0,0,0,0,0,0,0,0,0,0,0,0]
[36,{"$f":"'データ(1)'!B41","v":0},{"$f":"'データ(1)'!C41","v":0},{"$f":"'クラス(2)'!$AQ$30","v":0},{"$f":"'クラス(2)'!$AQ$31","v":0},{"$f":"'クラス(2)'!$AQ$32","v":0},{"$f":"'クラス(2)'!$AQ$33","v":0},{"$f":"'クラス(2)'!$AQ$34","v":0},{"$f":"'クラス(2)'!$AQ$35","v":0},null,null,null,null,null,null,null,null,null,null,null,null,null,null,0,null,null,null,null,null,null,null,null,null,null,null,null,0,0,0,0,0,0,0,0,0,0,0,0,0,0]
[37,{"$f":"'データ(1)'!B42","v":0},{"$f":"'データ(1)'!C42","v":0},{"$f":"'クラス(2)'!$AR$30","v":0},{"$f":"'クラス(2)'!$AR$31","v":0},{"$f":"'クラス(2)'!$AR$32","v":0},{"$f":"'クラス(2)'!$AR$33","v":0},{"$f":"'クラス(2)'!$AR$34","v":0},{"$f":"'クラス(2)'!$AR$35","v":0},null,null,null,null,null,null,null,null,null,null,null,null,null,null,0,null,null,null,null,null,null,null,null,null,null,null,null,0,0,0,0,0,0,0,0,0,0,0,0,0,0]
[38,{"$f":"'データ(1)'!B43","v":0},{"$f":"'データ(1)'!C43","v":0},{"$f":"'クラス(2)'!$AS$30","v":0},{"$f":"'クラス(2)'!$AS$31","v":0},{"$f":"'クラス(2)'!$AS$32","v":0},{"$f":"'クラス(2)'!$AS$33","v":0},{"$f":"'クラス(2)'!$AS$34","v":0},{"$f":"'クラス(2)'!$AS$35","v":0},null,null,null,null,null,null,null,null,null,null,null,null,null,null,0,null,null,null,null,null,null,null,null,null,null,null,null,0,0,0,0,0,0,0,0,0,0,0,0,0,0]
[39,{"$f":"'データ(1)'!B44","v":0},{"$f":"'データ(1)'!C44","v":0},{"$f":"'クラス(2)'!$AT$30","v":0},{"$f":"'クラス(2)'!$AT$31","v":0},{"$f":"'クラス(2)'!$AT$32","v":0},{"$f":"'クラス(2)'!$AT$33","v":0},{"$f":"'クラス(2)'!$AT$34","v":0},{"$f":"'クラス(2)'!$AT$35","v":0},null,null,null,null,null,null,null,null,null,null,null,null,null,null,0,null,null,null,null,null,null,null,null,null,null,null,null,0,0,0,0,0,0,0,0,0,0,0,0,0,0]
[40,{"$f":"'データ(1)'!B45","v":0},{"$f":"'データ(1)'!C45","v":0},{"$f":"'クラス(2)'!$AU$30","v":0},{"$f":"'クラス(2)'!$AU$31","v":0},{"$f":"'クラス(2)'!$AU$32","v":0},{"$f":"'クラス(2)'!$AU$33","v":0},{"$f":"'クラス(2)'!$AU$34","v":0},{"$f":"'クラス(2)'!$AU$35","v":0},null,null,null,null,null,null,null,null,null,null,null,null,null,null,0,null,null,null,null,null,null,null,null,null,null,null,null,0,0,0,0,0,0,0,0,0,0,0,0,0,0]
[]
[41,"男子平均","◎",{"$f":"DCOUNTA($C$5:$I$45,$D$5,'データ(3)'!B64:C65)/J53","v":{"$error":"#DIV/0!"}},{"$f":"DCOUNTA($C$5:$I$45,$D$5,'データ(3)'!D64:E65)/J53","v":{"$error":"#DIV/0!"}},{"$f":"DCOUNTA($C$5:$I$45,$D$5,'データ(3)'!F64:G65)/J53","v":{"$error":"#DIV/0!"}},{"$f":"DCOUNTA($C$5:$I$45,$D$5,'データ(3)'!H64:I65)/J53","v":{"$error":"#DIV/0!"}},{"$f":"DCOUNTA($C$5:$I$45,$D$5,'データ(3)'!J64:K65)/J53","v":{"$error":"#DIV/0!"}},{"$f":"DCOUNTA($C$5:$I$45,$D$5,'データ(3)'!L64:M65)/J53","v":{"$error":"#DIV/0!"}},{"$f":"DAVERAGE($C$5:$W$45,J$5,'データ(3)'!$D59:$E60)","v":{"$error":"#DIV/0!"}},{"$f":"DAVERAGE($C$5:$W$45,K$5,'データ(3)'!$F59:$G60)","v":{"$error":"#DIV/0!"}},{"$f":"DAVERAGE($C$5:$W$45,L$5,'データ(3)'!$H59:$I60)","v":{"$error":"#DIV/0!"}},{"$f":"DAVERAGE($C$5:$W$45,M$5,'データ(3)'!$J59:$K60)","v":{"$error":"#DIV/0!"}},{"$f":"DAVERAGE($C$5:$W$45,N$5,'データ(3)'!$L59:$M60)","v":{"$error":"#DIV/0!"}},{"$f":"DAVERAGE($C$5:$W$45,O$5,'データ(3)'!$N59:$O60)","v":{"$error":"#DIV/0!"}},{"$f":"DAVERAGE($C$5:$W$45,P$5,'データ(3)'!$P59:$Q60)","v":{"$error":"#DIV/0!"}},{"$f":"DAVERAGE($C$5:$W$45,Q$5,'データ(3)'!$R59:$S60)","v":{"$error":"#DIV/0!"}},{"$f":"DAVERAGE($C$5:$W$45,R$5,'データ(3)'!$T59:$U60)","v":{"$error":"#DIV/0!"}},{"$f":"DAVERAGE($C$5:$W$45,S$5,'データ(3)'!$W59:$X60)","v":{"$error":"#DIV/0!"}},{"$f":"DAVERAGE($C$5:$W$45,T$5,'データ(3)'!$Y59:$Z60)","v":{"$error":"#DIV/0!"}},{"$f":"DAVERAGE($C$5:$W$45,U$5,'データ(3)'!$AA59:$AB60)","v":{"$error":"#DIV/0!"}},{"$f":"DAVERAGE($C$5:$W$45,V$5,'データ(3)'!$AC59:$AD60)","v":{"$error":"#DIV/0!"}},{"$f":"DAVERAGE($C$5:$W$45,W$5,'データ(3)'!$AE59:$AF60)","v":{"$error":"#DIV/0!"}},null,{"$f":"DAVERAGE($X$5:$AJ$45,Y$5,'データ(3)'!$D59:$E60)","v":{"$error":"#DIV/0!"}},{"$f":"DAVERAGE($X$5:$AJ$45,Z$5,'データ(3)'!$F59:$G60)","v":{"$error":"#DIV/0!"}},{"$f":"DAVERAGE($X$5:$AJ$45,AA$5,'データ(3)'!$H59:$I60)","v":{"$error":"#DIV/0!"}},{"$f":"DAVERAGE($X$5:$AJ$45,AB$5,'データ(3)'!$J59:$K60)","v":{"$error":"#DIV/0!"}},{"$f":"DAVERAGE($X$5:$AJ$45,AC$5,'データ(3)'!$L59:$M60)","v":{"$error":"#DIV/0!"}},{"$f":"DAVERAGE($X$5:$AJ$45,AD$5,'データ(3)'!$N59:$O60)","v":{"$error":"#DIV/0!"}},{"$f":"DAVERAGE($X$5:$AJ$45,AE$5,'データ(3)'!$P59:$Q60)","v":{"$error":"#DIV/0!"}},{"$f":"DAVERAGE($X$5:$AJ$45,AF$5,'データ(3)'!$R59:$S60)","v":{"$error":"#DIV/0!"}},{"$f":"DAVERAGE($X$5:$AJ$45,AG$5,'データ(3)'!$T59:$U60)","v":{"$error":"#DIV/0!"}},{"$f":"DAVERAGE($X$5:$AJ$45,AH$5,'データ(3)'!$W59:$X60)","v":{"$error":"#DIV/0!"}},{"$f":"DAVERAGE($X$5:$AJ$45,AI$5,'データ(3)'!$Y59:$Z60)","v":{"$error":"#DIV/0!"}},{"$f":"DAVERAGE($X$5:$AJ$45,AJ$5,'データ(3)'!$AA59:$AB60)","v":{"$error":"#DIV/0!"}},{"$f":"DAVERAGE($A$3:$AU$45,$AK$3,'データ(3)'!$B$59:$C60)/8","v":{"$error":"#DIV/0!"}},{"$f":"DAVERAGE($A$3:$AU$45,$AL$3,'データ(3)'!$B$59:$C60)/12","v":{"$error":"#DIV/0!"}},{"$f":"AVERAGEIFS(AM$6:AM$45, $C$6:$C$45, \"男\", $T$6:$T$45, \"<>\", $U$6:$U$45, \"<>\", $V$6:$V$45, \"<>\", $W$6:$W$45, \"<>\")","v":{"$error":"#DIV/0!"}},{"$f":"AVERAGEIFS(AN$6:AN$45, $C$6:$C$45, \"男\", $L$6:$L$45, \"<>\", $O$6:$O$45, \"<>\", $R$6:$R$45, \"<>\")","v":{"$error":"#DIV/0!"}},{"$f":"AVERAGEIFS(AO$6:AO$45, $C$6:$C$45, \"男\", $Z$6:$Z$45, \"<>\", $AA$6:$AA$45, \"<>\", $AD$6:$AD$45, \"<>\", $AI$6:$AI$45, \"<>\")","v":{"$error":"#DIV/0!"}},{"$f":"AVERAGEIFS(AP$6:AP$45, $C$6:$C$45, \"男\", $J$6:$J$45, \"<>\", $K$6:$K$45, \"<>\", $Q$6:$Q$45, \"<>\", $S$6:$S$45, \"<>\")","v":{"$error":"#DIV/0!"}},{"$f":"AVERAGEIFS(AQ$6:AQ$45, $C$6:$C$45, \"男\", $M$6:$M$45, \"<>\", $N$6:$N$45, \"<>\", $P$6:$P$45, \"<>\")","v":{"$error":"#DIV/0!"}},{"$f":"AVERAGEIFS(AR$6:AR$45, $C$6:$C$45, \"男\", $Y$6:$Y$45, \"<>\", $Z$6:$Z$45, \"<>\", $AB$6:$AB$45, \"<>\", $AC$6:$AC$45, \"<>\", $AF$6:$AF$45, \"<>\", $AI$6:$AI$45, \"<>\")","v":{"$error":"#DIV/0!"}},{"$f":"AVERAGEIFS(AS$6:AS$45, $C$6:$C$45, \"男\", $AA$6:$AA$45, \"<>\", $AD$6:$AD$45, \"<>\", $AE$6:$AE$45, \"<>\", $AG$6:$AG$45, \"<>\", $AH$6:$AH$45, \"<>\", $AJ$6:$AJ$45, \"<>\")","v":{"$error":"#DIV/0!"}},{"$f":"AVERAGEIFS(AT$6:AT$45, $C$6:$C$45, \"男\", $Y$6:$Y$45, \"<>\", $Z$6:$Z$45, \"<>\", $AA$6:$AA$45, \"<>\", $AB$6:$AB$45, \"<>\", $AC$6:$AC$45, \"<>\", $AD$6:$AD$45, \"<>\", $AE$6:$AE$45, \"<>\", $AF$6:$AF$45, \"<>\", $AG$6:$AG$45, \"<>\", $AH$6:$AH$45, \"<>\", $AI$6:$AI$45, \"<>\", $AJ$6:$AJ$45, \"<>\")","v":{"$error":"#DIV/0!"}},{"$f":"AVERAGEIFS(AU$6:AU$45, $C$6:$C$45, \"男\", $J$6:$J$45, \"<>\", $K$6:$K$45, \"<>\", $M$6:$M$45, \"<>\", $N$6:$N$45, \"<>\", $P$6:$P$45, \"<>\", $Q$6:$Q$45, \"<>\", $S$6:$S$45, \"<>\")","v":{"$error":"#DIV/0!"}}]
[null,null,"△",{"$f":"DCOUNTA($C$5:$I$45,$D$5,'データ(3)'!B68:C69)/J53","v":{"$error":"#DIV/0!"}},{"$f":"DCOUNTA($C$5:$I$45,$D$5,'データ(3)'!D68:E69)/J53","v":{"$error":"#DIV/0!"}},{"$f":"DCOUNTA($C$5:$I$45,$D$5,'データ(3)'!F68:G69)/J53","v":{"$error":"#DIV/0!"}},{"$f":"DCOUNTA($C$5:$I$45,$D$5,'データ(3)'!H68:I69)/J53","v":{"$error":"#DIV/0!"}},{"$f":"DCOUNTA($C$5:$I$45,$D$5,'データ(3)'!J68:K69)/J53","v":{"$error":"#DIV/0!"}},{"$f":"DCOUNTA($C$5:$I$45,$D$5,'データ(3)'!L68:M69)/J53","v":{"$error":"#DIV/0!"}}]
[42,"女子平均","◎",{"$f":"DCOUNTA($C$5:$I$45,$D$5,'データ(3)'!B66:C67)/J53","v":{"$error":"#DIV/0!"}},{"$f":"DCOUNTA($C$5:$I$45,$D$5,'データ(3)'!D66:E67)/J53","v":{"$error":"#DIV/0!"}},{"$f":"DCOUNTA($C$5:$I$45,$D$5,'データ(3)'!F66:G67)/J53","v":{"$error":"#DIV/0!"}},{"$f":"DCOUNTA($C$5:$I$45,$D$5,'データ(3)'!H66:I67)/J53","v":{"$error":"#DIV/0!"}},{"$f":"DCOUNTA($C$5:$I$45,$D$5,'データ(3)'!J66:K67)/J53","v":{"$error":"#DIV/0!"}},{"$f":"DCOUNTA($C$5:$I$45,$D$5,'データ(3)'!L66:M67)/J53","v":{"$error":"#DIV/0!"}},{"$f":"DAVERAGE($C$5:$W$45,J$5,'データ(3)'!$D61:$E62)","v":{"$error":"#DIV/0!"}},{"$f":"DAVERAGE($C$5:$W$45,K$5,'データ(3)'!$F61:$G62)","v":{"$error":"#DIV/0!"}},{"$f":"DAVERAGE($C$5:$W$45,L$5,'データ(3)'!$H61:$I62)","v":{"$error":"#DIV/0!"}},{"$f":"DAVERAGE($C$5:$W$45,M$5,'データ(3)'!$J61:$K62)","v":{"$error":"#DIV/0!"}},{"$f":"DAVERAGE($C$5:$W$45,N$5,'データ(3)'!$L61:$M62)","v":{"$error":"#DIV/0!"}},{"$f":"DAVERAGE($C$5:$W$45,O$5,'データ(3)'!$N61:$O62)","v":{"$error":"#DIV/0!"}},{"$f":"DAVERAGE($C$5:$W$45,P$5,'データ(3)'!$P61:$Q62)","v":{"$error":"#DIV/0!"}},{"$f":"DAVERAGE($C$5:$W$45,Q$5,'データ(3)'!$R61:$S62)","v":{"$error":"#DIV/0!"}},{"$f":"DAVERAGE($C$5:$W$45,R$5,'データ(3)'!$T61:$U62)","v":{"$error":"#DIV/0!"}},{"$f":"DAVERAGE($C$5:$W$45,S$5,'データ(3)'!$W61:$X62)","v":{"$error":"#DIV/0!"}},{"$f":"DAVERAGE($C$5:$W$45,T$5,'データ(3)'!$Y61:$Z62)","v":{"$error":"#DIV/0!"}},{"$f":"DAVERAGE($C$5:$W$45,U$5,'データ(3)'!$AA61:$AB62)","v":{"$error":"#DIV/0!"}},{"$f":"DAVERAGE($C$5:$W$45,V$5,'データ(3)'!$AC61:$AD62)","v":{"$error":"#DIV/0!"}},{"$f":"DAVERAGE($C$5:$W$45,W$5,'データ(3)'!$AE61:$AF62)","v":{"$error":"#DIV/0!"}},null,{"$f":"DAVERAGE($X$5:$AJ$45,Y$5,'データ(3)'!$D61:$E62)","v":{"$error":"#DIV/0!"}},{"$f":"DAVERAGE($X$5:$AJ$45,Z$5,'データ(3)'!$F61:$G62)","v":{"$error":"#DIV/0!"}},{"$f":"DAVERAGE($X$5:$AJ$45,AA$5,'データ(3)'!$H61:$I62)","v":{"$error":"#DIV/0!"}},{"$f":"DAVERAGE($X$5:$AJ$45,AB$5,'データ(3)'!$J61:$K62)","v":{"$error":"#DIV/0!"}},{"$f":"DAVERAGE($X$5:$AJ$45,AC$5,'データ(3)'!$L61:$M62)","v":{"$error":"#DIV/0!"}},{"$f":"DAVERAGE($X$5:$AJ$45,AD$5,'データ(3)'!$N61:$O62)","v":{"$error":"#DIV/0!"}},{"$f":"DAVERAGE($X$5:$AJ$45,AE$5,'データ(3)'!$P61:$Q62)","v":{"$error":"#DIV/0!"}},{"$f":"DAVERAGE($X$5:$AJ$45,AF$5,'データ(3)'!$R61:$S62)","v":{"$error":"#DIV/0!"}},{"$f":"DAVERAGE($X$5:$AJ$45,AG$5,'データ(3)'!$T61:$U62)","v":{"$error":"#DIV/0!"}},{"$f":"DAVERAGE($X$5:$AJ$45,AH$5,'データ(3)'!$W61:$X62)","v":{"$error":"#DIV/0!"}},{"$f":"DAVERAGE($X$5:$AJ$45,AI$5,'データ(3)'!$Y61:$Z62)","v":{"$error":"#DIV/0!"}},{"$f":"DAVERAGE($X$5:$AJ$45,AJ$5,'データ(3)'!$AA61:$AB62)","v":{"$error":"#DIV/0!"}},{"$f":"DAVERAGE($A$3:$AU$45,$AK$3,'データ(3)'!$B$61:$C62)/8","v":{"$error":"#DIV/0!"}},{"$f":"DAVERAGE($A$3:$AU$45,$AL$3,'データ(3)'!$B$61:$C62)/12","v":{"$error":"#DIV/0!"}},{"$f":"AVERAGEIFS(AM$6:AM$45, $C$6:$C$45, \"女\", $T$6:$T$45, \"<>\", $U$6:$U$45, \"<>\", $V$6:$V$45, \"<>\", $W$6:$W$45, \"<>\")","v":{"$error":"#DIV/0!"}},{"$f":"AVERAGEIFS(AN$6:AN$45, $C$6:$C$45, \"女\", $L$6:$L$45, \"<>\", $O$6:$O$45, \"<>\", $R$6:$R$45, \"<>\")","v":{"$error":"#DIV/0!"}},{"$f":"AVERAGEIFS(AO$6:AO$45, $C$6:$C$45, \"女\", $Z$6:$Z$45, \"<>\", $AA$6:$AA$45, \"<>\", $AD$6:$AD$45, \"<>\", $AI$6:$AI$45, \"<>\")","v":{"$error":"#DIV/0!"}},{"$f":"AVERAGEIFS(AP$6:AP$45, $C$6:$C$45, \"女\", $J$6:$J$45, \"<>\", $K$6:$K$45, \"<>\", $Q$6:$Q$45, \"<>\", $S$6:$S$45, \"<>\")","v":{"$error":"#DIV/0!"}},{"$f":"AVERAGEIFS(AQ$6:AQ$45, $C$6:$C$45, \"女\", $M$6:$M$45, \"<>\", $N$6:$N$45, \"<>\", $P$6:$P$45, \"<>\")","v":{"$error":"#DIV/0!"}},{"$f":"AVERAGEIFS(AR$6:AR$45, $C$6:$C$45, \"女\", $Y$6:$Y$45, \"<>\", $Z$6:$Z$45, \"<>\", $AB$6:$AB$45, \"<>\", $AC$6:$AC$45, \"<>\", $AF$6:$AF$45, \"<>\", $AI$6:$AI$45, \"<>\")","v":{"$error":"#DIV/0!"}},{"$f":"AVERAGEIFS(AS$6:AS$45, $C$6:$C$45, \"女\", $AA$6:$AA$45, \"<>\", $AD$6:$AD$45, \"<>\", $AE$6:$AE$45, \"<>\", $AG$6:$AG$45, \"<>\", $AH$6:$AH$45, \"<>\", $AJ$6:$AJ$45, \"<>\")","v":{"$error":"#DIV/0!"}},{"$f":"AVERAGEIFS(AT$6:AT$45, $C$6:$C$45, \"女\", $Y$6:$Y$45, \"<>\", $Z$6:$Z$45, \"<>\", $AA$6:$AA$45, \"<>\", $AB$6:$AB$45, \"<>\", $AC$6:$AC$45, \"<>\", $AD$6:$AD$45, \"<>\", $AE$6:$AE$45, \"<>\", $AF$6:$AF$45, \"<>\", $AG$6:$AG$45, \"<>\", $AH$6:$AH$45, \"<>\", $AI$6:$AI$45, \"<>\", $AJ$6:$AJ$45, \"<>\")","v":{"$error":"#DIV/0!"}},{"$f":"AVERAGEIFS(AU$6:AU$45, $C$6:$C$45, \"女\", $J$6:$J$45, \"<>\", $K$6:$K$45, \"<>\", $M$6:$M$45, \"<>\", $N$6:$N$45, \"<>\", $P$6:$P$45, \"<>\", $Q$6:$Q$45, \"<>\", $S$6:$S$45, \"<>\")","v":{"$error":"#DIV/0!"}}]
[null,null,"△",{"$f":"DCOUNTA($C$5:$I$45,$D$5,'データ(3)'!B70:C71)/J53","v":{"$error":"#DIV/0!"}},{"$f":"DCOUNTA($C$5:$I$45,$D$5,'データ(3)'!D70:E71)/J53","v":{"$error":"#DIV/0!"}},{"$f":"DCOUNTA($C$5:$I$45,$D$5,'データ(3)'!F70:G71)/J53","v":{"$error":"#DIV/0!"}},{"$f":"DCOUNTA($C$5:$I$45,$D$5,'データ(3)'!H70:I71)/J53","v":{"$error":"#DIV/0!"}},{"$f":"DCOUNTA($C$5:$I$45,$D$5,'データ(3)'!J70:K71)/J53","v":{"$error":"#DIV/0!"}},{"$f":"DCOUNTA($C$5:$I$45,$D$5,'データ(3)'!L70:M71)/J53","v":{"$error":"#DIV/0!"}}]
[43,"全体平均","◎",{"$f":"COUNTIF(D$6:D$45,\"◎\")/J53","v":{"$error":"#DIV/0!"}},{"$f":"COUNTIF(E$6:E$45,\"◎\")/J53","v":{"$error":"#DIV/0!"}},{"$f":"COUNTIF(F$6:F$45,\"◎\")/J53","v":{"$error":"#DIV/0!"}},{"$f":"COUNTIF(G$6:G$45,\"◎\")/J53","v":{"$error":"#DIV/0!"}},{"$f":"COUNTIF(H$6:H$45,\"◎\")/J53","v":{"$error":"#DIV/0!"}},{"$f":"COUNTIF(I$6:I$45,\"◎\")/J53","v":{"$error":"#DIV/0!"}},{"$f":"AVERAGE(J6:J45)","v":{"$error":"#DIV/0!"}},{"$f":"AVERAGE(K6:K45)","v":{"$error":"#DIV/0!"}},{"$error":"#DIV/0!"},{"$error":"#DIV/0!"},{"$error":"#DIV/0!"},{"$error":"#DIV/0!"},{"$error":"#DIV/0!"},{"$error":"#DIV/0!"},{"$error":"#DIV/0!"},{"$error":"#DIV/0!"},{"$error":"#DIV/0!"},{"$error":"#DIV/0!"},{"$f":"AVERAGE(V6:V45)","v":{"$error":"#DIV/0!"}},{"$error":"#DIV/0!"},null,{"$error":"#DIV/0!"},{"$error":"#DIV/0!"},{"$error":"#DIV/0!"},{"$error":"#DIV/0!"},{"$error":"#DIV/0!"},{"$error":"#DIV/0!"},{"$error":"#DIV/0!"},{"$error":"#DIV/0!"},{"$error":"#DIV/0!"},{"$error":"#DIV/0!"},{"$error":"#DIV/0!"},{"$error":"#DIV/0!"},{"$f":"AK53/$J$53/8","v":{"$error":"#DIV/0!"}},{"$f":"AL53/$J$53/12","v":{"$error":"#DIV/0!"}},{"$f":"AVERAGEIFS(AM$6:AM$45, $T$6:$T$45, \"<>\", $U$6:$U$45, \"<>\", $V$6:$V$45, \"<>\", $W$6:$W$45, \"<>\")","v":{"$error":"#DIV/0!"}},{"$f":"AVERAGEIFS(AN$6:AN$45, $L$6:$L$45, \"<>\", $O$6:$O$45, \"<>\", $R$6:$R$45, \"<>\")","v":{"$error":"#DIV/0!"}},{"$f":"AVERAGEIFS(AO$6:AO$45, $Z$6:$Z$45, \"<>\", $AA$6:$AA$45, \"<>\", $AD$6:$AD$45, \"<>\", $AI$6:$AI$45, \"<>\")","v":{"$error":"#DIV/0!"}},{"$f":"AVERAGEIFS(AP$6:AP$45, $J$6:$J$45, \"<>\", $K$6:$K$45, \"<>\", $Q$6:$Q$45, \"<>\", $S$6:$S$45, \"<>\")","v":{"$error":"#DIV/0!"}},{"$f":"AVERAGEIFS(AQ$6:AQ$45, $M$6:$M$45, \"<>\", $N$6:$N$45, \"<>\", $P$6:$P$45, \"<>\")","v":{"$error":"#DIV/0!"}},{"$f":"AVERAGEIFS(AR$6:AR$45, $Y$6:$Y$45, \"<>\", $Z$6:$Z$45, \"<>\", $AB$6:$AB$45, \"<>\", $AC$6:$AC$45, \"<>\", $AF$6:$AF$45, \"<>\", $AI$6:$AI$45, \"<>\")","v":{"$error":"#DIV/0!"}},{"$f":"AVERAGEIFS(AS$6:AS$45, $AA$6:$AA$45, \"<>\", $AD$6:$AD$45, \"<>\", $AE$6:$AE$45, \"<>\", $AG$6:$AG$45, \"<>\", $AH$6:$AH$45, \"<>\", $AJ$6:$AJ$45, \"<>\")","v":{"$error":"#DIV/0!"}},{"$f":"AVERAGEIFS(AT$6:AT$45, $Y$6:$Y$45, \"<>\", $Z$6:$Z$45, \"<>\", $AA$6:$AA$45, \"<>\", $AB$6:$AB$45, \"<>\", $AC$6:$AC$45, \"<>\", $AD$6:$AD$45, \"<>\", $AE$6:$AE$45, \"<>\", $AF$6:$AF$45, \"<>\", $AG$6:$AG$45, \"<>\", $AH$6:$AH$45, \"<>\", $AI$6:$AI$45, \"<>\", $AJ$6:$AJ$45, \"<>\")","v":{"$error":"#DIV/0!"}},{"$f":"AVERAGEIFS(AU$6:AU$45, $J$6:$J$45, \"<>\", $K$6:$K$45, \"<>\", $M$6:$M$45, \"<>\", $N$6:$N$45, \"<>\", $P$6:$P$45, \"<>\", $Q$6:$Q$45, \"<>\", $S$6:$S$45, \"<>\")","v":{"$error":"#DIV/0!"}}]
[null,null,"△",{"$f":"COUNTIF(D$6:D$45,\"△\")/J53","v":{"$error":"#DIV/0!"}},{"$f":"COUNTIF(E$6:E$45,\"△\")/J53","v":{"$error":"#DIV/0!"}},{"$f":"COUNTIF(F$6:F$45,\"△\")/J53","v":{"$error":"#DIV/0!"}},{"$f":"COUNTIF(G$6:G$45,\"△\")/J53","v":{"$error":"#DIV/0!"}},{"$f":"COUNTIF(H$6:H$45,\"△\")/J53","v":{"$error":"#DIV/0!"}},{"$f":"COUNTIF(I$6:I$45,\"△\")/J53","v":{"$error":"#DIV/0!"}}]
[null,null,null,null,null,null,null,null,null,{"$f":"COUNTA(J6:J45)","v":0},null,null,null,null,null,null,null,null,null,null,null,null,null,null,null,null,null,null,null,null,null,null,null,null,null,null,{"$f":"SUM(AK6:AK45)","v":0},0,0,0,0,0,0,0,0,0,0]

{"sheet":"データ(3)","index":3,"n_rows":71,"n_cols":50,"rows_kept":71,"cut":false,"hidden":false,"merged":[[46,21,47,21],[48,21,49,21],[50,21,51,21],[50,27,51,27],[50,22,51,22],[50,24,51,24],[50,25,51,25],[50,26,51,26],[46,23,51,23],[48,24,49,24],[46,25,47,25],[46,26,47,26],[48,27,49,27],[48,22,49,22],[46,27,47,27],[52,32,52,35],[46,36,47,36],[48,36,49,36],[46,9,47,9],[46,10,47,10],[46,11,47,11],[48,42,49,42],[46,12,47,12],[46,19,47,19],[46,20,47,20],[46,13,47,13],[46,14,47,14],[46,15,47,15],[46,16,47,16],[46,22,47,22],[50,14,51,14],[50,15,51,15],[50,16,51,16],[50,17,51,17],[50,18,51,18],[48,9,49,9],[48,10,49,10],[48,11,49,11],[48,12,49,12],[50,45,51,45],[50,46,51,46],[48,43,49,43],[48,44,49,44],[46,38,47,38],[46,39,47,39],[46,41,47,41],[46,42,47,42],[48,38,49,38],[48,39,49,39],[48,41,49,41],[46,43,47,43],[46,44,47,44],[2,49,4,49],[2,45,4,45],[2,46,4,46],[2,47,4,47],[2,48,4,48],[48,45,49,45],[46,46,47,46],[46,45,47,45],[48,46,49,46],[46,28,47,28],[46,40,47,40],[48,40,49,40],[46,24,47,24],[46,30,47,30],[50,43,51,43],[50,44,51,44],[50,38,51,38],[50,39,51,39],[50,41,51,41],[50,42,51,42],[48,25,49,25],[48,26,49,26],[50,28,51,28],[50,29,51,29],[50,30,51,30],[48,28,49,28],[48,29,49,29],[48,30,49,30],[50,31,51,31],[46,32,47,32],[46,33,47,33],[46,34,47,34],[46,37,47,37],[50,36,51,36],[50,37,51,37],[46,35,47,35],[48,35,49,35],[50,35,51,35],[48,37,49,37],[46,29,47,29],[50,40,51,40],[48,32,49,32],[48,33,49,33],[48,34,49,34],[50,32,51,32],[50,33,51,33],[50,34,51,34],[46,31,47,31],[48,31,49,31],[1,41,1,42],[1,43,1,44],[2,36,4,36],[2,37,4,37],[2,38,4,38],[2,39,4,39],[2,41,4,41],[2,42,4,42],[2,43,4,43],[0,2,1,40],[2,44,4,44],[2,2,3,2],[2,3,2,8],[3,3,3,4],[3,5,3,6],[3,7,3,8],[2,9,3,18],[2,19,3,22],[2,24,3,35],[2,40,4,40],[46,0,47,0],[48,0,49,0],[50,0,51,0],[2,0,4,0],[2,1,4,1],[46,1,47,1],[50,13,51,13],[50,9,51,9],[50,10,51,10],[50,11,51,11],[50,12,51,12],[48,13,49,13],[48,14,49,14],[48,15,49,15],[48,16,49,16],[48,17,49,17],[50,19,51,19],[50,20,51,20],[46,17,47,17],[48,1,49,1],[50,1,51,1],[46,18,47,18],[48,18,49,18],[48,19,49,19],[48,20,49,20]]}
[{"$f":"'データ(1)'!A1","v":"学年"},{"$f":"'データ(1)'!B1","v":0},"        個人アセスメント入力シート３回目"]
[{"$f":"'データ(1)'!A2","v":"組"},{"$f":"'データ(1)'!B2","v":0},null,null,null,null,null,null,null,null,null,null,null,null,null,null,null,null,null,null,null,null,null,null,null,null,null,null,null,null,null,null,null,null,null,null,null,null,null,null,null,"自分づくり",null,"仲間づくり"]
["ＮＯ","氏名","性別","風土まとめ合計",null,null,null,null,null,"Ａ項目\n自分づくりスキル",null,null,null,null,null,null,null,null,null,"C項目\n学級居心地感",null,null,null,null,"Ｂ項目\n仲間づくりスキル",null,null,null,null,null,null,null,null,null,null,null,"自分づくり","仲間づくり","学級居心地感","心配傾向","かかわり","自己効力感","自尊感情","自己表現","共感・配慮","仲間づくり","自分づくり","自分づくり\n学級","仲間づくり\n学級","集団づくり\n学級"]
[null,null,null,"自分づくり",null,"仲間づくり",null,"集団づくり"]
[null,null,"性別","公正","寛容","自己表現","配慮","課題遂行","合意形成","１","２","３","４","５","６","７","８","９","１０","１１","１２","１３","１４","性別","１","２","３","４","５","６","７","８","９","１０","１１","１２"]
[1,{"$f":"'データ(1)'!B6","v":0},{"$f":"'データ(1)'!C6","v":0},{"$f":"'クラス(3)'!$H$30","v":0},{"$f":"'クラス(3)'!$H$31","v":0},{"$f":"'クラス(3)'!$H$32","v":0},{"$f":"'クラス(3)'!$H$33","v":0},{"$f":"'クラス(3)'!$H$34","v":0},{"$f":"'クラス(3)'!$H$35","v":0},null,null,null,null,null,null,null,null,null,null,null,null,null,null,{"$f":"C6","v":0},null,null,null,null,null,null,null,null,null,null,null,null,{"$f":"SUM(J6,K6,M6,N6,P6,Q6,S6)","v":0},{"$f":"SUM(Y6:AJ6)","v":0},{"$f":"SUM(T6,U6,V6,W6)","v":0},{"$f":"SUM(L6,O6,R6)","v":0},{"$f":"SUM(Z6,AI6,AA6,AD6)","v":0},{"$f":"SUM(J6,Q6,K6,S6)","v":0},{"$f":"SUM(M6,N6,P6)","v":0},{"$f":"SUM(Y6,Z6,AB6,AC6,AF6,AI6)","v":0},{"$f":"SUM(AA6,AD6,AE6,AG6,AH6,AJ6)","v":0},{"$f":"SUM(Y6:AJ6)","v":0},{"$f":"SUM(J6,K6,M6,N6,P6,Q6,S6)","v":0},{"$f":"D6","v":0},{"$f":"F6","v":0},{"$f":"H6","v":0}]
[2,{"$f":"'データ(1)'!B7","v":0},{"$f":"'データ(1)'!C7","v":0},{"$f":"'クラス(3)'!$I$30","v":0},{"$f":"'クラス(3)'!$I$31","v":0},{"$f":"'クラス(3)'!$I$32","v":0},{"$f":"'クラス(3)'!$I$33","v":0},{"$f":"'クラス(3)'!$I$34","v":0},{"$f":"'クラス(3)'!$I$35","v":0},null,null,null,null,null,null,null,null,null,null,null,null,null,null,0,null,null,null,null,null,null,null,null,null,null,null,null,0,0,{"$f":"SUM(T7,U7,V7,W7)","v":0},{"$f":"SUM(L7,O7,R7)","v":0},{"$f":"SUM(Z7,AI7,AA7,AD7)","v":0},{"$f":"SUM(J7,Q7,K7,S7)","v":0},{"$f":"SUM(M7,N7,P7)","v":0},{"$f":"SUM(Y7,Z7,AB7,AC7,AF7,AI7)","v":0},{"$f":"SUM(AA7,AD7,AE7,AG7,AH7,AJ7)","v":0},{"$f":"SUM(Y7:AJ7)","v":0},{"$f":"SUM(J7,K7,M7,N7,P7,Q7,S7)","v":0},{"$f":"D7","v":0},{"$f":"F7","v":0},{"$f":"H7","v":0}]
[3,{"$f":"'データ(1)'!B8","v":0},{"$f":"'データ(1)'!C8","v":0},{"$f":"'クラス(3)'!$J$30","v":0},{"$f":"'クラス(3)'!$J$31","v":0},{"$f":"'クラス(3)'!$J$32","v":0},{"$f":"'クラス(3)'!$J$33","v":0},{"$f":"'クラス(3)'!$J$34","v":0},{"$f":"'クラス(3)'!$J$35","v":0},null,null,null,null,null,null,null,null,null,null,null,null,null,null,0,null,null,null,null,null,null,null,null,null,null,null,null,0,0,0,0,0,0,0,0,0,0,0,0,0,0]
[4,{"$f":"'データ(1)'!B9","v":0},{"$f":"'データ(1)'!C9","v":0},{"$f":"'クラス(3)'!$K$30","v":0},{"$f":"'クラス(3)'!$K$31","v":0},{"$f":"'クラス(3)'!$K$32","v":0},{"$f":"'クラス(3)'!$K$33","v":0},{"$f":"'クラス(3)'!$K$34","v":0},{"$f":"'クラス(3)'!$K$35","v":0},null,null,null,null,null,null,null,null,null,null,null,null,null,null,0,null,null,null,null,null,null,null,null,null,null,null,null,0,0,0,0,0,0,0,0,0,0,0,0,0,0]
[5,{"$f":"'データ(1)'!B10","v":0},{"$f":"'データ(1)'!C10","v":0},{"$f":"'クラス(3)'!$L$30","v":0},{"$f":"'クラス(3)'!$L$31","v":0},{"$f":"'クラス(3)'!$L$32","v":0},{"$f":"'クラス(3)'!$L$33","v":0},{"$f":"'クラス(3)'!$L$34","v":0},{"$f":"'クラス(3)'!$L$35","v":0},null,null,null,null,null,null,null,null,null,null,null,null,null,null,0,null,null,null,null,null,null,null,null,null,null,null,null,0,0,0,0,0,0,0,0,0,0,0,0,0,0]
[6,{"$f":"'データ(1)'!B11","v":0},{"$f":"'データ(1)'!C11","v":0},{"$f":"'クラス(3)'!$M$30","v":0},{"$f":"'クラス(3)'!$M$31","v":0},{"$f":"'クラス(3)'!$M$32","v":0},{"$f":"'クラス(3)'!$M$33","v":0},{"$f":"'クラス(3)'!$M$34","v":0},{"$f":"'クラス(3)'!$M$35","v":0},null,null,null,null,null,null,null,null,null,null,null,null,null,null,0,null,null,null,null,null,null,null,null,null,null,null,null,0,0,0,0,0,0,0,0,0,0,0,0,0,0]
[7,{"$f":"'データ(1)'!B12","v":0},{"$f":"'データ(1)'!C12","v":0},{"$f":"'クラス(3)'!$N$30","v":0},{"$f":"'クラス(3)'!$N$31","v":0},{"$f":"'クラス(3)'!$N$32","v":0},{"$f":"'クラス(3)'!$N$33","v":0},{"$f":"'クラス(3)'!$N$34","v":0},{"$f":"'クラス(3)'!$N$35","v":0},null,null,null,null,null,null,null,null,null,null,null,null,null,null,0,null,null,null,null,null,null,null,null,null,null,null,null,0,0,0,0,0,0,0,0,0,0,0,0,0,0]
[8,{"$f":"'データ(1)'!B13","v":0},{"$f":"'データ(1)'!C13","v":0},{"$f":"'クラス(3)'!$O$30","v":0},{"$f":"'クラス(3)'!$O$31","v":0},{"$f":"'クラス(3)'!$O$32","v":0},{"$f":"'クラス(3)'!$O$33","v":0},{"$f":"'クラス(3)'!$O$34","v":0},{"$f":"'クラス(3)'!$O$35","v":0},null,null,null,null,null,null,null,null,null,null,null,null,null,null,0,null,null,null,null,null,null,null,null,null,null,null,null,0,0,0,0,0,0,0,0,0,0,0,0,0,0]
[9,{"$f":"'データ(1)'!B14","v":0},{"$f":"'データ(1)'!C14","v":0},{"$f":"'クラス(3)'!$P$30","v":0},{"$f":"'クラス(3)'!$P$31","v":0},{"$f":"'クラス(3)'!$P$32","v":0},{"$f":"'クラス(3)'!$P$33","v":0},{"$f":"'クラス(3)'!$P$34","v":0},{"$f":"'クラス(3)'!$P$35","v":0},null,null,null,null,null,null,null,null,null,null,null,null,null,null,0,null,null,null,null,null,null,null,null,null,null,null,null,0,0,0,0,0,0,0,0,0,0,0,0,0,0]
[10,{"$f":"'データ(1)'!B15","v":0},{"$f":"'データ(1)'!C15","v":0},{"$f":"'クラス(3)'!$Q$30","v":0},{"$f":"'クラス(3)'!$Q$31","v":0},{"$f":"'クラス(3)'!$Q$32","v":0},{"$f":"'クラス(3)'!$Q$33","v":0},{"$f":"'クラス(3)'!$Q$34","v":0},{"$f":"'クラス(3)'!$Q$35","v":0},null,null,null,null,null,null,null,null,null,null,null,null,null,null,0,null,null,null,null,null,null,null,null,null,null,null,null,{"$f":"SUM(J15,K15,M15,N15,P15,Q15,S15)","v":0},{"$f":"SUM(Y15:AJ15)","v":0},0,0,0,0,0,0,0,0,0,0,0,0]
[11,{"$f":"'データ(1)'!B16","v":0},{"$f":"'データ(1)'!C16","v":0},{"$f":"'クラス(3)'!$R$30","v":0},{"$f":"'クラス(3)'!$R$31","v":0},{"$f":"'クラス(3)'!$R$32","v":0},{"$f":"'クラス(3)'!$R$33","v":0},{"$f":"'クラス(3)'!$R$34","v":0},{"$f":"'クラス(3)'!$R$35","v":0},null,null,null,null,null,null,null,null,null,null,null,null,null,null,0,null,null,null,null,null,null,null,null,null,null,null,null,0,0,0,0,0,0,0,0,0,0,0,0,0,0]
[12,{"$f":"'データ(1)'!B17","v":0},{"$f":"'データ(1)'!C17","v":0},{"$f":"'クラス(3)'!$S$30","v":0},{"$f":"'クラス(3)'!$S$31","v":0},{"$f":"'クラス(3)'!$S$32","v":0},{"$f":"'クラス(3)'!$S$33","v":0},{"$f":"'クラス(3)'!$S$34","v":0},{"$f":"'クラス(3)'!$S$35","v":0},null,null,null,null,null,null,null,null,null,null,null,null,null,null,0,null,null,null,null,null,null,null,null,null,null,null,null,0,0,0,0,0,0,0,0,0,0,0,0,0,0]
[13,{"$f":"'データ(1)'!B18","v":0},{"$f":"'データ(1)'!C18","v":0},{"$f":"'クラス(3)'!$T$30","v":0},{"$f":"'クラス(3)'!$T$31","v":0},{"$f":"'クラス(3)'!$T$32","v":0},{"$f":"'クラス(3)'!$T$33","v":0},{"$f":"'クラス(3)'!$T$34","v":0},{"$f":"'クラス(3)'!$T$35","v":0},null,null,null,null,null,null,null,null,null,null,null,null,null,null,0,null,null,null,null,null,null,null,null,null,null,null,null,0,0,0,0,0,0,0,0,0,0,0,0,0,0]
[14,{"$f":"'データ(1)'!B19","v":0},{"$f":"'データ(1)'!C19","v":0},{"$f":"'クラス(3)'!$U$30","v":0},{"$f":"'クラス(3)'!$U$31","v":0},{"$f":"'クラス(3)'!$U$32","v":0},{"$f":"'クラス(3)'!$U$33","v":0},{"$f":"'クラス(3)'!$U$34","v":0},{"$f":"'クラス(3)'!$U$35","v":0},null,null,null,null,null,null,null,null,null,null,null,null,null,null,0,null,null,null,null,null,null,null,null,null,null,null,null,0,0,0,0,0,0,0,0,0,0,0,0,0,0]
[15,{"$f":"'データ(1)'!B20","v":0},{"$f":"'データ(1)'!C20","v":0},{"$f":"'クラス(3)'!$V$30","v":0},{"$f":"'クラス(3)'!$V$31","v":0},{"$f":"'クラス(3)'!$V$32","v":0},{"$f":"'クラス(3)'!$V$33","v":0},{"$f":"'クラス(3)'!$V$34","v":0},{"$f":"'クラス(3)'!$V$35","v":0},null,null,null,null,null,null,null,null,null,null,null,null,null,null,0,null,null,null,null,null,null,null,null,null,null,null,null,0,0,0,0,0,0,0,0,0,0,0,0,0,0]
[16,{"$f":"'データ(1)'!B21","v":0},{"$f":"'データ(1)'!C21","v":0},{"$f":"'クラス(3)'!$W$30","v":0},{"$f":"'クラス(3)'!$W$31","v":0},{"$f":"'クラス(3)'!$W$32","v":0},{"$f":"'クラス(3)'!$W$33","v":0},{"$f":"'クラス(3)'!$W$34","v":0},{"$f":"'クラス(3)'!$W$35","v":0},null,null,null,null,null,null,null,null,null,null,null,null,null,null,0,null,null,null,null,null,null,null,null,null,null,null,null,0,0,0,0,0,0,0,0,0,0,0,0,0,0]
[17,{"$f":"'データ(1)'!B22","v":0},{"$f":"'データ(1)'!C22","v":0},{"$f":"'クラス(3)'!$X$30","v":0},{"$f":"'クラス(3)'!$X$31","v":0},{"$f":"'クラス(3)'!$X$32","v":0},{"$f":"'クラス(3)'!$X$33","v":0},{"$f":"'クラス(3)'!$X$34","v":0},{"$f":"'クラス(3)'!$X$35","v":0},null,null,null,null,null,null,null,null,null,null,null,null,null,null,0,null,null,null,null,null,null,null,null,null,null,null,null,0,0,0,0,0,0,0,0,0,0,0,0,0,0]
[18,{"$f":"'データ(1)'!B23","v":0},{"$f":"'データ(1)'!C23","v":0},{"$f":"'クラス(3)'!$Y$30","v":0},{"$f":"'クラス(3)'!$Y$31","v":0},{"$f":"'クラス(3)'!$Y$32","v":0},{"$f":"'クラス(3)'!$Y$33","v":0},{"$f":"'クラス(3)'!$Y$34","v":0},{"$f":"'クラス(3)'!$Y$35","v":0},null,null,null,null,null,null,null,null,null,null,null,null,null,null,0,null,null,null,null,null,null,null,null,null,null,null,null,0,0,0,0,0,0,0,0,0,0,0,0,0,0]
[19,{"$f":"'データ(1)'!B24","v":0},{"$f":"'データ(1)'!C24","v":0},{"$f":"'クラス(3)'!$Z$30","v":0},{"$f":"'クラス(3)'!$Z$31","v":0},{"$f":"'クラス(3)'!$Z$32","v":0},{"$f":"'クラス(3)'!$Z$33","v":0},{"$f":"'クラス(3)'!$Z$34","v":0},{"$f":"'クラス(3)'!$Z$35","v":0},null,null,null,null,null,null,null,null,null,null,null,null,null,null,0,null,null,null,null,null,null,null,null,null,null,null,null,0,0,0,0,0,0,0,0,0,0,0,0,0,0]
[20,{"$f":"'データ(1)'!B25","v":0},{"$f":"'データ(1)'!C25","v":0},{"$f":"'クラス(3)'!$AA$30","v":0},{"$f":"'クラス(3)'!$AA$31","v":0},{"$f":"'クラス(3)'!$AA$32","v":0},{"$f":"'クラス(3)'!$AA$33","v":0},{"$f":"'クラス(3)'!$AA$34","v":0},{"$f":"'クラス(3)'!$AA$35","v":0},null,null,null,null,null,null,null,null,null,null,null,null,null,null,0,null,null,null,null,null,null,null,null,null,null,null,null,0,0,0,0,0,0,0,0,0,0,0,0,0,0]
[21,{"$f":"'データ(1)'!B26","v":0},{"$f":"'データ(1)'!C26","v":0},{"$f":"'クラス(3)'!$AB$30","v":0},{"$f":"'クラス(3)'!$AB$31","v":0},{"$f":"'クラス(3)'!$AB$32","v":0},{"$f":"'クラス(3)'!$AB$33","v":0},{"$f":"'クラス(3)'!$AB$34","v":0},{"$f":"'クラス(3)'!$AB$35","v":0},null,null,null,null,null,null,null,null,null,null,null,null,null,null,0,null,null,null,null,null,null,null,null,null,null,null,null,0,0,0,0,0,0,0,0,0,0,0,0,0,0]
[22,{"$f":"'データ(1)'!B27","v":0},{"$f":"'データ(1)'!C27","v":0},{"$f":"'クラス(3)'!$AC$30","v":0},{"$f":"'クラス(3)'!$AC$31","v":0},{"$f":"'クラス(3)'!$AC$32","v":0},{"$f":"'クラス(3)'!$AC$33","v":0},{"$f":"'クラス(3)'!$AC$34","v":0},{"$f":"'クラス(3)'!$AC$35","v":0},null,null,null,null,null,null,null,null,null,null,null,null,null,null,0,null,null,null,null,null,null,null,null,null,null,null,null,0,0,0,0,0,0,0,0,0,0,0,0,0,0]
[23,{"$f":"'データ(1)'!B28","v":0},{"$f":"'データ(1)'!C28","v":0},{"$f":"'クラス(3)'!$AD$30","v":0},{"$f":"'クラス(3)'!$AD$31","v":0},{"$f":"'クラス(3)'!$AD$32","v":0},{"$f":"'クラス(3)'!$AD$33","v":0},{"$f":"'クラス(3)'!$AD$34","v":0},{"$f":"'クラス(3)'!$AD$35","v":0},null,null,null,null,null,null,null,null,null,null,null,null,null,null,0,null,null,null,null,null,null,null,null,null,null,null,null,0,0,0,0,0,0,0,0,0,0,0,0,0,0]
[24,{"$f":"'データ(1)'!B29","v":0},{"$f":"'データ(1)'!C29","v":0},{"$f":"'クラス(3)'!$AE$30","v":0},{"$f":"'クラス(3)'!$AE$31","v":0},{"$f":"'クラス(3)'!$AE$32","v":0},{"$f":"'クラス(3)'!$AE$33","v":0},{"$f":"'クラス(3)'!$AE$34","v":0},{"$f":"'クラス(3)'!$AE$35","v":0},null,null,null,null,null,null,null,null,null,null,null,null,null,null,0,null,null,null,null,null,null,null,null,null,null,null,null,0,0,0,0,0,0,0,0,0,0,0,0,0,0]
[25,{"$f":"'データ(1)'!B30","v":0},{"$f":"'データ(1)'!C30","v":0},{"$f":"'クラス(3)'!$AF$30","v":0},{"$f":"'クラス(3)'!$AF$31","v":0},{"$f":"'クラス(3)'!$AF$32","v":0},{"$f":"'クラス(3)'!$AF$33","v":0},{"$f":"'クラス(3)'!$AF$34","v":0},{"$f":"'クラス(3)'!$AF$35","v":0},null,null,null,null,null,null,null,null,null,null,null,null,null,null,0,null,null,null,null,null,null,null,null,null,null,null,null,0,0,0,0,0,0,0,0,0,0,0,0,0,0]
[26,{"$f":"'データ(1)'!B31","v":0},{"$f":"'データ(1)'!C31","v":0},{"$f":"'クラス(3)'!$AG$30","v":0},{"$f":"'クラス(3)'!$AG$31","v":0},{"$f":"'クラス(3)'!$AG$32","v":0},{"$f":"'クラス(3)'!$AG$33","v":0},{"$f":"'クラス(3)'!$AG$34","v":0},{"$f":"'クラス(3)'!$AG$35","v":0},null,null,null,null,null,null,null,null,null,null,null,null,null,null,0,null,null,null,null,null,null,null,null,null,null,null,null,0,0,0,0,0,0,0,0,0,0,{"$f":"SUM(J31,K31,M31,N31,P31,Q31,S31)","v":0},0,0,0]
[27,{"$f":"'データ(1)'!B32","v":0},{"$f":"'データ(1)'!C32","v":0},{"$f":"'クラス(3)'!$AH$30","v":0},{"$f":"'クラス(3)'!$AH$31","v":0},{"$f":"'クラス(3)'!$AH$32","v":0},{"$f":"'クラス(3)'!$AH$33","v":0},{"$f":"'クラス(3)'!$AH$34","v":0},{"$f":"'クラス(3)'!$AH$35","v":0},null,null,null,null,null,null,null,null,null,null,null,null,null,null,0,null,null,null,null,null,null,null,null,null,null,null,null,0,0,0,0,0,0,0,0,0,0,0,0,0,0]
[28,{"$f":"'データ(1)'!B33","v":0},{"$f":"'データ(1)'!C33","v":0},{"$f":"'クラス(3)'!$AI$30","v":0},{"$f":"'クラス(3)'!$AI$31","v":0},{"$f":"'クラス(3)'!$AI$32","v":0},{"$f":"'クラス(3)'!$AI$33","v":0},{"$f":"'クラス(3)'!$AI$34","v":0},{"$f":"'クラス(3)'!$AI$35","v":0},null,null,null,null,null,null,null,null,null,null,null,null,null,null,0,null,null,null,null,null,null,null,null,null,null,null,null,0,0,0,0,0,0,0,0,0,0,0,0,0,0]
[29,{"$f":"'データ(1)'!B34","v":0},{"$f":"'データ(1)'!C34","v":0},{"$f":"'クラス(3)'!$AJ$30","v":0},{"$f":"'クラス(3)'!$AJ$31","v":0},{"$f":"'クラス(3)'!$AJ$32","v":0},{"$f":"'クラス(3)'!$AJ$33","v":0},{"$f":"'クラス(3)'!$AJ$34","v":0},{"$f":"'クラス(3)'!$AJ$35","v":0},null,null,null,null,null,null,null,null,null,null,null,null,null,null,0,null,null,null,null,null,null,null,null,null,null,null,null,0,0,0,0,0,0,0,0,0,0,0,0,0,0]
[30,{"$f":"'データ(1)'!B35","v":0},{"$f":"'データ(1)'!C35","v":0},{"$f":"'クラス(3)'!$AK$30","v":0},{"$f":"'クラス(3)'!$AK$31","v":0},{"$f":"'クラス(3)'!$AK$32","v":0},{"$f":"'クラス(3)'!$AK$33","v":0},{"$f":"'クラス(3)'!$AK$34","v":0},{"$f":"'クラス(3)'!$AK$35","v":0},null,null,null,null,null,null,null,null,null,null,null,null,null,null,0,null,null,null,null,null,null,null,null,null,null,null,null,0,0,0,0,0,0,0,0,0,0,0,0,0,0]
[31,{"$f":"'データ(1)'!B36","v":0},{"$f":"'データ(1)'!C36","v":0},{"$f":"'クラス(3)'!$AL$30","v":0},{"$f":"'クラス(3)'!$AL$31","v":0},{"$f":"'クラス(3)'!$AL$32","v":0},{"$f":"'クラス(3)'!$AL$33","v":0},{"$f":"'クラス(3)'!$AL$34","v":0},{"$f":"'クラス(3)'!$AL$35","v":0},null,null,null,null,null,null,null,null,null,null,null,null,null,null,0,null,null,null,null,null,null,null,null,null,null,null,null,0,0,0,0,0,0,0,0,0,0,0,0,0,0]
[32,{"$f":"'データ(1)'!B37","v":0},{"$f":"'データ(1)'!C37","v":0},{"$f":"'クラス(3)'!$AM$30","v":0},{"$f":"'クラス(3)'!$AM$31","v":0},{"$f":"'クラス(3)'!$AM$32","v":0},{"$f":"'クラス(3)'!$AM$33","v":0},{"$f":"'クラス(3)'!$AM$34","v":0},{"$f":"'クラス(3)'!$AM$35","v":0},null,null,null,null,null,null,null,null,null,null,null,null,null,null,0,null,null,null,null,null,null,null,null,null,null,null,null,0,0,0,0,0,0,0,0,0,0,0,0,0,0]
[33,{"$f":"'データ(1)'!B38","v":0},{"$f":"'データ(1)'!C38","v":0},{"$f":"'クラス(3)'!$AN$30","v":0},{"$f":"'クラス(3)'!$AN$31","v":0},{"$f":"'クラス(3)'!$AN$32","v":0},{"$f":"'クラス(3)'!$AN$33","v":0},{"$f":"'クラス(3)'!$AN$34","v":0},{"$f":"'クラス(3)'!$AN$35","v":0},null,null,null,null,null,null,null,null,null,null,null,null,null,null,0,null,null,null,null,null,null,null,null,null,null,null,null,0,0,0,0,0,0,0,0,0,0,0,0,0,0]
[34,{"$f":"'データ(1)'!B39","v":0},{"$f":"'データ(1)'!C39","v":0},{"$f":"'クラス(3)'!$AO$30","v":0},{"$f":"'クラス(3)'!$AO$31","v":0},{"$f":"'クラス(3)'!$AO$32","v":0},{"$f":"'クラス(3)'!$AO$33","v":0},{"$f":"'クラス(3)'!$AO$34","v":0},{"$f":"'クラス(3)'!$AO$35","v":0},null,null,null,null,null,null,null,null,null,null,null,null,null,null,0,null,null,null,null,null,null,null,null,null,null,null,null,0,0,0,0,0,0,0,0,0,0,0,0,0,0]
[35,{"$f":"'データ(1)'!B40","v":0},{"$f":"'データ(1)'!C40","v":0},{"$f":"'クラス(3)'!$AP$30","v":0},{"$f":"'クラス(3)'!$AP$31","v":0},{"$f":"'クラス(3)'!$AP$32","v":0},{"$f":"'クラス(3)'!$AP$33","v":0},{"$f":"'クラス(3)'!$AP$34","v":0},{"$f":"'クラス(3)'!$AP$35","v":0},null,null,null,null,null,null,null,null,null,null,null,null,null,null,0,null,null,null,null,null,null,null,null,null,null,null,null,0,0,0,0,0,0,0,0,0,0,0,0,0,0]
[36,{"$f":"'データ(1)'!B41","v":0},{"$f":"'データ(1)'!C41","v":0},{"$f":"'クラス(3)'!$AQ$30","v":0},{"$f":"'クラス(3)'!$AQ$31","v":0},{"$f":"'クラス(3)'!$AQ$32","v":0},{"$f":"'クラス(3)'!$AQ$33","v":0},{"$f":"'クラス(3)'!$AQ$34","v":0},{"$f":"'クラス(3)'!$AQ$35","v":0},null,null,null,null,null,null,null,null,null,null,null,null,null,null,0,null,null,null,null,null,null,null,null,null,null,null,null,0,0,0,0,0,0,0,0,0,0,0,0,0,0]
[37,{"$f":"'データ(1)'!B42","v":0},{"$f":"'データ(1)'!C42","v":0},{"$f":"'クラス(3)'!$AR$30","v":0},{"$f":"'クラス(3)'!$AR$31","v":0},{"$f":"'クラス(3)'!$AR$32","v":0},{"$f":"'クラス(3)'!$AR$33","v":0},{"$f":"'クラス(3)'!$AR$34","v":0},{"$f":"'クラス(3)'!$AR$35","v":0},null,null,null,null,null,null,null,null,null,null,null,null,null,null,0,null,null,null,null,null,null,null,null,null,null,null,null,0,0,0,0,0,0,0,0,0,0,0,0,0,0]
[38,{"$f":"'データ(1)'!B43","v":0},{"$f":"'データ(1)'!C43","v":0},{"$f":"'クラス(3)'!$AS$30","v":0},{"$f":"'クラス(3)'!$AS$31","v":0},{"$f":"'クラス(3)'!$AS$32","v":0},{"$f":"'クラス(3)'!$AS$33","v":0},{"$f":"'クラス(3)'!$AS$34","v":0},{"$f":"'クラス(3)'!$AS$35","v":0},null,null,null,null,null,null,null,null,null,null,null,null,null,null,0,null,null,null,null,null,null,null,null,null,null,null,null,0,0,0,0,0,0,0,0,0,0,0,0,0,0]
[39,{"$f":"'データ(1)'!B44","v":0},{"$f":"'データ(1)'!C44","v":0},{"$f":"'クラス(3)'!$AT$30","v":0},{"$f":"'クラス(3)'!$AT$31","v":0},{"$f":"'クラス(3)'!$AT$32","v":0},{"$f":"'クラス(3)'!$AT$33","v":0},{"$f":"'クラス(3)'!$AT$34","v":0},{"$f":"'クラス(3)'!$AT$35","v":0},null,null,null,null,null,null,null,null,null,null,null,null,null,null,0,null,null,null,null,null,null,null,null,null,null,null,null,0,0,0,0,0,0,0,0,0,0,0,0,0,0]
[40,{"$f":"'データ(1)'!B45","v":0},{"$f":"'データ(1)'!C45","v":0},{"$f":"'クラス(3)'!$AU$30","v":0},{"$f":"'クラス(3)'!$AU$31","v":0},{"$f":"'クラス(3)'!$AU$32","v":0},{"$f":"'クラス(3)'!$AU$33","v":0},{"$f":"'クラス(3)'!$AU$34","v":0},{"$f":"'クラス(3)'!$AU$35","v":0},null,null,null,null,null,null,null,null,null,null,null,null,null,null,0,null,null,null,null,null,null,null,null,null,null,null,null,0,0,0,0,0,0,0,0,0,0,0,0,0,0]
[]
[41,"男子平均","◎",{"$f":"DCOUNTA($C$5:$I$45,$D$5,'データ(3)'!B64:C65)/J53","v":{"$error":"#DIV/0!"}},{"$f":"DCOUNTA($C$5:$I$45,$D$5,'データ(3)'!D64:E65)/J53","v":{"$error":"#DIV/0!"}},{"$f":"DCOUNTA($C$5:$I$45,$D$5,'データ(3)'!F64:G65)/J53","v":{"$error":"#DIV/0!"}},{"$f":"DCOUNTA($C$5:$I$45,$D$5,'データ(3)'!H64:I65)/J53","v":{"$error":"#DIV/0!"}},{"$f":"DCOUNTA($C$5:$I$45,$D$5,'データ(3)'!J64:K65)/J53","v":{"$error":"#DIV/0!"}},{"$f":"DCOUNTA($C$5:$I$45,$D$5,'データ(3)'!L64:M65)/J53","v":{"$error":"#DIV/0!"}},{"$f":"DAVERAGE($C$5:$W$45,J$5,'データ(3)'!$D59:$E60)","v":{"$error":"#DIV/0!"}},{"$f":"DAVERAGE($C$5:$W$45,K$5,'データ(3)'!$F59:$G60)","v":{"$error":"#DIV/0!"}},{"$f":"DAVERAGE($C$5:$W$45,L$5,'データ(3)'!$H59:$I60)","v":{"$error":"#DIV/0!"}},{"$f":"DAVERAGE($C$5:$W$45,M$5,'データ(3)'!$J59:$K60)","v":{"$error":"#DIV/0!"}},{"$f":"DAVERAGE($C$5:$W$45,N$5,'データ(3)'!$L59:$M60)","v":{"$error":"#DIV/0!"}},{"$f":"DAVERAGE($C$5:$W$45,O$5,'データ(3)'!$N59:$O60)","v":{"$error":"#DIV/0!"}},{"$f":"DAVERAGE($C$5:$W$45,P$5,'データ(3)'!$P59:$Q60)","v":{"$error":"#DIV/0!"}},{"$f":"DAVERAGE($C$5:$W$45,Q$5,'データ(3)'!$R59:$S60)","v":{"$error":"#DIV/0!"}},{"$f":"DAVERAGE($C$5:$W$45,R$5,'データ(3)'!$T59:$U60)","v":{"$error":"#DIV/0!"}},{"$f":"DAVERAGE($C$5:$W$45,S$5,'データ(3)'!$W59:$X60)","v":{"$error":"#DIV/0!"}},{"$f":"DAVERAGE($C$5:$W$45,T$5,'データ(3)'!$Y59:$Z60)","v":{"$error":"#DIV/0!"}},{"$f":"DAVERAGE($C$5:$W$45,U$5,'データ(3)'!$AA59:$AB60)","v":{"$error":"#DIV/0!"}},{"$f":"DAVERAGE($C$5:$W$45,V$5,'データ(3)'!$AC59:$AD60)","v":{"$error":"#DIV/0!"}},{"$f":"DAVERAGE($C$5:$W$45,W$5,'データ(3)'!$AE59:$AF60)","v":{"$error":"#DIV/0!"}},null,{"$f":"DAVERAGE($X$5:$AJ$45,Y$5,'データ(3)'!$D59:$E60)","v":{"$error":"#DIV/0!"}},{"$f":"DAVERAGE($X$5:$AJ$45,Z$5,'データ(3)'!$F59:$G60)","v":{"$error":"#DIV/0!"}},{"$f":"DAVERAGE($X$5:$AJ$45,AA$5,'データ(3)'!$H59:$I60)","v":{"$error":"#DIV/0!"}},{"$f":"DAVERAGE($X$5:$AJ$45,AB$5,'データ(3)'!$J59:$K60)","v":{"$error":"#DIV/0!"}},{"$f":"DAVERAGE($X$5:$AJ$45,AC$5,'データ(3)'!$L59:$M60)","v":{"$error":"#DIV/0!"}},{"$f":"DAVERAGE($X$5:$AJ$45,AD$5,'データ(3)'!$N59:$O60)","v":{"$error":"#DIV/0!"}},{"$f":"DAVERAGE($X$5:$AJ$45,AE$5,'データ(3)'!$P59:$Q60)","v":{"$error":"#DIV/0!"}},{"$f":"DAVERAGE($X$5:$AJ$45,AF$5,'データ(3)'!$R59:$S60)","v":{"$error":"#DIV/0!"}},{"$f":"DAVERAGE($X$5:$AJ$45,AG$5,'データ(3)'!$T59:$U60)","v":{"$error":"#DIV/0!"}},{"$f":"DAVERAGE($X$5:$AJ$45,AH$5,'データ(3)'!$W59:$X60)","v":{"$error":"#DIV/0!"}},{"$f":"DAVERAGE($X$5:$AJ$45,AI$5,'データ(3)'!$Y59:$Z60)","v":{"$error":"#DIV/0!"}},{"$f":"DAVERAGE($X$5:$AJ$45,AJ$5,'データ(3)'!$AA59:$AB60)","v":{"$error":"#DIV/0!"}},{"$f":"DAVERAGE($A$3:$AU$45,$AK$3,'データ(3)'!$B$59:$C60)/7","v":{"$error":"#DIV/0!"}},{"$f":"DAVERAGE($A$3:$AU$45,$AL$3,'データ(3)'!$B$59:$C60)/12","v":{"$error":"#DIV/0!"}},{"$f":"AVERAGEIFS(AM$6:AM$45, $C$6:$C$45, \"男\", $T$6:$T$45, \"<>\", $U$6:$U$45, \"<>\", $V$6:$V$45, \"<>\", $W$6:$W$45, \"<>\")","v":{"$error":"#DIV/0!"}},{"$f":"AVERAGEIFS(AN$6:AN$45, $C$6:$C$45, \"男\", $L$6:$L$45, \"<>\", $O$6:$O$45, \"<>\", $R$6:$R$45, \"<>\")","v":{"$error":"#DIV/0!"}},{"$f":"AVERAGEIFS(AO$6:AO$45, $C$6:$C$45, \"男\", $Z$6:$Z$45, \"<>\", $AA$6:$AA$45, \"<>\", $AD$6:$AD$45, \"<>\", $AI$6:$AI$45, \"<>\")","v":{"$error":"#DIV/0!"}},{"$f":"AVERAGEIFS(AP$6:AP$45, $C$6:$C$45, \"男\", $J$6:$J$45, \"<>\", $K$6:$K$45, \"<>\", $Q$6:$Q$45, \"<>\", $S$6:$S$45, \"<>\")","v":{"$error":"#DIV/0!"}},{"$f":"AVERAGEIFS(AQ$6:AQ$45, $C$6:$C$45, \"男\", $M$6:$M$45, \"<>\", $N$6:$N$45, \"<>\", $P$6:$P$45, \"<>\")","v":{"$error":"#DIV/0!"}},{"$f":"AVERAGEIFS(AR$6:AR$45, $C$6:$C$45, \"男\", $Y$6:$Y$45, \"<>\", $Z$6:$Z$45, \"<>\", $AB$6:$AB$45, \"<>\", $AC$6:$AC$45, \"<>\", $AF$6:$AF$45, \"<>\", $AI$6:$AI$45, \"<>\")","v":{"$error":"#DIV/0!"}},{"$f":"AVERAGEIFS(AS$6:AS$45, $C$6:$C$45, \"男\", $AA$6:$AA$45, \"<>\", $AD$6:$AD$45, \"<>\", $AE$6:$AE$45, \"<>\", $AG$6:$AG$45, \"<>\", $AH$6:$AH$45, \"<>\", $AJ$6:$AJ$45, \"<>\")","v":{"$error":"#DIV/0!"}},{"$f":"AVERAGEIFS(AT$6:AT$45, $C$6:$C$45, \"男\", $Y$6:$Y$45, \"<>\", $Z$6:$Z$45, \"<>\", $AA$6:$AA$45, \"<>\", $AB$6:$AB$45, \"<>\", $AC$6:$AC$45, \"<>\", $AD$6:$AD$45, \"<>\", $AE$6:$AE$45, \"<>\", $AF$6:$AF$45, \"<>\", $AG$6:$AG$45, \"<>\", $AH$6:$AH$45, \"<>\", $AI$6:$AI$45, \"<>\", $AJ$6:$AJ$45, \"<>\")","v":{"$error":"#DIV/0!"}},{"$f":"AVERAGEIFS(AU$6:AU$45, $C$6:$C$45, \"男\", $J$6:$J$45, \"<>\", $K$6:$K$45, \"<>\", $M$6:$M$45, \"<>\", $N$6:$N$45, \"<>\", $P$6:$P$45, \"<>\", $Q$6:$Q$45, \"<>\", $S$6:$S$45, \"<>\")","v":{"$error":"#DIV/0!"}}]
[null,null,"△",{"$f":"DCOUNTA($C$5:$I$45,$D$5,'データ(3)'!B68:C69)/J53","v":{"$error":"#DIV/0!"}},{"$f":"DCOUNTA($C$5:$I$45,$D$5,'データ(3)'!D68:E69)/J53","v":{"$error":"#DIV/0!"}},{"$f":"DCOUNTA($C$5:$I$45,$D$5,'データ(3)'!F68:G69)/J53","v":{"$error":"#DIV/0!"}},{"$f":"DCOUNTA($C$5:$I$45,$D$5,'データ(3)'!H68:I69)/J53","v":{"$error":"#DIV/0!"}},{"$f":"DCOUNTA($C$5:$I$45,$D$5,'データ(3)'!J68:K69)/J53","v":{"$error":"#DIV/0!"}},{"$f":"DCOUNTA($C$5:$I$45,$D$5,'データ(3)'!L68:M69)/J53","v":{"$error":"#DIV/0!"}}]
[42,"女子平均","◎",{"$f":"DCOUNTA($C$5:$I$45,$D$5,'データ(3)'!B66:C67)/J53","v":{"$error":"#DIV/0!"}},{"$f":"DCOUNTA($C$5:$I$45,$D$5,'データ(3)'!D66:E67)/J53","v":{"$error":"#DIV/0!"}},{"$f":"DCOUNTA($C$5:$I$45,$D$5,'データ(3)'!F66:G67)/J53","v":{"$error":"#DIV/0!"}},{"$f":"DCOUNTA($C$5:$I$45,$D$5,'データ(3)'!H66:I67)/J53","v":{"$error":"#DIV/0!"}},{"$f":"DCOUNTA($C$5:$I$45,$D$5,'データ(3)'!J66:K67)/J53","v":{"$error":"#DIV/0!"}},{"$f":"DCOUNTA($C$5:$I$45,$D$5,'データ(3)'!L66:M67)/J53","v":{"$error":"#DIV/0!"}},{"$f":"DAVERAGE($C$5:$W$45,J$5,'データ(3)'!$D61:$E62)","v":{"$error":"#DIV/0!"}},{"$f":"DAVERAGE($C$5:$W$45,K$5,'データ(3)'!$F61:$G62)","v":{"$error":"#DIV/0!"}},{"$f":"DAVERAGE($C$5:$W$45,L$5,'データ(3)'!$H61:$I62)","v":{"$error":"#DIV/0!"}},{"$f":"DAVERAGE($C$5:$W$45,M$5,'データ(3)'!$J61:$K62)","v":{"$error":"#DIV/0!"}},{"$f":"DAVERAGE($C$5:$W$45,N$5,'データ(3)'!$L61:$M62)","v":{"$error":"#DIV/0!"}},{"$f":"DAVERAGE($C$5:$W$45,O$5,'データ(3)'!$N61:$O62)","v":{"$error":"#DIV/0!"}},{"$f":"DAVERAGE($C$5:$W$45,P$5,'データ(3)'!$P61:$Q62)","v":{"$error":"#DIV/0!"}},{"$f":"DAVERAGE($C$5:$W$45,Q$5,'データ(3)'!$R61:$S62)","v":{"$error":"#DIV/0!"}},{"$f":"DAVERAGE($C$5:$W$45,R$5,'データ(3)'!$T61:$U62)","v":{"$error":"#DIV/0!"}},{"$f":"DAVERAGE($C$5:$W$45,S$5,'データ(3)'!$W61:$X62)","v":{"$error":"#DIV/0!"}},{"$f":"DAVERAGE($C$5:$W$45,T$5,'データ(3)'!$Y61:$Z62)","v":{"$error":"#DIV/0!"}},{"$f":"DAVERAGE($C$5:$W$45,U$5,'データ(3)'!$AA61:$AB62)","v":{"$error":"#DIV/0!"}},{"$f":"DAVERAGE($C$5:$W$45,V$5,'データ(3)'!$AC61:$AD62)","v":{"$error":"#DIV/0!"}},{"$f":"DAVERAGE($C$5:$W$45,W$5,'データ(3)'!$AE61:$AF62)","v":{"$error":"#DIV/0!"}},null,{"$f":"DAVERAGE($X$5:$AJ$45,Y$5,'データ(3)'!$D61:$E62)","v":{"$error":"#DIV/0!"}},{"$f":"DAVERAGE($X$5:$AJ$45,Z$5,'データ(3)'!$F61:$G62)","v":{"$error":"#DIV/0!"}},{"$f":"DAVERAGE($X$5:$AJ$45,AA$5,'データ(3)'!$H61:$I62)","v":{"$error":"#DIV/0!"}},{"$f":"DAVERAGE($X$5:$AJ$45,AB$5,'データ(3)'!$J61:$K62)","v":{"$error":"#DIV/0!"}},{"$f":"DAVERAGE($X$5:$AJ$45,AC$5,'データ(3)'!$L61:$M62)","v":{"$error":"#DIV/0!"}},{"$f":"DAVERAGE($X$5:$AJ$45,AD$5,'データ(3)'!$N61:$O62)","v":{"$error":"#DIV/0!"}},{"$f":"DAVERAGE($X$5:$AJ$45,AE$5,'データ(3)'!$P61:$Q62)","v":{"$error":"#DIV/0!"}},{"$f":"DAVERAGE($X$5:$AJ$45,AF$5,'データ(3)'!$R61:$S62)","v":{"$error":"#DIV/0!"}},{"$f":"DAVERAGE($X$5:$AJ$45,AG$5,'データ(3)'!$T61:$U62)","v":{"$error":"#DIV/0!"}},{"$f":"DAVERAGE($X$5:$AJ$45,AH$5,'データ(3)'!$W61:$X62)","v":{"$error":"#DIV/0!"}},{"$f":"DAVERAGE($X$5:$AJ$45,AI$5,'データ(3)'!$Y61:$Z62)","v":{"$error":"#DIV/0!"}},{"$f":"DAVERAGE($X$5:$AJ$45,AJ$5,'データ(3)'!$AA61:$AB62)","v":{"$error":"#DIV/0!"}},{"$f":"DAVERAGE($A$3:$AU$45,$AK$3,'データ(3)'!$B$61:$C62)/7","v":{"$error":"#DIV/0!"}},{"$f":"DAVERAGE($A$3:$AU$45,$AL$3,'データ(3)'!$B$61:$C62)/12","v":{"$error":"#DIV/0!"}},{"$f":"AVERAGEIFS(AM$6:AM$45, $C$6:$C$45, \"女\", $T$6:$T$45, \"<>\", $U$6:$U$45, \"<>\", $V$6:$V$45, \"<>\", $W$6:$W$45, \"<>\")","v":{"$error":"#DIV/0!"}},{"$f":"AVERAGEIFS(AN$6:AN$45, $C$6:$C$45, \"女\", $L$6:$L$45, \"<>\", $O$6:$O$45, \"<>\", $R$6:$R$45, \"<>\")","v":{"$error":"#DIV/0!"}},{"$f":"AVERAGEIFS(AO$6:AO$45, $C$6:$C$45, \"女\", $Z$6:$Z$45, \"<>\", $AA$6:$AA$45, \"<>\", $AD$6:$AD$45, \"<>\", $AI$6:$AI$45, \"<>\")","v":{"$error":"#DIV/0!"}},{"$f":"AVERAGEIFS(AP$6:AP$45, $C$6:$C$45, \"女\", $J$6:$J$45, \"<>\", $K$6:$K$45, \"<>\", $Q$6:$Q$45, \"<>\", $S$6:$S$45, \"<>\")","v":{"$error":"#DIV/0!"}},{"$f":"AVERAGEIFS(AQ$6:AQ$45, $C$6:$C$45, \"女\", $M$6:$M$45, \"<>\", $N$6:$N$45, \"<>\", $P$6:$P$45, \"<>\")","v":{"$error":"#DIV/0!"}},{"$f":"AVERAGEIFS(AR$6:AR$45, $C$6:$C$45, \"女\", $Y$6:$Y$45, \"<>\", $Z$6:$Z$45, \"<>\", $AB$6:$AB$45, \"<>\", $AC$6:$AC$45, \"<>\", $AF$6:$AF$45, \"<>\", $AI$6:$AI$45, \"<>\")","v":{"$error":"#DIV/0!"}},{"$f":"AVERAGEIFS(AS$6:AS$45, $C$6:$C$45, \"女\", $AA$6:$AA$45, \"<>\", $AD$6:$AD$45, \"<>\", $AE$6:$AE$45, \"<>\", $AG$6:$AG$45, \"<>\", $AH$6:$AH$45, \"<>\", $AJ$6:$AJ$45, \"<>\")","v":{"$error":"#DIV/0!"}},{"$f":"AVERAGEIFS(AT$6:AT$45, $C$6:$C$45, \"女\", $Y$6:$Y$45, \"<>\", $Z$6:$Z$45, \"<>\", $AA$6:$AA$45, \"<>\", $AB$6:$AB$45, \"<>\", $AC$6:$AC$45, \"<>\", $AD$6:$AD$45, \"<>\", $AE$6:$AE$45, \"<>\", $AF$6:$AF$45, \"<>\", $AG$6:$AG$45, \"<>\", $AH$6:$AH$45, \"<>\", $AI$6:$AI$45, \"<>\", $AJ$6:$AJ$45, \"<>\")","v":{"$error":"#DIV/0!"}},{"$f":"AVERAGEIFS(AU$6:AU$45, $C$6:$C$45, \"女\", $J$6:$J$45, \"<>\", $K$6:$K$45, \"<>\", $M$6:$M$45, \"<>\", $N$6:$N$45, \"<>\", $P$6:$P$45, \"<>\", $Q$6:$Q$45, \"<>\", $S$6:$S$45, \"<>\")","v":{"$error":"#DIV/0!"}}]
[null,null,"△",{"$f":"DCOUNTA($C$5:$I$45,$D$5,'データ(3)'!B70:C71)/J53","v":{"$error":"#DIV/0!"}},{"$f":"DCOUNTA($C$5:$I$45,$D$5,'データ(3)'!D70:E71)/J53","v":{"$error":"#DIV/0!"}},{"$f":"DCOUNTA($C$5:$I$45,$D$5,'データ(3)'!F70:G71)/J53","v":{"$error":"#DIV/0!"}},{"$f":"DCOUNTA($C$5:$I$45,$D$5,'データ(3)'!H70:I71)/J53","v":{"$error":"#DIV/0!"}},{"$f":"DCOUNTA($C$5:$I$45,$D$5,'データ(3)'!J70:K71)/J53","v":{"$error":"#DIV/0!"}},{"$f":"DCOUNTA($C$5:$I$45,$D$5,'データ(3)'!L70:M71)/J53","v":{"$error":"#DIV/0!"}}]
[43,"全体平均","◎",{"$f":"COUNTIF(D$6:D$45,\"◎\")/J53","v":{"$error":"#DIV/0!"}},{"$f":"COUNTIF(E$6:E$45,\"◎\")/J53","v":{"$error":"#DIV/0!"}},{"$f":"COUNTIF(F$6:F$45,\"◎\")/J53","v":{"$error":"#DIV/0!"}},{"$f":"COUNTIF(G$6:G$45,\"◎\")/J53","v":{"$error":"#DIV/0!"}},{"$f":"COUNTIF(H$6:H$45,\"◎\")/J53","v":{"$error":"#DIV/0!"}},{"$f":"COUNTIF(I$6:I$45,\"◎\")/J53","v":{"$error":"#DIV/0!"}},{"$f":"AVERAGE(J6:J45)","v":{"$error":"#DIV/0!"}},{"$error":"#DIV/0!"},{"$error":"#DIV/0!"},{"$error":"#DIV/0!"},{"$error":"#DIV/0!"},{"$error":"#DIV/0!"},{"$error":"#DIV/0!"},{"$error":"#DIV/0!"},{"$error":"#DIV/0!"},{"$error":"#DIV/0!"},{"$f":"AVERAGE(T6:T45)","v":{"$error":"#DIV/0!"}},{"$error":"#DIV/0!"},{"$f":"AVERAGE(V6:V45)","v":{"$error":"#DIV/0!"}},{"$f":"AVERAGE(W6:W45)","v":{"$error":"#DIV/0!"}},null,{"$error":"#DIV/0!"},{"$f":"AVERAGE(Z6:Z45)","v":{"$error":"#DIV/0!"}},{"$error":"#DIV/0!"},{"$error":"#DIV/0!"},{"$error":"#DIV/0!"},{"$error":"#DIV/0!"},{"$error":"#DIV/0!"},{"$error":"#DIV/0!"},{"$error":"#DIV/0!"},{"$error":"#DIV/0!"},{"$error":"#DIV/0!"},{"$error":"#DIV/0!"},{"$f":"AK53/$J$53/7","v":{"$error":"#DIV/0!"}},{"$f":"AL53/$J$53/12","v":{"$error":"#DIV/0!"}},{"$f":"AVERAGEIFS(AM$6:AM$45, $T$6:$T$45, \"<>\", $U$6:$U$45, \"<>\", $V$6:$V$45, \"<>\", $W$6:$W$45, \"<>\")","v":{"$error":"#DIV/0!"}},{"$f":"AVERAGEIFS(AN$6:AN$45, $L$6:$L$45, \"<>\", $O$6:$O$45, \"<>\", $R$6:$R$45, \"<>\")","v":{"$error":"#DIV/0!"}},{"$f":"AVERAGEIFS(AO$6:AO$45, $Z$6:$Z$45, \"<>\", $AA$6:$AA$45, \"<>\", $AD$6:$AD$45, \"<>\", $AI$6:$AI$45, \"<>\")","v":{"$error":"#DIV/0!"}},{"$f":"AVERAGEIFS(AP$6:AP$45, $J$6:$J$45, \"<>\", $K$6:$K$45, \"<>\", $Q$6:$Q$45, \"<>\", $S$6:$S$45, \"<>\")","v":{"$error":"#DIV/0!"}},{"$f":"AVERAGEIFS(AQ$6:AQ$45, $M$6:$M$45, \"<>\", $N$6:$N$45, \"<>\", $P$6:$P$45, \"<>\")","v":{"$error":"#DIV/0!"}},{"$f":"AVERAGEIFS(AR$6:AR$45, $Y$6:$Y$45, \"<>\", $Z$6:$Z$45, \"<>\", $AB$6:$AB$45, \"<>\", $AC$6:$AC$45, \"<>\", $AF$6:$AF$45, \"<>\", $AI$6:$AI$45, \"<>\")","v":{"$error":"#DIV/0!"}},{"$f":"AVERAGEIFS(AS$6:AS$45, $AA$6:$AA$45, \"<>\", $AD$6:$AD$45, \"<>\", $AE$6:$AE$45, \"<>\", $AG$6:$AG$45, \"<>\", $AH$6:$AH$45, \"<>\", $AJ$6:$AJ$45, \"<>\")","v":{"$error":"#DIV/0!"}},{"$f":"AVERAGEIFS(AT$6:AT$45, $Y$6:$Y$45, \"<>\", $Z$6:$Z$45, \"<>\", $AA$6:$AA$45, \"<>\", $AB$6:$AB$45, \"<>\", $AC$6:$AC$45, \"<>\", $AD$6:$AD$45, \"<>\", $AE$6:$AE$45, \"<>\", $AF$6:$AF$45, \"<>\", $AG$6:$AG$45, \"<>\", $AH$6:$AH$45, \"<>\", $AI$6:$AI$45, \"<>\", $AJ$6:$AJ$45, \"<>\")","v":{"$error":"#DIV/0!"}},{"$f":"AVERAGEIFS(AU$6:AU$45, $J$6:$J$45, \"<>\", $K$6:$K$45, \"<>\", $M$6:$M$45, \"<>\", $N$6:$N$45, \"<>\", $P$6:$P$45, \"<>\", $Q$6:$Q$45, \"<>\", $S$6:$S$45, \"<>\")","v":{"$error":"#DIV/0!"}}]
[null,null,"△",{"$f":"COUNTIF(D$6:D$45,\"△\")/J53","v":{"$error":"#DIV/0!"}},{"$f":"COUNTIF(E$6:E$45,\"△\")/J53","v":{"$error":"#DIV/0!"}},{"$f":"COUNTIF(F$6:F$45,\"△\")/J53","v":{"$error":"#DIV/0!"}},{"$f":"COUNTIF(G$6:G$45,\"△\")/J53","v":{"$error":"#DIV/0!"}},{"$f":"COUNTIF(H$6:H$45,\"△\")/J53","v":{"$error":"#DIV/0!"}},{"$f":"COUNTIF(I$6:I$45,\"△\")/J53","v":{"$error":"#DIV/0!"}},null,null,null,null,null,null,null,null,null,null,null,null,null,null,null,null,null,null,null,null,null,null,null,null,null,null,null,null,null,null,null,null,null,null,null,null,null,null,{"$f":"SUM(AV6:AV45)","v":0},{"$f":"SUM(AW6:AW45)","v":0},{"$f":"SUM(AX6:AX45)","v":0}]
[null,null,null,null,null,null,null,null,null,{"$f":"COUNTA(J6:J45)","v":0},null,null,null,null,null,null,null,null,null,null,null,null,null,null,null,null,null,null,null,null,null,null,"全体合計",null,null,null,{"$f":"SUM(AK6:AK45)","v":0},0,0,0,0,0,0,0,0,0,0]
[]
[]
[]
[]
[]
[null,"性別","自分づくり","性別","１","性別","２","性別","３","性別","４","性別","５","性別","６","性別","７","性別","８","性別","９",null,"性別","１０","性別","１１","性別","１２","性別","１３","性別","１４"]
[null,"男",">=7","男",">=1","男",">=1","男",">=1","男",">=1","男",">=1","男",">=1","男",">=1","男",">=1","男",">=1",null,"男",">=1","男",">=1","男",">=1","男",">=1","男",">=1"]
[null,"性別","自分づくり","性別","１","性別","２","性別","３","性別","４","性別","５","性別","６","性別","７","性別","８","性別","９",null,"性別","１０","性別","１１","性別","１２","性別","１３","性別","１４"]
[null,"女",">=7","女",">=1","女",">=1","女",">=1","女",">=1","女",">=1","女",">=1","女",">=1","女",">=1","女",">=1",null,"女",">=1","女",">=1","女",">=1","女",">=1","女",">=1"]
[]
[null,"性別","寛容","性別","公正","性別","集団維持","性別","共感性","性別","課題遂行","性別","合意形成"]
[null,"男","◎","男","◎","男","◎","男","◎","男","◎","男","◎"]
[null,"性別","寛容","性別","公正","性別","集団維持","性別","共感性","性別","課題遂行","性別","合意形成"]
[null,"女","◎","女","◎","女","◎","女","◎","女","◎","女","◎"]
[null,"性別","寛容","性別","公正","性別","集団維持","性別","共感性","性別","課題遂行","性別","合意形成"]
[null,"男","△","男","△","男","△","男","△","男","△","男","△"]
[null,"性別","寛容","性別","公正","性別","集団維持","性別","共感性","性別","課題遂行","性別","合意形成"]
[null,"女","△","女","△","女","△","女","△","女","△","女","△"]

{"sheet":"クラス(1)","index":4,"n_rows":37,"n_cols":48,"rows_kept":37,"cut":false,"hidden":false,"merged":[[5,3,8,3],[9,1,12,1],[9,3,12,3],[2,0,2,5],[4,0,4,1],[5,5,8,5],[5,0,12,0],[5,1,8,1],[13,0,20,0],[13,1,16,1],[13,3,16,3],[17,1,20,1],[17,3,20,3],[36,0,48,46],[21,0,28,0],[21,1,24,1],[21,3,24,3],[25,1,28,1],[25,3,28,3],[25,5,28,5],[17,5,20,5],[21,5,24,5],[9,5,12,5],[13,5,16,5],[0,37,0,39],[0,40,0,46],[1,0,1,1],[0,15,0,18],[0,19,0,22],[0,24,0,27],[0,0,0,5],[1,3,1,5],[0,29,0,32],[1,15,1,21]]}
["学級風土チェックまとめシート",null,null,null,null,null,null,null,null,null,null,null,null,null,null,"観察者①",null,null,null,null,null,null,null,"②",null,null,null,null,"③",null,null,null,null,null,null,null,null,"実施日　　　"]
["1回目",null,null,null,null,null,null,"◎","：十分に達成している",null,null,null,null,null,"△","：困り感がある、または課題がある",null,null,null,null,null,null,"無印　：学級の全体的印象は、おおむね達成。子どもについては、思い浮かばない。",null,null,null,null,null,null,null,null,null,null,null,null,null,null,null,null,null,null,null,null,null,null,null,null,{"$f":"$H$2","v":"◎"}]
["学級風土の状況",null,null,null,null,null,null,1,{"$f":"H3+1","v":2},{"$f":"I3+1","v":3},4,5,6,7,8,9,10,11,12,13,14,15,16,17,18,19,20,21,22,23,24,25,26,27,28,29,30,31,32,33,34,35,36,37,38,39,40,{"$f":"$O$2","v":"△"}]
[null,null,null,null,null,null,null,{"$f":"\"B\"& (H3+4)","v":"B5"},{"$f":"\"B\"& (I3+4)","v":"B6"},"B7","B8","B9","B10","B11","B12","B13","B14","B15","B16","B17","B18","B19","B20","B21","B22","B23","B24","B25","B26","B27","B28","B29","B30","B31","B32","B33","B34","B35","B36","B37","B38","B39","B40","B41","B42","B43","B44"]
["観察の視点",null,"観察者",{"$f":"風土説明!$C1","v":"具体の視点\n◎～△印"},null,{"$f":"風土説明!$D1","v":"社会的スキルと関連づけた観点\n◎～△印"},"学級の全般的印象",{"$f":"'データ(1)'!$B$6","v":0},{"$f":"'データ(1)'!$B$7","v":0},{"$f":"'データ(1)'!$B$8","v":0},{"$f":"'データ(1)'!$B$9","v":0},{"$f":"'データ(1)'!$B$10","v":0},{"$f":"'データ(1)'!$B$11","v":0},{"$f":"'データ(1)'!$B$12","v":0},{"$f":"'データ(1)'!$B$13","v":0},{"$f":"'データ(1)'!$B$14","v":0},{"$f":"'データ(1)'!$B$15","v":0},{"$f":"'データ(1)'!$B$16","v":0},{"$f":"'データ(1)'!$B$17","v":0},{"$f":"'データ(1)'!$B$18","v":0},{"$f":"'データ(1)'!$B$19","v":0},{"$f":"'データ(1)'!$B$20","v":0},{"$f":"'データ(1)'!$B$21","v":0},{"$f":"'データ(1)'!$B$22","v":0},{"$f":"'データ(1)'!$B$23","v":0},{"$f":"'データ(1)'!$B$24","v":0},{"$f":"'データ(1)'!$B$25","v":0},{"$f":"'データ(1)'!$B$26","v":0},{"$f":"'データ(1)'!$B$27","v":0},{"$f":"'データ(1)'!$B$28","v":0},{"$f":"'データ(1)'!$B$29","v":0},{"$f":"'データ(1)'!$B$30","v":0},{"$f":"'データ(1)'!$B$31","v":0},{"$f":"'データ(1)'!$B$32","v":0},{"$f":"'データ(1)'!$B$33","v":0},{"$f":"'データ(1)'!$B$34","v":0},{"$f":"'データ(1)'!$B$35","v":0},{"$f":"'データ(1)'!$B$36","v":0},{"$f":"'データ(1)'!$B$37","v":0},{"$f":"'データ(1)'!$B$38","v":0},{"$f":"'データ(1)'!$B$39","v":0},{"$f":"'データ(1)'!$B$40","v":0},{"$f":"'データ(1)'!$B$41","v":0},{"$f":"'データ(1)'!$B$42","v":0},{"$f":"'データ(1)'!$B$43","v":0},{"$f":"'データ(1)'!$B$44","v":0},{"$f":"'データ(1)'!$B$45","v":0}]
["自\n分\nづ\nく\nり",{"$f":"風土説明!$B2","v":"Ａ\n公正\n（自己効力感）"},"①",{"$f":"風土説明!$C2","v":"よいことはよい、悪いことは悪いと言える雰囲気がある"},1,{"$f":"風土説明!$D2","v":"場の雰囲気や人の意見に流されず、自分の意見や感じ方を表明できる（①②）"}]
[null,{"$f":"風土説明!#REF!","v":{"$error":"#REF!"}},"②",{"$f":"風土説明!#REF!","v":{"$error":"#REF!"}},2,{"$f":"風土説明!#REF!","v":{"$error":"#REF!"}}]
[null,{"$f":"風土説明!$C3","v":"失敗や意見の違いを温かく認め、包み込んでいこうとする雰囲気がある"},"③",{"$f":"風土説明!$C3","v":"失敗や意見の違いを温かく認め、包み込んでいこうとする雰囲気がある"},3,{"$f":"風土説明!$C3","v":"失敗や意見の違いを温かく認め、包み込んでいこうとする雰囲気がある"}]
[null,{"$f":"風土説明!#REF!","v":{"$error":"#REF!"}},"まとめ",{"$f":"風土説明!#REF!","v":{"$error":"#REF!"}},null,{"$f":"風土説明!#REF!","v":{"$error":"#REF!"}}]
[null,{"$f":"風土説明!$B3","v":"Ｂ\n寛容\n（自尊感情）"},"①",{"$f":"風土説明!$C3","v":"失敗や意見の違いを温かく認め、包み込んでいこうとする雰囲気がある"},1,{"$f":"風土説明!$D3","v":"互いのよさや違いを認め、尊重していこうとする（③④）"}]
[null,{"$f":"風土説明!#REF!","v":{"$error":"#REF!"}},"②",{"$f":"風土説明!#REF!","v":{"$error":"#REF!"}},2,{"$f":"風土説明!#REF!","v":{"$error":"#REF!"}}]
[null,{"$f":"風土説明!$C7","v":"意見や感情の違いを認めながら、集団の意見をまとめようとする"},"③",{"$f":"風土説明!$C7","v":"意見や感情の違いを認めながら、集団の意見をまとめようとする"},3,{"$f":"風土説明!$C7","v":"意見や感情の違いを認めながら、集団の意見をまとめようとする"}]
[null,{"$f":"風土説明!#REF!","v":{"$error":"#REF!"}},"まとめ",{"$f":"風土説明!#REF!","v":{"$error":"#REF!"}},null,{"$f":"風土説明!#REF!","v":{"$error":"#REF!"}}]
["仲\n間\nづ\nく\nり",{"$f":"風土説明!$B4","v":"Ｃ\n自己表現\n（含かかわり）"},"①",{"$f":"風土説明!$C4","v":"率直かつ適切な意志の伝達や感情交流がある"},1,{"$f":"風土説明!$D4","v":"友達との明快なコミュニケーションがとれる（⑤～⑪）"}]
[null,{"$f":"風土説明!$C13","v":0},"②",{"$f":"風土説明!$C13","v":0},2,{"$f":"風土説明!$C13","v":0}]
[null,{"$f":"風土説明!$C14","v":0},"③",{"$f":"風土説明!$C14","v":0},3,{"$f":"風土説明!$C14","v":0}]
[null,{"$f":"風土説明!$C15","v":0},"まとめ",{"$f":"風土説明!$C15","v":0},null,{"$f":"風土説明!$C15","v":0}]
[null,{"$f":"風土説明!$B5","v":"Ｄ\n配慮"},"①",{"$f":"風土説明!$C5","v":"思いやりのある言動・行動が自然に現れる"},1,{"$f":"風土説明!$D5","v":"友達の気持ちを推しはかって行動ができる（⑫～⑯）"}]
[null,{"$f":"風土説明!$C21","v":0},"②",{"$f":"風土説明!$C21","v":0},2,{"$f":"風土説明!$C21","v":0}]
[null,{"$f":"風土説明!$C22","v":0},"③",{"$f":"風土説明!$C22","v":0},3,{"$f":"風土説明!$C22","v":0}]
[null,{"$f":"風土説明!$C23","v":0},"まとめ",{"$f":"風土説明!$C23","v":0},null,{"$f":"風土説明!$C23","v":0}]
["集\n団\nづ\nく\nり",{"$f":"風土説明!$B6","v":"Ｅ\n課題遂行"},"①",{"$f":"風土説明!$C6","v":"グループの目的や課題解決に意欲をもつ"},1,{"$f":"風土説明!$D6","v":"集団の課題・目標を達成するために話し合いを進めている（⑱）"}]
[null,{"$f":"風土説明!$C29","v":0},"②",{"$f":"風土説明!$C29","v":0},2,{"$f":"風土説明!$C29","v":0}]
[null,{"$f":"風土説明!$C30","v":0},"③",{"$f":"風土説明!$C30","v":0},3,{"$f":"風土説明!$C30","v":0}]
[null,{"$f":"風土説明!$C31","v":0},"まとめ",{"$f":"風土説明!$C31","v":0},null,{"$f":"風土説明!$C31","v":0}]
[null,{"$f":"風土説明!$B7","v":"Ｆ\n合意形成"},"①",{"$f":"風土説明!$C7","v":"意見や感情の違いを認めながら、集団の意見をまとめようとする"},1,{"$f":"風土説明!$D7","v":"みんなの意見を上手に取り入れて話し合いの調整をしている（⑰）"}]
[null,{"$f":"風土説明!$C37","v":0},"②",{"$f":"風土説明!$C37","v":0},2,{"$f":"風土説明!$C37","v":0}]
[null,{"$f":"風土説明!$C38","v":0},"③",{"$f":"風土説明!$C38","v":0},3,{"$f":"風土説明!$C38","v":0}]
[null,{"$f":"風土説明!$C39","v":0},"まとめ",{"$f":"風土説明!$C39","v":0},null,{"$f":"風土説明!$C39","v":0}]
[null,null,null,null,null,1,null,{"$f":"H$9","v":0},{"$f":"I$9","v":0},0,0,0,0,0,0,0,0,0,0,0,0,0,0,0,0,0,0,0,0,0,0,0,0,0,0,0,0,0,0,0,0,0,0,0,0,0,0]
[null,null,null,null,null,2,null,{"$f":"H$13","v":0},{"$f":"I$13","v":0},0,0,0,0,0,0,0,0,0,0,0,0,0,0,0,0,0,0,0,0,0,0,0,0,0,0,0,0,0,0,0,0,0,0,0,0,0,0]
[null,null,null,null,null,3,null,{"$f":"H$17","v":0},{"$f":"I$17","v":0},0,0,0,0,0,0,0,0,0,0,0,0,0,0,0,0,0,0,0,0,0,0,0,0,0,0,0,0,0,0,0,0,0,0,0,0,0,0]
[null,null,null,null,null,4,null,{"$f":"H$21","v":0},{"$f":"I$21","v":0},0,0,0,0,0,0,0,0,0,0,0,0,0,0,0,0,0,0,0,0,0,0,0,0,0,0,0,0,0,0,0,0,0,0,0,0,0,0]
[null,null,null,null,null,5,null,{"$f":"H$25","v":0},{"$f":"I$25","v":0},0,0,0,0,0,0,0,0,0,0,0,0,0,0,0,0,0,0,0,0,0,0,0,0,0,0,0,0,0,0,0,0,0,0,0,0,0,0]
[null,null,null,null,null,6,null,{"$f":"H$29","v":0},{"$f":"I$29","v":0},0,0,0,0,0,0,0,0,0,0,0,0,0,0,0,0,0,0,0,0,0,0,0,0,0,0,0,0,0,0,0,0,0,0,0,0,0,0]
[]
["課題記入欄"]

{"sheet":"クラス(2)","index":5,"n_rows":37,"n_cols":48,"rows_kept":37,"cut":false,"hidden":false,"merged":[[0,29,0,32],[0,37,0,39],[0,40,0,46],[1,0,1,1],[0,15,0,18],[0,19,0,22],[0,24,0,27],[0,0,0,5],[1,15,1,21],[17,1,20,1],[5,5,8,5],[9,1,12,1],[9,3,12,3],[2,0,2,5],[4,0,4,1],[5,0,12,0],[5,1,8,1],[5,3,8,3],[36,0,48,46],[1,3,1,5],[21,0,28,0],[21,1,24,1],[21,3,24,3],[21,5,24,5],[25,1,28,1],[25,3,28,3],[25,5,28,5],[17,3,20,3],[17,5,20,5],[9,5,12,5],[13,0,20,0],[13,1,16,1],[13,3,16,3],[13,5,16,5]]}
["学級風土チェックまとめシート",null,null,null,null,null,null,null,null,null,null,null,null,null,null,"観察者①",null,null,null,null,null,null,null,"②",null,null,null,null,"③",null,null,null,null,null,null,null,null,"実施日　　　"]
["2回目",null,null,null,null,null,null,"◎","：十分に達成している",null,null,null,null,null,"△","：困り感がある、または課題がある",null,null,null,null,null,null,"無印　：学級の全体的印象は、おおむね達成。子どもについては、思い浮かばない。",null,null,null,null,null,null,null,null,null,null,null,null,null,null,null,null,null,null,null,null,null,null,null,null,{"$f":"$H$2","v":"◎"}]
["学級風土の状況",null,null,null,null,null,null,1,{"$f":"H3+1","v":2},{"$f":"I3+1","v":3},4,5,6,7,8,9,10,11,12,13,14,15,16,17,18,19,20,21,22,23,24,25,26,27,28,29,30,31,32,33,34,35,36,37,38,39,40,{"$f":"$O$2","v":"△"}]
[null,null,null,null,null,null,null,{"$f":"\"B\"& (H3+4)","v":"B5"},{"$f":"\"B\"& (I3+4)","v":"B6"},"B7","B8","B9","B10","B11","B12","B13","B14","B15","B16","B17","B18","B19","B20","B21","B22","B23","B24","B25","B26","B27","B28","B29","B30","B31","B32","B33","B34","B35","B36","B37","B38","B39","B40","B41","B42","B43","B44"]
["観察の視点",null,"観察者",{"$f":"風土説明!$C1","v":"具体の視点\n◎～△印"},null,{"$f":"風土説明!$D1","v":"社会的スキルと関連づけた観点\n◎～△印"},"学級の全般的印象",{"$f":"'データ(1)'!$B$6","v":0},{"$f":"'データ(1)'!$B$7","v":0},{"$f":"'データ(1)'!$B$8","v":0},{"$f":"'データ(1)'!$B$9","v":0},{"$f":"'データ(1)'!$B$10","v":0},{"$f":"'データ(1)'!$B$11","v":0},{"$f":"'データ(1)'!$B$12","v":0},{"$f":"'データ(1)'!$B$13","v":0},{"$f":"'データ(1)'!$B$14","v":0},{"$f":"'データ(1)'!$B$15","v":0},{"$f":"'データ(1)'!$B$16","v":0},{"$f":"'データ(1)'!$B$17","v":0},{"$f":"'データ(1)'!$B$18","v":0},{"$f":"'データ(1)'!$B$19","v":0},{"$f":"'データ(1)'!$B$20","v":0},{"$f":"'データ(1)'!$B$21","v":0},{"$f":"'データ(1)'!$B$22","v":0},{"$f":"'データ(1)'!$B$23","v":0},{"$f":"'データ(1)'!$B$24","v":0},{"$f":"'データ(1)'!$B$25","v":0},{"$f":"'データ(1)'!$B$26","v":0},{"$f":"'データ(1)'!$B$27","v":0},{"$f":"'データ(1)'!$B$28","v":0},{"$f":"'データ(1)'!$B$29","v":0},{"$f":"'データ(1)'!$B$30","v":0},{"$f":"'データ(1)'!$B$31","v":0},{"$f":"'データ(1)'!$B$32","v":0},{"$f":"'データ(1)'!$B$33","v":0},{"$f":"'データ(1)'!$B$34","v":0},{"$f":"'データ(1)'!$B$35","v":0},{"$f":"'データ(1)'!$B$36","v":0},{"$f":"'データ(1)'!$B$37","v":0},{"$f":"'データ(1)'!$B$38","v":0},{"$f":"'データ(1)'!$B$39","v":0},{"$f":"'データ(1)'!$B$40","v":0},{"$f":"'データ(1)'!$B$41","v":0},{"$f":"'データ(1)'!$B$42","v":0},{"$f":"'データ(1)'!$B$43","v":0},{"$f":"'データ(1)'!$B$44","v":0},{"$f":"'データ(1)'!$B$45","v":0}]
["自\n分\nづ\nく\nり",{"$f":"風土説明!$B2","v":"Ａ\n公正\n（自己効力感）"},"①",{"$f":"風土説明!$C2","v":"よいことはよい、悪いことは悪いと言える雰囲気がある"},1,{"$f":"風土説明!$D2","v":"場の雰囲気や人の意見に流されず、自分の意見や感じ方を表明できる（①②）"}]
[null,{"$f":"風土説明!#REF!","v":{"$error":"#REF!"}},"②",{"$f":"風土説明!#REF!","v":{"$error":"#REF!"}},2,{"$f":"風土説明!#REF!","v":{"$error":"#REF!"}}]
[null,{"$f":"風土説明!$C3","v":"失敗や意見の違いを温かく認め、包み込んでいこうとする雰囲気がある"},"③",{"$f":"風土説明!$C3","v":"失敗や意見の違いを温かく認め、包み込んでいこうとする雰囲気がある"},3,{"$f":"風土説明!$C3","v":"失敗や意見の違いを温かく認め、包み込んでいこうとする雰囲気がある"}]
[null,{"$f":"風土説明!#REF!","v":{"$error":"#REF!"}},"まとめ",{"$f":"風土説明!#REF!","v":{"$error":"#REF!"}},null,{"$f":"風土説明!#REF!","v":{"$error":"#REF!"}}]
[null,{"$f":"風土説明!$B3","v":"Ｂ\n寛容\n（自尊感情）"},"①",{"$f":"風土説明!$C3","v":"失敗や意見の違いを温かく認め、包み込んでいこうとする雰囲気がある"},1,{"$f":"風土説明!$D3","v":"互いのよさや違いを認め、尊重していこうとする（③④）"}]
[null,{"$f":"風土説明!#REF!","v":{"$error":"#REF!"}},"②",{"$f":"風土説明!#REF!","v":{"$error":"#REF!"}},2,{"$f":"風土説明!#REF!","v":{"$error":"#REF!"}}]
[null,{"$f":"風土説明!$C7","v":"意見や感情の違いを認めながら、集団の意見をまとめようとする"},"③",{"$f":"風土説明!$C7","v":"意見や感情の違いを認めながら、集団の意見をまとめようとする"},3,{"$f":"風土説明!$C7","v":"意見や感情の違いを認めながら、集団の意見をまとめようとする"}]
[null,{"$f":"風土説明!#REF!","v":{"$error":"#REF!"}},"まとめ",{"$f":"風土説明!#REF!","v":{"$error":"#REF!"}},null,{"$f":"風土説明!#REF!","v":{"$error":"#REF!"}}]
["仲\n間\nづ\nく\nり",{"$f":"風土説明!$B4","v":"Ｃ\n自己表現\n（含かかわり）"},"①",{"$f":"風土説明!$C4","v":"率直かつ適切な意志の伝達や感情交流がある"},1,{"$f":"風土説明!$D4","v":"友達との明快なコミュニケーションがとれる（⑤～⑪）"}]
[null,{"$f":"風土説明!$C13","v":0},"②",{"$f":"風土説明!$C13","v":0},2,{"$f":"風土説明!$C13","v":0}]
[null,{"$f":"風土説明!$C14","v":0},"③",{"$f":"風土説明!$C14","v":0},3,{"$f":"風土説明!$C14","v":0}]
[null,{"$f":"風土説明!$C15","v":0},"まとめ",{"$f":"風土説明!$C15","v":0},null,{"$f":"風土説明!$C15","v":0}]
[null,{"$f":"風土説明!$B5","v":"Ｄ\n配慮"},"①",{"$f":"風土説明!$C5","v":"思いやりのある言動・行動が自然に現れる"},1,{"$f":"風土説明!$D5","v":"友達の気持ちを推しはかって行動ができる（⑫～⑯）"}]
[null,{"$f":"風土説明!$C21","v":0},"②",{"$f":"風土説明!$C21","v":0},2,{"$f":"風土説明!$C21","v":0}]
[null,{"$f":"風土説明!$C22","v":0},"③",{"$f":"風土説明!$C22","v":0},3,{"$f":"風土説明!$C22","v":0}]
[null,{"$f":"風土説明!$C23","v":0},"まとめ",{"$f":"風土説明!$C23","v":0},null,{"$f":"風土説明!$C23","v":0}]
["集\n団\nづ\nく\nり",{"$f":"風土説明!$B6","v":"Ｅ\n課題遂行"},"①",{"$f":"風土説明!$C6","v":"グループの目的や課題解決に意欲をもつ"},1,{"$f":"風土説明!$D6","v":"集団の課題・目標を達成するために話し合いを進めている（⑱）"}]
[null,{"$f":"風土説明!$C29","v":0},"②",{"$f":"風土説明!$C29","v":0},2,{"$f":"風土説明!$C29","v":0}]
[null,{"$f":"風土説明!$C30","v":0},"③",{"$f":"風土説明!$C30","v":0},3,{"$f":"風土説明!$C30","v":0}]
[null,{"$f":"風土説明!$C31","v":0},"まとめ",{"$f":"風土説明!$C31","v":0},null,{"$f":"風土説明!$C31","v":0}]
[null,{"$f":"風土説明!$B7","v":"Ｆ\n合意形成"},"①",{"$f":"風土説明!$C7","v":"意見や感情の違いを認めながら、集団の意見をまとめようとする"},1,{"$f":"風土説明!$D7","v":"みんなの意見を上手に取り入れて話し合いの調整をしている（⑰）"}]
[null,{"$f":"風土説明!$C37","v":0},"②",{"$f":"風土説明!$C37","v":0},2,{"$f":"風土説明!$C37","v":0}]
[null,{"$f":"風土説明!$C38","v":0},"③",{"$f":"風土説明!$C38","v":0},3,{"$f":"風土説明!$C38","v":0}]
[null,{"$f":"風土説明!$C39","v":0},"まとめ",{"$f":"風土説明!$C39","v":0},null,{"$f":"風土説明!$C39","v":0}]
[null,null,null,null,null,1,null,{"$f":"H$9","v":0},{"$f":"I$9","v":0},0,0,0,0,0,0,0,0,0,0,0,0,0,0,0,0,0,0,0,0,0,0,0,0,0,0,0,0,0,0,0,0,0,0,0,0,0,0]
[null,null,null,null,null,3,null,{"$f":"H$13","v":0},{"$f":"I$13","v":0},0,0,0,0,0,0,0,0,0,0,0,0,0,0,0,0,0,0,0,0,0,0,0,0,0,0,0,0,0,0,0,0,0,0,0,0,0,0]
[null,null,null,null,null,5,null,{"$f":"H$17","v":0},{"$f":"I$17","v":0},0,0,0,0,0,0,0,0,0,0,0,0,0,0,0,0,0,0,0,0,0,0,0,0,0,0,0,0,0,0,0,0,0,0,0,0,0,0]
[null,null,null,null,null,7,null,{"$f":"H$21","v":0},{"$f":"I$21","v":0},0,0,0,0,0,0,0,0,0,0,0,0,0,0,0,0,0,0,0,0,0,0,0,0,0,0,0,0,0,0,0,0,0,0,0,0,0,0]
[null,null,null,null,null,9,null,{"$f":"H$25","v":0},{"$f":"I$25","v":0},0,0,0,0,0,0,0,0,0,0,0,0,0,0,0,0,0,0,0,0,0,0,0,0,0,0,0,0,0,0,0,0,0,0,0,0,0,0]
[null,null,null,null,null,11,null,{"$f":"H$29","v":0},{"$f":"I$29","v":0},0,0,0,0,0,0,0,0,0,0,0,0,0,0,0,0,0,0,0,0,0,0,0,0,0,0,0,0,0,0,0,0,0,0,0,0,0,0]
[]
["課題記入欄"]

{"sheet":"クラス(3)","index":6,"n_rows":37,"n_cols":48,"rows_kept":37,"cut":false,"hidden":false,"merged":[[0,29,0,32],[0,37,0,39],[0,40,0,46],[1,0,1,1],[0,15,0,18],[0,19,0,22],[0,24,0,27],[0,0,0,5],[1,15,1,21],[17,1,20,1],[5,5,8,5],[9,1,12,1],[9,3,12,3],[2,0,2,5],[4,0,4,1],[5,0,12,0],[5,1,8,1],[5,3,8,3],[36,0,48,46],[1,3,1,5],[21,0,28,0],[21,1,24,1],[21,3,24,3],[21,5,24,5],[25,1,28,1],[25,3,28,3],[25,5,28,5],[17,3,20,3],[17,5,20,5],[9,5,12,5],[13,0,20,0],[13,1,16,1],[13,3,16,3],[13,5,16,5]]}
["学級風土チェックまとめシート",null,null,null,null,null,null,null,null,null,null,null,null,null,null,"観察者①",null,null,null,null,null,null,null,"②",null,null,null,null,"③",null,null,null,null,null,null,null,null,"実施日　　　"]
["3回目",null,null,null,null,null,null,"◎","：十分に達成している",null,null,null,null,null,"△","：困り感がある、または課題がある",null,null,null,null,null,null,"無印　：学級の全体的印象は、おおむね達成。子どもについては、思い浮かばない。",null,null,null,null,null,null,null,null,null,null,null,null,null,null,null,null,null,null,null,null,null,null,null,null,{"$f":"$H$2","v":"◎"}]
["学級風土の状況",null,null,null,null,null,null,1,{"$f":"H3+1","v":2},{"$f":"I3+1","v":3},4,5,6,7,8,9,10,11,12,13,14,15,16,17,18,19,20,21,22,23,24,25,26,27,28,29,30,31,32,33,34,35,36,37,38,39,40,{"$f":"$O$2","v":"△"}]
[null,null,null,null,null,null,null,{"$f":"\"B\"& (H3+4)","v":"B5"},{"$f":"\"B\"& (I3+4)","v":"B6"},"B7","B8","B9","B10","B11","B12","B13","B14","B15","B16","B17","B18","B19","B20","B21","B22","B23","B24","B25","B26","B27","B28","B29","B30","B31","B32","B33","B34","B35","B36","B37","B38","B39","B40","B41","B42","B43","B44"]
["観察の視点",null,"観察者",{"$f":"風土説明!$C1","v":"具体の視点\n◎～△印"},null,{"$f":"風土説明!$D1","v":"社会的スキルと関連づけた観点\n◎～△印"},"学級の全般的印象",{"$f":"'データ(1)'!$B$6","v":0},{"$f":"'データ(1)'!$B$7","v":0},{"$f":"'データ(1)'!$B$8","v":0},{"$f":"'データ(1)'!$B$9","v":0},{"$f":"'データ(1)'!$B$10","v":0},{"$f":"'データ(1)'!$B$11","v":0},{"$f":"'データ(1)'!$B$12","v":0},{"$f":"'データ(1)'!$B$13","v":0},{"$f":"'データ(1)'!$B$14","v":0},{"$f":"'データ(1)'!$B$15","v":0},{"$f":"'データ(1)'!$B$16","v":0},{"$f":"'データ(1)'!$B$17","v":0},{"$f":"'データ(1)'!$B$18","v":0},{"$f":"'データ(1)'!$B$19","v":0},{"$f":"'データ(1)'!$B$20","v":0},{"$f":"'データ(1)'!$B$21","v":0},{"$f":"'データ(1)'!$B$22","v":0},{"$f":"'データ(1)'!$B$23","v":0},{"$f":"'データ(1)'!$B$24","v":0},{"$f":"'データ(1)'!$B$25","v":0},{"$f":"'データ(1)'!$B$26","v":0},{"$f":"'データ(1)'!$B$27","v":0},{"$f":"'データ(1)'!$B$28","v":0},{"$f":"'データ(1)'!$B$29","v":0},{"$f":"'データ(1)'!$B$30","v":0},{"$f":"'データ(1)'!$B$31","v":0},{"$f":"'データ(1)'!$B$32","v":0},{"$f":"'データ(1)'!$B$33","v":0},{"$f":"'データ(1)'!$B$34","v":0},{"$f":"'データ(1)'!$B$35","v":0},{"$f":"'データ(1)'!$B$36","v":0},{"$f":"'データ(1)'!$B$37","v":0},{"$f":"'データ(1)'!$B$38","v":0},{"$f":"'データ(1)'!$B$39","v":0},{"$f":"'データ(1)'!$B$40","v":0},{"$f":"'データ(1)'!$B$41","v":0},{"$f":"'データ(1)'!$B$42","v":0},{"$f":"'データ(1)'!$B$43","v":0},{"$f":"'データ(1)'!$B$44","v":0},{"$f":"'データ(1)'!$B$45","v":0}]
["自\n分\nづ\nく\nり",{"$f":"風土説明!$B2","v":"Ａ\n公正\n（自己効力感）"},"①",{"$f":"風土説明!$C2","v":"よいことはよい、悪いことは悪いと言える雰囲気がある"},1,{"$f":"風土説明!$D2","v":"場の雰囲気や人の意見に流されず、自分の意見や感じ方を表明できる（①②）"}]
[null,{"$f":"風土説明!#REF!","v":{"$error":"#REF!"}},"②",{"$f":"風土説明!#REF!","v":{"$error":"#REF!"}},2,{"$f":"風土説明!#REF!","v":{"$error":"#REF!"}}]
[null,{"$f":"風土説明!$C3","v":"失敗や意見の違いを温かく認め、包み込んでいこうとする雰囲気がある"},"③",{"$f":"風土説明!$C3","v":"失敗や意見の違いを温かく認め、包み込んでいこうとする雰囲気がある"},3,{"$f":"風土説明!$C3","v":"失敗や意見の違いを温かく認め、包み込んでいこうとする雰囲気がある"}]
[null,{"$f":"風土説明!#REF!","v":{"$error":"#REF!"}},"まとめ",{"$f":"風土説明!#REF!","v":{"$error":"#REF!"}},null,{"$f":"風土説明!#REF!","v":{"$error":"#REF!"}}]
[null,{"$f":"風土説明!$B3","v":"Ｂ\n寛容\n（自尊感情）"},"①",{"$f":"風土説明!$C3","v":"失敗や意見の違いを温かく認め、包み込んでいこうとする雰囲気がある"},1,{"$f":"風土説明!$D3","v":"互いのよさや違いを認め、尊重していこうとする（③④）"}]
[null,{"$f":"風土説明!#REF!","v":{"$error":"#REF!"}},"②",{"$f":"風土説明!#REF!","v":{"$error":"#REF!"}},2,{"$f":"風土説明!#REF!","v":{"$error":"#REF!"}}]
[null,{"$f":"風土説明!$C7","v":"意見や感情の違いを認めながら、集団の意見をまとめようとする"},"③",{"$f":"風土説明!$C7","v":"意見や感情の違いを認めながら、集団の意見をまとめようとする"},3,{"$f":"風土説明!$C7","v":"意見や感情の違いを認めながら、集団の意見をまとめようとする"}]
[null,{"$f":"風土説明!#REF!","v":{"$error":"#REF!"}},"まとめ",{"$f":"風土説明!#REF!","v":{"$error":"#REF!"}},null,{"$f":"風土説明!#REF!","v":{"$error":"#REF!"}}]
["仲\n間\nづ\nく\nり",{"$f":"風土説明!$B4","v":"Ｃ\n自己表現\n（含かかわり）"},"①",{"$f":"風土説明!$C4","v":"率直かつ適切な意志の伝達や感情交流がある"},1,{"$f":"風土説明!$D4","v":"友達との明快なコミュニケーションがとれる（⑤～⑪）"}]
[null,{"$f":"風土説明!$C13","v":0},"②",{"$f":"風土説明!$C13","v":0},2,{"$f":"風土説明!$C13","v":0}]
[null,{"$f":"風土説明!$C14","v":0},"③",{"$f":"風土説明!$C14","v":0},3,{"$f":"風土説明!$C14","v":0}]
[null,{"$f":"風土説明!$C15","v":0},"まとめ",{"$f":"風土説明!$C15","v":0},null,{"$f":"風土説明!$C15","v":0}]
[null,{"$f":"風土説明!$B5","v":"Ｄ\n配慮"},"①",{"$f":"風土説明!$C5","v":"思いやりのある言動・行動が自然に現れる"},1,{"$f":"風土説明!$D5","v":"友達の気持ちを推しはかって行動ができる（⑫～⑯）"}]
[null,{"$f":"風土説明!$C21","v":0},"②",{"$f":"風土説明!$C21","v":0},2,{"$f":"風土説明!$C21","v":0}]
[null,{"$f":"風土説明!$C22","v":0},"③",{"$f":"風土説明!$C22","v":0},3,{"$f":"風土説明!$C22","v":0}]
[null,{"$f":"風土説明!$C23","v":0},"まとめ",{"$f":"風土説明!$C23","v":0},null,{"$f":"風土説明!$C23","v":0}]
["集\n団\nづ\nく\nり",{"$f":"風土説明!$B6","v":"Ｅ\n課題遂行"},"①",{"$f":"風土説明!$C6","v":"グループの目的や課題解決に意欲をもつ"},1,{"$f":"風土説明!$D6","v":"集団の課題・目標を達成するために話し合いを進めている（⑱）"}]
[null,{"$f":"風土説明!$C29","v":0},"②",{"$f":"風土説明!$C29","v":0},2,{"$f":"風土説明!$C29","v":0}]
[null,{"$f":"風土説明!$C30","v":0},"③",{"$f":"風土説明!$C30","v":0},3,{"$f":"風土説明!$C30","v":0}]
[null,{"$f":"風土説明!$C31","v":0},"まとめ",{"$f":"風土説明!$C31","v":0},null,{"$f":"風土説明!$C31","v":0}]
[null,{"$f":"風土説明!$B7","v":"Ｆ\n合意形成"},"①",{"$f":"風土説明!$C7","v":"意見や感情の違いを認めながら、集団の意見をまとめようとする"},1,{"$f":"風土説明!$D7","v":"みんなの意見を上手に取り入れて話し合いの調整をしている（⑰）"}]
[null,{"$f":"風土説明!$C37","v":0},"②",{"$f":"風土説明!$C37","v":0},2,{"$f":"風土説明!$C37","v":0}]
[null,{"$f":"風土説明!$C38","v":0},"③",{"$f":"風土説明!$C38","v":0},3,{"$f":"風土説明!$C38","v":0}]
[null,{"$f":"風土説明!$C39","v":0},"まとめ",{"$f":"風土説明!$C39","v":0},null,{"$f":"風土説明!$C39","v":0}]
[null,null,null,null,null,1,null,{"$f":"H$9","v":0},{"$f":"I$9","v":0},0,0,0,0,0,0,0,0,0,0,0,0,0,0,0,0,0,0,0,0,0,0,0,0,0,0,0,0,0,0,0,0,0,0,0,0,0,0]
[null,null,null,null,null,3,null,{"$f":"H$13","v":0},{"$f":"I$13","v":0},0,0,0,0,0,0,0,0,0,0,0,0,0,0,0,0,0,0,0,0,0,0,0,0,0,0,0,0,0,0,0,0,0,0,0,0,0,0]
[null,null,null,null,null,5,null,{"$f":"H$17","v":0},{"$f":"I$17","v":0},0,0,0,0,0,0,0,0,0,0,0,0,0,0,0,0,0,0,0,0,0,0,0,0,0,0,0,0,0,0,0,0,0,0,0,0,0,0]
[null,null,null,null,null,7,null,{"$f":"H$21","v":0},{"$f":"I$21","v":0},0,0,0,0,0,0,0,0,0,0,0,0,0,0,0,0,0,0,0,0,0,0,0,0,0,0,0,0,0,0,0,0,0,0,0,0,0,0]
[null,null,null,null,null,9,null,{"$f":"H$25","v":0},{"$f":"I$25","v":0},0,0,0,0,0,0,0,0,0,0,0,0,0,0,0,0,0,0,0,0,0,0,0,0,0,0,0,0,0,0,0,0,0,0,0,0,0,0]
[null,null,null,null,null,11,null,{"$f":"H$29","v":0},{"$f":"I$29","v":0},0,0,0,0,0,0,0,0,0,0,0,0,0,0,0,0,0,0,0,0,0,0,0,0,0,0,0,0,0,0,0,0,0,0,0,0,0,0]
[]
["課題記入欄"]

{"sheet":"分布図","index":7,"n_rows":57,"n_cols":73,"rows_kept":57,"cut":false,"hidden":false,"merged":[[29,66,30,66],[27,66,27,69],[31,66,31,68],[27,70,27,72],[50,15,50,59],[51,15,51,23],[51,24,51,35],[51,36,51,47],[51,48,51,59],[52,24,53,25],[52,26,52,29],[52,30,53,31],[52,32,52,35],[52,36,53,37],[52,38,52,41],[52,42,53,43],[52,44,52,47],[52,48,53,49],[52,50,52,53],[52,54,53,55],[52,56,52,59],[53,26,53,27],[53,28,53,29],[53,32,53,33],[53,34,53,35],[53,38,53,39],[53,40,53,41],[53,44,53,45],[53,46,53,47],[53,50,53,51],[53,52,53,53],[53,56,53,57],[53,58,53,59],[54,15,54,23],[54,24,54,25],[54,26,54,27],[54,28,54,29],[54,30,54,31],[54,32,54,33],[54,34,54,35],[54,36,54,37],[54,38,54,39],[54,40,54,41],[54,42,54,43],[54,44,54,45],[54,46,54,47],[54,48,54,49],[54,50,54,51],[54,52,54,53],[54,54,54,55],[54,56,54,57],[54,58,54,59],[55,15,55,23],[55,24,55,25],[55,26,55,27],[55,28,55,29],[55,30,55,31],[55,32,55,33],[55,34,55,35],[55,36,55,37],[55,38,55,39],[55,40,55,41],[55,42,55,43],[55,44,55,45],[55,46,55,47],[55,48,55,49],[55,50,55,51],[55,52,55,53],[55,54,55,55],[55,56,55,57],[55,58,55,59],[56,15,56,23],[56,24,56,25],[56,26,56,27],[56,28,56,29],[56,30,56,31],[56,32,56,33],[56,34,56,35],[56,36,56,37],[56,38,56,39],[56,40,56,41],[56,42,56,43],[56,44,56,45],[56,56,56,57],[56,58,56,59],[56,46,56,47],[56,48,56,49],[56,50,56,51],[56,52,56,53],[56,54,56,55]]}
[40]
[39]
[38]
[37]
[36]
[35]
[34]
[33]
[32]
[31]
[30]
[29]
[28]
[27]
[26]
[25]
[24]
[23]
[22]
[21]
[20]
[19]
[18]
[17]
[16]
[15]
[14]
[13,null,null,null,null,null,null,null,null,null,null,null,null,null,null,null,null,null,null,null,null,null,null,null,null,null,null,null,null,null,null,null,null,null,null,null,null,null,null,null,null,null,null,null,null,null,null,null,null,null,null,null,null,null,null,null,null,null,null,null,null,null,null,null,null,null,"基準値",null,null,null,"７割域"]
[12,null,null,null,null,null,null,null,null,null,null,null,null,null,null,null,null,null,null,null,null,null,null,null,null,null,null,null,null,null,null,null,null,null,null,null,null,null,null,null,null,null,null,null,null,null,null,null,null,null,null,null,null,null,null,null,null,null,null,null,null,null,null,null,null,null,"学年","性別","自分","仲間",null,"最小","最大"]
[11,null,null,null,null,null,null,null,null,null,null,null,null,null,null,null,null,null,null,null,null,null,null,null,null,null,null,null,null,null,null,null,null,null,null,null,null,null,null,null,null,null,null,null,null,null,null,null,null,null,null,null,null,null,null,null,null,null,null,null,null,null,null,null,null,null,{"$f":"'データ(1)'!$B$1","v":0},"基準男",{"$f":"VLOOKUP($BO$30,INDIRECT($BP$30),2)","v":{"$error":"#N/A"}},{"$f":"VLOOKUP($BO$30,INDIRECT($BP$30),3)","v":{"$error":"#N/A"}},"自分",{"$f":"VLOOKUP($BO$30,INDIRECT($BS$32),2)","v":{"$error":"#N/A"}},{"$f":"VLOOKUP($BO$30,INDIRECT($BS$32),3)","v":{"$error":"#N/A"}}]
[10,null,null,null,null,null,null,null,null,null,null,null,null,null,null,null,null,null,null,null,null,null,null,null,null,null,null,null,null,null,null,null,null,null,null,null,null,null,null,null,null,null,null,null,null,null,null,null,null,null,null,null,null,null,null,null,null,null,null,null,null,null,null,null,null,null,null,"基準女",{"$f":"VLOOKUP($BO$30,INDIRECT($BP$31),2)","v":{"$error":"#N/A"}},{"$f":"VLOOKUP($BO$30,INDIRECT($BP$31),3)","v":{"$error":"#N/A"}},"仲間",{"$f":"VLOOKUP($BO$30,INDIRECT($BS$32),4)","v":{"$error":"#N/A"}},{"$f":"VLOOKUP($BO$30,INDIRECT($BS$32),5)","v":{"$error":"#N/A"}}]
[9,null,null,null,null,null,null,null,null,null,null,null,null,null,null,null,null,null,null,null,null,null,null,null,null,null,null,null,null,null,null,null,null,null,null,null,null,null,null,null,null,null,null,null,null,null,null,null,null,null,null,null,null,null,null,null,null,null,null,null,null,null,null,null,"男",null,"基準線の色",null,null,null,"割域"]
[8,null,null,null,null,null,null,null,null,null,null,null,null,null,null,null,null,null,null,null,null,null,null,null,null,null,null,null,null,null,null,null,null,null,null,null,null,null,null,null,null,null,null,null,null,null,null,null,null,null,null,null,null,null,null,null,null,null,null,null,null,null,null,null,null,null,"男","女","男女"]
[6]
[5]
[4]
[3]
[2]
[1]
[0]
[null,0,1,2,3,4,5,6,7,8,9,10,11,12,13,14,15,16,17,18,19,20,21,22,23,24,25,26,27,28,29,30,31,32,33,34,35,36,37,38,39,40,41,42,43,44,45,46,47,48,49,50,51,52,53,54,55,56,57,58,59,60]
[null,{"$f":"'データ(1)'!$B$1 &\"年\"&'データ(1)'!$B$2&\"組\"","v":"年組"},null,null,null,null,null,null,null,null,null,null,null,{"$f":"'データ(1)'!$B$1 &\"年\"&'データ(1)'!$B$2&\"組\"","v":"年組"}]
[]
[null,null,null,null,null,null,null,null,null,null,null,null,null,null,null,null,"データ未入力有："]
[]
[]
[]
[]
[]
[]
[null,null,null,null,null,null,null,null,null,null,null,null,null,null,null,"学級平均"]
[null,null,null,null,null,null,null,null,null,null,null,null,null,null,null,null,null,null,null,null,null,null,null,null,"第１回",null,null,null,null,null,null,null,null,null,null,null,"第２回",null,null,null,null,null,null,null,null,null,null,null,"第３回"]
[null,null,null,null,null,null,null,null,null,null,null,null,null,null,null,null,null,null,null,null,null,null,null,null,"自分づくり（縦軸）",null,null,null,null,null,"仲間づくり（横軸）",null,null,null,null,null,"自分づくり（縦軸）",null,null,null,null,null,"仲間づくり（横軸）",null,null,null,null,null,"自分づくり（縦軸）",null,null,null,null,null,"仲間づくり（横軸）"]
[null,null,null,null,null,null,null,null,null,null,null,null,null,null,null,null,null,null,null,null,null,null,null,null,null,null,"自己効力感",null,"自尊感情",null,null,null,"自己表現",null,"共感・配慮",null,null,null,"自己効力感",null,"自尊感情",null,null,null,"自己表現",null,"共感・配慮",null,null,null,"自己効力感",null,"自尊感情",null,null,null,"自己表現",null,"共感・配慮"]
[null,null,null,null,null,null,null,null,null,null,null,null,null,null,null,"男子平均",null,null,null,null,null,null,null,null,{"$f":"IFERROR('データ(1)'!$AU47, \"\")","v":""},null,{"$f":"IFERROR('データ(1)'!$AP47, \"\")","v":""},null,{"$f":"IFERROR('データ(1)'!$AQ47, \"\")","v":""},null,{"$f":"IFERROR('データ(1)'!$AT47, \"\")","v":""},null,{"$f":"IFERROR('データ(1)'!$AR47, \"\")","v":""},null,{"$f":"IFERROR('データ(1)'!$AS47, \"\")","v":""},null,{"$f":"IFERROR('データ(2)'!$AU47, \"\")","v":""},null,{"$f":"IFERROR('データ(2)'!$AP47, \"\")","v":""},null,{"$f":"IFERROR('データ(2)'!$AQ47, \"\")","v":""},null,{"$f":"IFERROR('データ(2)'!$AT47, \"\")","v":""},null,{"$f":"IFERROR('データ(2)'!$AR47, \"\")","v":""},null,{"$f":"IFERROR('データ(2)'!$AS47, \"\")","v":""},null,{"$f":"IFERROR('データ(3)'!$AU47, \"\")","v":""},null,{"$f":"IFERROR('データ(3)'!$AP47, \"\")","v":""},null,{"$f":"IFERROR('データ(3)'!$AQ47, \"\")","v":""},null,{"$f":"IFERROR('データ(3)'!$AT47, \"\")","v":""},null,{"$f":"IFERROR('データ(3)'!$AR47, \"\")","v":""},null,{"$f":"IFERROR('データ(3)'!$AS47, \"\")","v":""}]
[null,null,null,null,null,null,null,null,null,null,null,null,null,null,null,"女子平均",null,null,null,null,null,null,null,null,{"$f":"IFERROR('データ(1)'!$AU49, \"\")","v":""},null,{"$f":"IFERROR('データ(1)'!$AP49, \"\")","v":""},null,{"$f":"IFERROR('データ(1)'!$AQ49, \"\")","v":""},null,{"$f":"IFERROR('データ(1)'!$AT49, \"\")","v":""},null,{"$f":"IFERROR('データ(1)'!$AR49, \"\")","v":""},null,{"$f":"IFERROR('データ(1)'!$AS49, \"\")","v":""},null,{"$f":"IFERROR('データ(2)'!$AU49, \"\")","v":""},null,{"$f":"IFERROR('データ(2)'!$AP49, \"\")","v":""},null,{"$f":"IFERROR('データ(2)'!$AQ49, \"\")","v":""},null,{"$f":"IFERROR('データ(2)'!$AT49, \"\")","v":""},null,{"$f":"IFERROR('データ(2)'!$AR49, \"\")","v":""},null,{"$f":"IFERROR('データ(2)'!$AS49, \"\")","v":""},null,{"$f":"IFERROR('データ(3)'!$AU49, \"\")","v":""},null,{"$f":"IFERROR('データ(3)'!$AP49, \"\")","v":""},null,{"$f":"IFERROR('データ(3)'!$AQ49, \"\")","v":""},null,{"$f":"IFERROR('データ(3)'!$AT49, \"\")","v":""},null,{"$f":"IFERROR('データ(3)'!$AR49, \"\")","v":""},null,{"$f":"IFERROR('データ(3)'!$AS49, \"\")","v":""}]
[null,null,null,null,null,null,null,null,null,null,null,null,null,null,null,"全体平均",null,null,null,null,null,null,null,null,{"$f":"IFERROR('データ(1)'!$AU51, \"\")","v":""},null,{"$f":"IFERROR('データ(1)'!$AP51, \"\")","v":""},null,{"$f":"IFERROR('データ(1)'!$AQ51, \"\")","v":""},null,{"$f":"IFERROR('データ(1)'!$AT51, \"\")","v":""},null,{"$f":"IFERROR('データ(1)'!$AR51, \"\")","v":""},null,{"$f":"IFERROR('データ(1)'!$AS51, \"\")","v":""},null,{"$f":"IFERROR('データ(2)'!$AU51, \"\")","v":""},null,{"$f":"IFERROR('データ(2)'!$AP51, \"\")","v":""},null,{"$f":"IFERROR('データ(2)'!$AQ51, \"\")","v":""},null,{"$f":"IFERROR('データ(2)'!$AT51, \"\")","v":""},null,{"$f":"IFERROR('データ(2)'!$AR51, \"\")","v":""},null,{"$f":"IFERROR('データ(2)'!$AS51, \"\")","v":""},null,{"$f":"IFERROR('データ(3)'!$AU51, \"\")","v":""},null,{"$f":"IFERROR('データ(3)'!$AP51, \"\")","v":""},null,{"$f":"IFERROR('データ(3)'!$AQ51, \"\")","v":""},null,{"$f":"IFERROR('データ(3)'!$AT51, \"\")","v":""},null,{"$f":"IFERROR('データ(3)'!$AR51, \"\")","v":""},null,{"$f":"IFERROR('データ(3)'!$AS51, \"\")","v":""}]

{"sheet":"分布図比較","index":8,"n_rows":57,"n_cols":70,"rows_kept":57,"cut":false,"hidden":false,"merged":[[27,66,27,69],[29,66,30,66],[31,66,31,68],[50,15,50,59],[51,15,51,23],[51,24,51,35],[51,36,51,47],[51,48,51,59],[52,44,52,47],[52,48,53,49],[52,50,52,53],[52,24,53,25],[52,26,52,29],[52,30,53,31],[52,32,52,35],[52,36,53,37],[52,54,53,55],[52,56,52,59],[53,26,53,27],[53,28,53,29],[53,32,53,33],[53,34,53,35],[53,38,53,39],[53,40,53,41],[53,44,53,45],[53,46,53,47],[53,50,53,51],[53,52,53,53],[53,56,53,57],[53,58,53,59],[52,38,52,41],[52,42,53,43],[54,15,54,23],[54,24,54,25],[54,26,54,27],[54,28,54,29],[54,30,54,31],[54,32,54,33],[54,34,54,35],[54,36,54,37],[54,38,54,39],[54,40,54,41],[54,42,54,43],[54,44,54,45],[54,46,54,47],[54,48,54,49],[54,50,54,51],[54,52,54,53],[54,54,54,55],[54,56,54,57],[54,58,54,59],[55,15,55,23],[55,24,55,25],[55,26,55,27],[55,28,55,29],[55,30,55,31],[55,32,55,33],[55,34,55,35],[55,36,55,37],[55,38,55,39],[55,40,55,41],[55,42,55,43],[55,44,55,45],[55,46,55,47],[55,48,55,49],[55,50,55,51],[55,52,55,53],[55,54,55,55],[55,56,55,57],[55,58,55,59],[56,15,56,23],[56,24,56,25],[56,26,56,27],[56,28,56,29],[56,30,56,31],[56,32,56,33],[56,34,56,35],[56,36,56,37],[56,38,56,39],[56,40,56,41],[56,42,56,43],[56,44,56,45],[56,46,56,47],[56,48,56,49],[56,50,56,51],[56,52,56,53],[56,54,56,55],[56,56,56,57],[56,58,56,59]]}
[40]
[39]
[38]
[37]
[36]
[35]
[34]
[33]
[32]
[31]
[30]
[29]
[28]
[27]
[26]
[25]
[24]
[23]
[22]
[21]
[20]
[19]
[18]
[17]
[16]
[15]
[14]
[13,null,null,null,null,null,null,null,null,null,null,null,null,null,null,null,null,null,null,null,null,null,null,null,null,null,null,null,null,null,null,null,null,null,null,null,null,null,null,null,null,null,null,null,null,null,null,null,null,null,null,null,null,null,null,null,null,null,null,null,null,null,null,null,null,null,"基準値"]
[12,null,null,null,null,null,null,null,null,null,null,null,null,null,null,null,null,null,null,null,null,null,null,null,null,null,null,null,null,null,null,null,null,null,null,null,null,null,null,null,null,null,null,null,null,null,null,null,null,null,null,null,null,null,null,null,null,null,null,null,null,null,null,null,null,null,"学年","性別","自分","仲間"]
[11,null,null,null,null,null,null,null,null,null,null,null,null,null,null,null,null,null,null,null,null,null,null,null,null,null,null,null,null,null,null,null,null,null,null,null,null,null,null,null,null,null,null,null,null,null,null,null,null,null,null,null,null,null,null,null,null,null,null,null,null,null,null,null,null,null,{"$f":"'データ(1)'!$B$1","v":0},"基準男",{"$f":"VLOOKUP($BO$30,INDIRECT($BP$30),2)","v":{"$error":"#N/A"}},{"$f":"VLOOKUP($BO$30,INDIRECT($BP$30),3)","v":{"$error":"#N/A"}}]
[10,null,null,null,null,null,null,null,null,null,null,null,null,null,null,null,null,null,null,null,null,null,null,null,null,null,null,null,null,null,null,null,null,null,null,null,null,null,null,null,null,null,null,null,null,null,null,null,null,null,null,null,null,null,null,null,null,null,null,null,null,null,null,null,null,null,null,"基準女",{"$f":"VLOOKUP($BO$30,INDIRECT($BP$31),2)","v":{"$error":"#N/A"}},{"$f":"VLOOKUP($BO$30,INDIRECT($BP$31),3)","v":{"$error":"#N/A"}}]
[9,null,null,null,null,null,null,null,null,null,null,null,null,null,null,null,null,null,null,null,null,null,null,null,null,null,null,null,null,null,null,null,null,null,null,null,null,null,null,null,null,null,null,null,null,null,null,null,null,null,null,null,null,null,null,null,null,null,null,null,null,null,null,null,null,null,"基準線の色"]
[8,null,null,null,null,null,null,null,null,null,null,null,null,null,null,null,null,null,null,null,null,null,null,null,null,null,null,null,null,null,null,null,null,null,null,null,null,null,null,null,null,null,null,null,null,null,null,null,null,null,null,null,null,null,null,null,null,null,null,null,null,null,null,null,null,null,"男","女","男女"]
[6]
[5]
[4]
[3]
[2]
[1]
[0]
[null,"0 あ い う え お か き く け こ さ し す せ そ た ち つ て と な に あ い う え お か き く け こ さ し す せ そ た ち つ て と な に あ い う え お か き く け こ さ し す せ そ た ち つ て と な に 生徒1 生徒2 生徒3 生徒4 生徒5 生徒6 生徒7 生徒8 生徒9 生徒10 生徒11 生徒12 生徒13",1,2,3,4,5,6,7,8,9,10,11,12,13,14,15,16,17,18,19,20,21,22,23,24,25,26,27,28,29,30,31,32,33,34,35,36,37,38,39,40,41,42,43,44,45,46,47,48,49,50,51,52,53,54,55,56,57,58,59,60]
[null,{"$f":"'データ(1)'!$B$1 &\"年\"&'データ(1)'!$B$2&\"組\"","v":"年組"},null,null,null,null,null,null,null,null,null,null,null,{"$f":"'データ(1)'!$B$1 &\"年\"&'データ(1)'!$B$2&\"組\"","v":"年組"}]
[]
[null,null,null,null,null,null,null,null,null,null,null,null,null,null,null,null,"データ未入力有："]
[]
[]
[]
[]
[]
[]
[null,null,null,null,null,null,null,null,null,null,null,null,null,null,null,"学級平均"]
[null,null,null,null,null,null,null,null,null,null,null,null,null,null,null,null,null,null,null,null,null,null,null,null,"第１回",null,null,null,null,null,null,null,null,null,null,null,"第２回",null,null,null,null,null,null,null,null,null,null,null,"第３回"]
[null,null,null,null,null,null,null,null,null,null,null,null,null,null,null,null,null,null,null,null,null,null,null,null,"自分づくり（縦軸）",null,null,null,null,null,"仲間づくり（横軸）",null,null,null,null,null,"自分づくり（縦軸）",null,null,null,null,null,"仲間づくり（横軸）",null,null,null,null,null,"自分づくり（縦軸）",null,null,null,null,null,"仲間づくり（横軸）"]
[null,null,null,null,null,null,null,null,null,null,null,null,null,null,null,null,null,null,null,null,null,null,null,null,null,null,"自己効力感",null,"自尊感情",null,null,null,"自己表現",null,"共感・配慮",null,null,null,"自己効力感",null,"自尊感情",null,null,null,"自己表現",null,"共感・配慮",null,null,null,"自己効力感",null,"自尊感情",null,null,null,"自己表現",null,"共感・配慮"]
[null,null,null,null,null,null,null,null,null,null,null,null,null,null,null,"男子平均",null,null,null,null,null,null,null,null,{"$f":"IFERROR('データ(1)'!$AU47, \"\")","v":""},null,{"$f":"IFERROR('データ(1)'!$AP47, \"\")","v":""},null,{"$f":"IFERROR('データ(1)'!$AQ47, \"\")","v":""},null,{"$f":"IFERROR('データ(1)'!$AT47, \"\")","v":""},null,{"$f":"IFERROR('データ(1)'!$AR47, \"\")","v":""},null,{"$f":"IFERROR('データ(1)'!$AS47, \"\")","v":""},null,{"$f":"IFERROR('データ(2)'!$AU47, \"\")","v":""},null,{"$f":"IFERROR('データ(2)'!$AP47, \"\")","v":""},null,{"$f":"IFERROR('データ(2)'!$AQ47, \"\")","v":""},null,{"$f":"IFERROR('データ(2)'!$AT47, \"\")","v":""},null,{"$f":"IFERROR('データ(2)'!$AR47, \"\")","v":""},null,{"$f":"IFERROR('データ(2)'!$AS47, \"\")","v":""},null,{"$f":"IFERROR('データ(3)'!$AU47, \"\")","v":""},null,{"$f":"IFERROR('データ(3)'!$AP47, \"\")","v":""},null,{"$f":"IFERROR('データ(3)'!$AQ47, \"\")","v":""},null,{"$f":"IFERROR('データ(3)'!$AT47, \"\")","v":""},null,{"$f":"IFERROR('データ(3)'!$AR47, \"\")","v":""},null,{"$f":"IFERROR('データ(3)'!$AS47, \"\")","v":""}]
[null,null,null,null,null,null,null,null,null,null,null,null,null,null,null,"女子平均",null,null,null,null,null,null,null,null,{"$f":"IFERROR('データ(1)'!$AU49, \"\")","v":""},null,{"$f":"IFERROR('データ(1)'!$AP49, \"\")","v":""},null,{"$f":"IFERROR('データ(1)'!$AQ49, \"\")","v":""},null,{"$f":"IFERROR('データ(1)'!$AT49, \"\")","v":""},null,{"$f":"IFERROR('データ(1)'!$AR49, \"\")","v":""},null,{"$f":"IFERROR('データ(1)'!$AS49, \"\")","v":""},null,{"$f":"IFERROR('データ(2)'!$AU49, \"\")","v":""},null,{"$f":"IFERROR('データ(2)'!$AP49, \"\")","v":""},null,{"$f":"IFERROR('データ(2)'!$AQ49, \"\")","v":""},null,{"$f":"IFERROR('データ(2)'!$AT49, \"\")","v":""},null,{"$f":"IFERROR('データ(2)'!$AR49, \"\")","v":""},null,{"$f":"IFERROR('データ(2)'!$AS49, \"\")","v":""},null,{"$f":"IFERROR('データ(3)'!$AU49, \"\")","v":""},null,{"$f":"IFERROR('データ(3)'!$AP49, \"\")","v":""},null,{"$f":"IFERROR('データ(3)'!$AQ49, \"\")","v":""},null,{"$f":"IFERROR('データ(3)'!$AT49, \"\")","v":""},null,{"$f":"IFERROR('データ(3)'!$AR49, \"\")","v":""},null,{"$f":"IFERROR('データ(3)'!$AS49, \"\")","v":""}]
[null,null,null,null,null,null,null,null,null,null,null,null,null,null,null,"全体平均",null,null,null,null,null,null,null,null,{"$f":"IFERROR('データ(1)'!$AU51, \"\")","v":""},null,{"$f":"IFERROR('データ(1)'!$AP51, \"\")","v":""},null,{"$f":"IFERROR('データ(1)'!$AQ51, \"\")","v":""},null,{"$f":"IFERROR('データ(1)'!$AT51, \"\")","v":""},null,{"$f":"IFERROR('データ(1)'!$AR51, \"\")","v":""},null,{"$f":"IFERROR('データ(1)'!$AS51, \"\")","v":""},null,{"$f":"IFERROR('データ(2)'!$AU51, \"\")","v":""},null,{"$f":"IFERROR('データ(2)'!$AP51, \"\")","v":""},null,{"$f":"IFERROR('データ(2)'!$AQ51, \"\")","v":""},null,{"$f":"IFERROR('データ(2)'!$AT51, \"\")","v":""},null,{"$f":"IFERROR('データ(2)'!$AR51, \"\")","v":""},null,{"$f":"IFERROR('データ(2)'!$AS51, \"\")","v":""},null,{"$f":"IFERROR('データ(3)'!$AU51, \"\")","v":""},null,{"$f":"IFERROR('データ(3)'!$AP51, \"\")","v":""},null,{"$f":"IFERROR('データ(3)'!$AQ51, \"\")","v":""},null,{"$f":"IFERROR('データ(3)'!$AT51, \"\")","v":""},null,{"$f":"IFERROR('データ(3)'!$AR51, \"\")","v":""},null,{"$f":"IFERROR('データ(3)'!$AS51, \"\")","v":""}]

{"sheet":"プロフィール選択","index":9,"n_rows":24,"n_cols":8,"rows_kept":24,"cut":false,"hidden":false,"merged":[[0,0,0,9],[1,0,1,9],[3,8,3,9],[2,0,2,9]]}
["プロフィール選択"]
["表示したい児童にチェックを入れて、「PDF表示」ボタンをクリックしてください。"]
["　　　　　　　※PDFファイルの表示には、１～２分かかることがあります。"]
["✓","番号","氏名","性別","✓","番号","氏名","性別"]
[null,1,{"$f":"'データ(1)'!B6","v":0},{"$f":"'データ(1)'!C6","v":0},null,21,{"$f":"'データ(1)'!B26","v":0},{"$f":"'データ(1)'!C26","v":0}]
[null,2,{"$f":"'データ(1)'!B7","v":0},{"$f":"'データ(1)'!C7","v":0},null,22,{"$f":"'データ(1)'!B27","v":0},{"$f":"'データ(1)'!C27","v":0}]
[null,3,{"$f":"'データ(1)'!B8","v":0},{"$f":"'データ(1)'!C8","v":0},null,23,{"$f":"'データ(1)'!B28","v":0},{"$f":"'データ(1)'!C28","v":0}]
[null,4,{"$f":"'データ(1)'!B9","v":0},{"$f":"'データ(1)'!C9","v":0},null,24,{"$f":"'データ(1)'!B29","v":0},{"$f":"'データ(1)'!C29","v":0}]
[null,5,{"$f":"'データ(1)'!B10","v":0},{"$f":"'データ(1)'!C10","v":0},null,25,{"$f":"'データ(1)'!B30","v":0},{"$f":"'データ(1)'!C30","v":0}]
[null,6,{"$f":"'データ(1)'!B11","v":0},{"$f":"'データ(1)'!C11","v":0},null,26,{"$f":"'データ(1)'!B31","v":0},{"$f":"'データ(1)'!C31","v":0}]
[null,7,{"$f":"'データ(1)'!B12","v":0},{"$f":"'データ(1)'!C12","v":0},null,27,{"$f":"'データ(1)'!B32","v":0},{"$f":"'データ(1)'!C32","v":0}]
[null,8,{"$f":"'データ(1)'!B13","v":0},{"$f":"'データ(1)'!C13","v":0},null,28,{"$f":"'データ(1)'!B33","v":0},{"$f":"'データ(1)'!C33","v":0}]
[null,9,{"$f":"'データ(1)'!B14","v":0},{"$f":"'データ(1)'!C14","v":0},null,29,{"$f":"'データ(1)'!B34","v":0},{"$f":"'データ(1)'!C34","v":0}]
[null,10,{"$f":"'データ(1)'!B15","v":0},{"$f":"'データ(1)'!C15","v":0},null,30,{"$f":"'データ(1)'!B35","v":0},{"$f":"'データ(1)'!C35","v":0}]
[null,11,{"$f":"'データ(1)'!B16","v":0},{"$f":"'データ(1)'!C16","v":0},null,31,{"$f":"'データ(1)'!B36","v":0},{"$f":"'データ(1)'!C36","v":0}]
[null,12,{"$f":"'データ(1)'!B17","v":0},{"$f":"'データ(1)'!C17","v":0},null,32,{"$f":"'データ(1)'!B37","v":0},{"$f":"'データ(1)'!C37","v":0}]
[null,13,{"$f":"'データ(1)'!B18","v":0},{"$f":"'データ(1)'!C18","v":0},null,33,{"$f":"'データ(1)'!B38","v":0},{"$f":"'データ(1)'!C38","v":0}]
[null,14,{"$f":"'データ(1)'!B19","v":0},{"$f":"'データ(1)'!C19","v":0},null,34,{"$f":"'データ(1)'!B39","v":0},{"$f":"'データ(1)'!C39","v":0}]
[null,15,{"$f":"'データ(1)'!B20","v":0},{"$f":"'データ(1)'!C20","v":0},null,35,{"$f":"'データ(1)'!B40","v":0},{"$f":"'データ(1)'!C40","v":0}]
[null,16,{"$f":"'データ(1)'!B21","v":0},{"$f":"'データ(1)'!C21","v":0},null,36,{"$f":"'データ(1)'!B41","v":0},{"$f":"'データ(1)'!C41","v":0}]
[null,17,{"$f":"'データ(1)'!B22","v":0},{"$f":"'データ(1)'!C22","v":0},null,37,{"$f":"'データ(1)'!B42","v":0},{"$f":"'データ(1)'!C42","v":0}]
[null,18,{"$f":"'データ(1)'!B23","v":0},{"$f":"'データ(1)'!C23","v":0},null,38,{"$f":"'データ(1)'!B43","v":0},{"$f":"'データ(1)'!C43","v":0}]
[null,19,{"$f":"'データ(1)'!B24","v":0},{"$f":"'データ(1)'!C24","v":0},null,39,{"$f":"'データ(1)'!B44","v":0},{"$f":"'データ(1)'!C44","v":0}]
[null,20,{"$f":"'データ(1)'!B25","v":0},{"$f":"'データ(1)'!C25","v":0},null,40,{"$f":"'データ(1)'!B45","v":0},{"$f":"'データ(1)'!C45","v":0}]

{"sheet":"PR","index":10,"n_rows":80,"n_cols":36,"rows_kept":80,"cut":false,"hidden":false,"merged":[[30,0,31,10],[21,3,22,3],[19,3,20,3],[31,20,32,20],[4,19,6,19],[4,12,5,12],[6,18,7,18],[7,19,9,19],[6,12,7,12],[6,16,7,16],[6,17,7,17],[4,17,5,17],[9,1,9,3],[7,1,7,3],[8,4,8,5],[8,1,8,3],[9,4,9,5],[28,28,40,28],[0,0,0,18],[1,6,1,7],[1,9,1,10],[4,16,5,16],[4,0,6,0],[4,1,4,3],[5,4,5,5],[4,18,5,18],[6,4,6,5],[5,1,5,3],[3,0,3,12],[5,6,5,11],[6,6,6,11],[6,1,6,3],[12,13,13,17],[53,0,54,10],[42,28,56,28],[9,21,9,23],[18,3,18,4],[8,12,10,12],[12,26,13,29],[55,0,56,10],[29,20,30,20],[12,1,13,5],[17,3,17,7],[23,3,24,3],[33,20,34,20],[28,2,29,2],[9,6,9,11],[8,6,8,11]]}
["プロフィール表"]
[null,null,{"$f":"'データ(1)'!$B$1 & \"年\" & 'データ(1)'!$B$2 & \"組\"","v":"年組"},"No.",1,"〔氏名〕",{"$f":"VLOOKUP($E$2,data1,2)","v":0},null,"〔性別〕",{"$f":"VLOOKUP($E$2,data1,3)","v":0}]
[]
[null,null,null,null,null,null,null,null,null,null,null,null,null,"小Ⅰ","小Ⅱ","小Ⅲ","合　計　Ⅰ","合　計　Ⅱ","合　計　Ⅲ"]
[null,null,null,null,null,null,null,null,null,null,null,null,"自分づくり",{"$f":"VLOOKUP($E$2,data1,42)","v":0},{"$f":"VLOOKUP($E$2,data2,42)","v":0},{"$f":"VLOOKUP($E$2,data3,42)","v":0},{"$f":"N5+N6","v":0},{"$f":"O5+O6","v":0},{"$f":"P5+P6","v":0}]
[null,null,null,null,null,null,null,null,null,null,null,null,null,{"$f":"VLOOKUP($E$2,data1,43)","v":0},{"$f":"VLOOKUP($E$2,data2,43)","v":0},{"$f":"VLOOKUP($E$2,data3,43)","v":0},null,{"$f":"VLOOKUP($E$2,data1,39)","v":0},{"$f":"VLOOKUP($E$2,data1,39)","v":0}]
[null,null,null,null,null,null,null,null,null,null,null,null,"仲間づくり",{"$f":"VLOOKUP($E$2,data1,44)","v":0},{"$f":"VLOOKUP($E$2,data2,44)","v":0},{"$f":"VLOOKUP($E$2,data3,44)","v":0},{"$f":"N7+N8","v":0},{"$f":"O7+O8","v":0},{"$f":"P7+P8","v":0}]
[null,null,null,null,null,null,null,null,null,null,null,null,null,{"$f":"VLOOKUP($E$2,data1,45)","v":0},{"$f":"VLOOKUP($E$2,data2,45)","v":0},{"$f":"VLOOKUP($E$2,data3,45)","v":0}]
[null,null,null,null,null,null,null,null,null,null,null,null,"参考指標",{"$f":"VLOOKUP($E$2,data1,39)","v":0},{"$f":"VLOOKUP($E$2,data2,39)","v":0},{"$f":"VLOOKUP($E$2,data3,39)","v":0},{"$f":"N9","v":0},0,0]
[null,null,null,null,null,null,null,null,null,null,null,null,null,{"$f":"VLOOKUP($E$2,data1,41)","v":0},{"$f":"VLOOKUP($E$2,data2,41)","v":0},{"$f":"VLOOKUP($E$2,data3,41)","v":0},0,0,0]
[null,null,null,null,null,null,null,null,null,null,null,null,null,{"$f":"VLOOKUP($E$2,data1,40)","v":0},{"$f":"VLOOKUP($E$2,data2,40)","v":0},{"$f":"VLOOKUP($E$2,data3,40)","v":0},0,0,0]
[]
[null,"個人レーダーチャート",null,null,null,null,null,null,null,null,null,null,null,"学級分布図での位置",null,null,null,null,null,null,null,null,"１回目","２回目","３回目"]
[null,null,null,null,null,null,null,null,null,null,null,null,null,null,null,null,null,null,null,null,null,"自分づくり",{"$f":"Q5","v":0},{"$f":"R5","v":0},{"$f":"S5","v":0}]
[null,null,null,null,null,null,null,null,null,null,null,null,null,null,null,null,null,null,null,null,null,"集団・仲間づくり",{"$f":"Q7","v":0},{"$f":"R7","v":0},{"$f":"S7","v":0}]
[null,null,null,null,null,null,null,null,null,null,null,null,null,null,null,null,null,null,null,null,null,null,null,null,null,null,null,null,null,"学年","性別"]
[null,null,null,null,null,null,null,null,null,null,null,null,null,null,null,null,null,null,null,null,null,null,"素点",null,null,null,"段階",null,null,{"$f":"'データ(1)'!$B$1","v":0},{"$f":"$J$2","v":0}]
[null,null,null,null,null,null,null,null,null,null,null,null,null,null,null,null,null,null,null,null,null,null,"１回目","２回目","３回目",null,"１回目","２回目","３回目","段階項目","段階番号"]
[null,null,null,null,null,null,null,null,null,null,null,null,null,null,null,null,null,null,null,null,null,{"$f":"質問項目!$C$2","v":"自己効力感"},{"$f":"N5","v":0},0,0,{"$f":"V19","v":"自己効力感"},{"$f":"IF(W19=0,\"\",VLOOKUP(W19,段階表,$AE19))","v":""},{"$f":"IF(X19=0,\"\",VLOOKUP(X19,段階表,$AE19))","v":""},{"$f":"IF(Y19=0,\"\",VLOOKUP(Y19,段階表,$AE19))","v":""},{"$f":"$V19 & $AD$17 & $AE$17","v":"自己効力感00"},{"$f":"HLOOKUP(AD19,段階番号,2,0)","v":{"$error":"#N/A"}}]
[null,null,null,null,null,null,null,null,null,null,null,null,null,null,null,null,null,null,null,null,null,{"$f":"質問項目!$C$6","v":"自尊感情"},0,0,0,"自尊感情","","","","自尊感情00",{"$error":"#N/A"}]
[null,null,null,null,null,null,null,null,null,null,null,null,null,null,null,null,null,null,null,null,null,{"$f":"質問項目!$C$16","v":"自己表現"},0,0,0,"自己表現","","","","自己表現00",{"$error":"#N/A"}]
[null,null,null,null,null,null,null,null,null,null,null,null,null,null,null,null,null,null,null,null,null,{"$f":"質問項目!$C$22","v":"共感・配慮"},0,0,0,"共感・配慮","","","","共感・配慮00",{"$error":"#N/A"}]
[null,null,null,null,null,null,null,null,null,null,null,null,null,null,null,null,null,null,null,null,null,{"$f":"質問項目!$C$12","v":"学級居心地感"},0,0,0,"学級居心地感","","","","学級居心地感00",{"$error":"#N/A"}]
[null,null,null,null,null,null,null,null,null,null,null,null,null,null,null,null,null,null,null,null,null,{"$f":"質問項目!$C$28","v":"かかわり"},0,0,0,"かかわり","","","","かかわり00",{"$error":"#N/A"}]
[null,null,null,null,null,null,null,null,null,null,null,null,null,null,null,null,null,null,null,null,null,{"$f":"質問項目!$C$9","v":"心配傾向"},0,0,0,"心配傾向","","","","心配傾向00",{"$error":"#N/A"}]
[null,null,null,null,null,null,null,null,null,null,null,null,null,null,null,null,null,null,null,null,null,"自分づくり",{"$f":"Q5","v":0},null,null,"自分づくり",{"$f":"IF(W26=0,\"\",VLOOKUP(W26,段階表,$AE26))","v":""},"","","自分づくり00",{"$error":"#N/A"},null,null,null,null,"add"]
[null,null,null,null,null,null,null,null,null,null,null,null,null,null,null,null,null,null,null,null,null,"仲間づくり",{"$f":"Q7","v":0},null,null,"仲間づくり","","",{"$f":"IF(Y27=0,\"\",VLOOKUP(Y27,段階表,$AE27))","v":""},"仲間づくり00",{"$error":"#N/A"},"一回目","二回目","三回目","番号",9]
[null,null,null,null,null,null,null,null,null,null,null,null,null,null,null,null,null,null,null,null,null,null,null,null,null,null,null,null,null,{"$f":"質問項目!$C$2","v":"自己効力感"},{"$f":"質問項目!F2","v":"1_うまくいかなくても最後まで頑張る"},{"$f":"VLOOKUP($E$2,data1,$AJ28)","v":0},{"$f":"VLOOKUP($E$2,data2,$AJ28)","v":0},{"$f":"VLOOKUP($E$2,data3,$AJ28)","v":0},{"$f":"質問項目!D2","v":1},{"$f":"AI28+$AJ$27","v":10}]
[null,null,null,null,null,null,null,null,null,null,null,null,null,null,null,null,null,null,null,null,null,null,null,null,null,null,null,null,null,null,{"$f":"質問項目!F3","v":"2_人の役に立っている"},0,{"$f":"VLOOKUP($E$2,data2,$AJ29)","v":0},{"$f":"VLOOKUP($E$2,data3,$AJ29)","v":0},{"$f":"質問項目!D3","v":2},11]
[null,null,null,null,null,null,null,null,null,null,null,null,null,null,null,null,null,null,null,null,null,null,null,null,null,null,null,null,null,null,{"$f":"質問項目!F4","v":"8_頑張れば成績は良くなる"},0,{"$f":"VLOOKUP($E$2,data2,$AJ30)","v":0},{"$f":"VLOOKUP($E$2,data3,$AJ30)","v":0},{"$f":"質問項目!D4","v":8},17]
["回答データ（自分づくり）",null,null,null,null,null,null,null,null,null,null,null,null,null,null,null,null,null,null,null,null,null,null,null,null,null,null,null,null,null,{"$f":"質問項目!F5","v":"10_とにかくやってみる"},0,{"$f":"VLOOKUP($E$2,data2,$AJ31)","v":0},{"$f":"VLOOKUP($E$2,data3,$AJ31)","v":0},{"$f":"質問項目!D5","v":10},19]
[null,null,null,null,null,null,null,null,null,null,null,null,null,null,null,null,null,null,null,null,null,null,null,null,null,null,null,null,null,{"$f":"質問項目!$C$6","v":"自尊感情"},{"$f":"質問項目!F6","v":"4_自分を大切だと思う"},0,{"$f":"VLOOKUP($E$2,data2,$AJ32)","v":0},{"$f":"VLOOKUP($E$2,data3,$AJ32)","v":0},{"$f":"質問項目!D6","v":4},13]
[null,null,null,null,null,null,null,null,null,null,null,null,null,null,null,null,null,null,null,null,null,null,null,null,null,null,null,null,null,null,{"$f":"質問項目!F7","v":"5_自分が好きだ"},0,{"$f":"VLOOKUP($E$2,data2,$AJ33)","v":0},{"$f":"VLOOKUP($E$2,data3,$AJ33)","v":0},{"$f":"質問項目!D7","v":5},14]
[null,null,null,null,null,null,null,null,null,null,null,null,null,null,null,null,null,null,null,null,null,null,null,null,null,null,null,null,null,null,{"$f":"質問項目!F8","v":"7_いろいろなよいところがある"},0,0,0,{"$f":"質問項目!D8","v":7},16]
[]
[null,null,null,null,null,null,null,null,null,null,null,null,null,null,null,null,null,null,null,null,null,null,null,null,null,null,null,null,null,{"$f":"質問項目!$C$9","v":"心配傾向"},{"$f":"質問項目!F9","v":"3_うまくいかないかと心配"},{"$f":"VLOOKUP($E$2,data1,$AJ36)","v":0},0,0,{"$f":"質問項目!D9","v":3},{"$f":"AI36+$AJ$27","v":12}]
[null,null,null,null,null,null,null,null,null,null,null,null,null,null,null,null,null,null,null,null,null,null,null,null,null,null,null,null,null,null,{"$f":"質問項目!F10","v":"6_にげだしてしまう"},{"$f":"VLOOKUP($E$2,data1,$AJ37)","v":0},0,0,{"$f":"質問項目!D10","v":6},{"$f":"AI37+$AJ$27","v":15}]
[null,null,null,null,null,null,null,null,null,null,null,null,null,null,null,null,null,null,null,null,null,null,null,null,null,null,null,null,null,null,{"$f":"質問項目!F11","v":"9_いいなりになる"},{"$f":"VLOOKUP($E$2,data1,$AJ38)","v":0},0,0,{"$f":"質問項目!D11","v":9},{"$f":"AI38+$AJ$27","v":18}]
[]
[]
[null,null,null,null,null,null,null,null,null,null,null,null,null,null,null,null,null,null,null,null,null,null,null,null,null,null,null,null,null,null,null,null,null,null,null,"add2"]
[null,null,null,null,null,null,null,null,null,null,null,null,null,null,null,null,null,null,null,null,null,null,null,null,null,null,null,null,null,null,null,"一回目","二回目","三回目","番号",24]
[null,null,null,null,null,null,null,null,null,null,null,null,null,null,null,null,null,null,null,null,null,null,null,null,null,null,null,null,null,{"$f":"質問項目!$C$16","v":"自己表現"},{"$f":"質問項目!F16","v":"1_アイデアを出せる"},{"$f":"VLOOKUP($E$2,data1,$AJ43)","v":0},{"$f":"VLOOKUP($E$2,data2,$AJ43)","v":0},{"$f":"VLOOKUP($E$2,data3,$AJ43)","v":0},{"$f":"質問項目!H16","v":1},{"$f":"AI43+$AJ$42","v":25}]
[null,null,null,null,null,null,null,null,null,null,null,null,null,null,null,null,null,null,null,null,null,null,null,null,null,null,null,null,null,null,{"$f":"質問項目!F17","v":"2_遊びに誘える"},0,0,0,{"$f":"質問項目!H17","v":2},26]
[null,null,null,null,null,null,null,null,null,null,null,null,null,null,null,null,null,null,null,null,null,null,null,null,null,null,null,null,null,null,{"$f":"質問項目!F18","v":"4_いやなときははっきり断れる"},0,0,0,{"$f":"質問項目!H18","v":4},28]
[null,null,null,null,null,null,null,null,null,null,null,null,null,null,null,null,null,null,null,null,null,null,null,null,null,null,null,null,null,null,{"$f":"質問項目!F19","v":"5_わからなければ上手に質問できる"},0,0,0,{"$f":"質問項目!H19","v":5},29]
[null,null,null,null,null,null,null,null,null,null,null,null,null,null,null,null,null,null,null,null,null,null,null,null,null,null,null,null,null,null,{"$f":"質問項目!F20","v":"8_人と違っていても意見が言える"},0,0,0,{"$f":"質問項目!H20","v":8},32]
[null,null,null,null,null,null,null,null,null,null,null,null,null,null,null,null,null,null,null,null,null,null,null,null,null,null,null,null,null,null,{"$f":"質問項目!F21","v":"11_友達の話に入れる"},0,0,0,{"$f":"質問項目!H21","v":11},35]
[null,null,null,null,null,null,null,null,null,null,null,null,null,null,null,null,null,null,null,null,null,null,null,null,null,null,null,null,null,{"$f":"質問項目!$C$22","v":"共感・配慮"},{"$f":"質問項目!F22","v":"3_励ましたりなぐさめたりできる"},0,0,0,{"$f":"質問項目!H22","v":3},27]
[null,null,null,null,null,null,null,null,null,null,null,null,null,null,null,null,null,null,null,null,null,null,null,null,null,null,null,null,null,null,{"$f":"質問項目!F23","v":"6_一緒に喜ぶことができる"},0,0,0,{"$f":"質問項目!H23","v":6},30]
[null,null,null,null,null,null,null,null,null,null,null,null,null,null,null,null,null,null,null,null,null,null,null,null,null,null,null,null,null,null,{"$f":"質問項目!F24","v":"7_悪いと思ったら謝れる"},0,0,0,{"$f":"質問項目!H24","v":7},31]
[null,null,null,null,null,null,null,null,null,null,null,null,null,null,null,null,null,null,null,null,null,null,null,null,null,null,null,null,null,null,{"$f":"質問項目!F25","v":"9_最後まで話を聞くことができる"},0,0,0,{"$f":"質問項目!H25","v":9},33]
[null,null,null,null,null,null,null,null,null,null,null,null,null,null,null,null,null,null,null,null,null,null,null,null,null,null,null,null,null,null,{"$f":"質問項目!F26","v":"10_相手の気持ちを考えて頼む"},{"$f":"VLOOKUP($E$2,data1,$AJ53)","v":0},0,0,{"$f":"質問項目!H26","v":10},34]
["回答データ（仲間づくり）",null,null,null,null,null,null,null,null,null,null,null,null,null,null,null,null,null,null,null,null,null,null,null,null,null,null,null,null,null,{"$f":"質問項目!F27","v":"12_他の人の気持ちを考え我慢できる"},0,0,0,{"$f":"質問項目!H27","v":12},36]
[null,null,null,null,null,null,null,null,null,null,null,null,null,null,null,null,null,null,null,null,null,null,null,null,null,null,null,null,null,{"$f":"質問項目!$C$12","v":"学級居心地感"},{"$f":"質問項目!F12","v":"11_クラスの友達と一緒で楽しい"},0,0,0,{"$f":"質問項目!D12","v":11},{"$f":"AI55+$AJ$27","v":20}]
[null,null,null,null,null,null,null,null,null,null,null,null,null,null,null,null,null,null,null,null,null,null,null,null,null,null,null,null,null,null,{"$f":"質問項目!F13","v":"12_クラスの友達に大切にされる"},0,0,0,{"$f":"質問項目!D13","v":12},{"$f":"AI56+$AJ$27","v":21}]
[null,null,null,null,null,null,null,null,null,null,null,null,null,null,null,null,null,null,null,null,null,null,null,null,null,null,null,null,null,null,{"$f":"質問項目!F14","v":"13_クラスが気に入っている"},0,0,0,{"$f":"質問項目!D14","v":13},{"$f":"AI57+$AJ$27","v":22}]
[null,null,null,null,null,null,null,null,null,null,null,null,null,null,null,null,null,null,null,null,null,null,null,null,null,null,null,null,null,null,{"$f":"質問項目!F15","v":"14_このクラスになってよかった"},0,0,0,{"$f":"質問項目!D15","v":14},{"$f":"AI58+$AJ$27","v":23}]
[null,null,null,null,null,null,null,null,null,null,null,null,null,null,null,null,null,null,null,null,null,null,null,null,null,null,null,null,null,null,"人の役に立っています"]
[null,null,null,null,null,null,null,null,null,null,null,null,null,null,null,null,null,null,null,null,null,null,null,null,null,null,null,null,null,null,"進んであいさつすることができる"]
[null,null,null,null,null,null,null,null,null,null,null,null,null,null,null,null,null,null,null,null,null,null,null,null,null,null,null,null,null,null,"自分のことを話すことができる"]
[]
[null,null,null,null,null,null,null,null,null,null,null,null,null,null,null,null,null,null,null,null,null,null,null,null,null,null,null,null,null,null,null,"一回目","二回目","三回目","番号"]
[null,null,null,null,null,null,null,null,null,null,null,null,null,null,null,null,null,null,null,null,null,null,null,null,null,null,null,null,null,{"$f":"質問項目!$C$28","v":"かかわり"},{"$f":"質問項目!F28","v":"2_遊びに誘える"},{"$f":"VLOOKUP($E$2,data1,$AJ64)","v":0},{"$f":"VLOOKUP($E$2,data2,$AJ64)","v":0},{"$f":"VLOOKUP($E$2,data3,$AJ64)","v":0},{"$f":"質問項目!H28","v":2},{"$f":"AI64+$AJ$42","v":26}]
[null,null,null,null,null,null,null,null,null,null,null,null,null,null,null,null,null,null,null,null,null,null,null,null,null,null,null,null,null,null,{"$f":"質問項目!F29","v":"3_励ましたりなぐさめたりできる"},{"$f":"VLOOKUP($E$2,data1,$AJ65)","v":0},{"$f":"VLOOKUP($E$2,data2,$AJ65)","v":0},{"$f":"VLOOKUP($E$2,data3,$AJ65)","v":0},{"$f":"質問項目!H29","v":3},{"$f":"AI65+$AJ$42","v":27}]
[null,null,null,null,null,null,null,null,null,null,null,null,null,null,null,null,null,null,null,null,null,null,null,null,null,null,null,null,null,null,{"$f":"質問項目!F30","v":"6_一緒に喜ぶことができる"},{"$f":"VLOOKUP($E$2,data1,$AJ66)","v":0},{"$f":"VLOOKUP($E$2,data2,$AJ66)","v":0},{"$f":"VLOOKUP($E$2,data3,$AJ66)","v":0},{"$f":"質問項目!H30","v":6},{"$f":"AI66+$AJ$42","v":30}]
[null,null,null,null,null,null,null,null,null,null,null,null,null,null,null,null,null,null,null,null,null,null,null,null,null,null,null,null,null,null,{"$f":"質問項目!F31","v":"11_友達の話に入れる"},{"$f":"VLOOKUP($E$2,data1,$AJ67)","v":0},{"$f":"VLOOKUP($E$2,data2,$AJ67)","v":0},{"$f":"VLOOKUP($E$2,data3,$AJ67)","v":0},{"$f":"質問項目!H31","v":11},{"$f":"AI67+$AJ$42","v":35}]
[]
[]
[]
[]
[]
[]
[]
[]
[]
[]
[null,null,null,null,null,null,null,null,null,null,null,null,null,null,null,null,null,null,null,null,null,"基準値設定"]
[null,null,null,null,null,null,null,null,null,null,null,null,null,null,null,null,null,null,null,null,null,"選択学年","性別","範囲名","基準自分","基準仲間"]
[null,null,null,null,null,null,null,null,null,null,null,null,null,null,null,null,null,null,null,null,null,{"$f":"'データ(1)'!$B$1","v":0},{"$f":"$J$2","v":0},{"$f":"\"基準\" & W80","v":"基準0"},{"$f":"VLOOKUP($V$80,INDIRECT($X$80),2)","v":{"$error":"#REF!"}},{"$f":"VLOOKUP($V$80,INDIRECT($X$80),3)","v":{"$error":"#REF!"}}]

{"sheet":"風土印刷","index":11,"n_rows":18,"n_cols":47,"rows_kept":18,"cut":false,"hidden":false,"merged":[[17,0,25,45],[1,37,1,45],[1,0,1,4],[2,37,5,45],[14,0,15,0],[12,0,13,0],[6,15,6,22],[10,0,11,0],[6,23,6,45],[2,0,5,4],[2,16,5,25],[7,0,7,5],[9,0,9,1],[6,0,6,1],[6,2,6,5],[6,7,6,13],[0,0,0,4],[2,28,5,34],[2,6,5,13],[1,6,1,13],[1,16,1,25],[1,28,1,34]]}
["メニューへ戻る"]
["実施手順",null,null,null,null,null,"手順１",null,null,null,null,null,null,null,null,null,"手順２",null,null,null,null,null,null,null,null,null,null,null,"手順３",null,null,null,null,null,null,null,null,"手順４"]
["・複数の教師がそれぞれチェックを行った後に話し合う場合は、１、２、３、４の手順で行います。\n・複数の教師がその場で話し合ってチェックを行う場合は、１、２、４の順で行います。",null,null,null,null,null,"観察者が普段感じている\n「学級の全般的印象印象」について\nＡ～Ｆの観点毎に、\n＜◎：十分に達成している＞\n＜無印：概ね達成している＞\n＜△：困り感がある＞\nの３段階でチェックします。",null,null,null,null,null,null,null,null,null,"手順１が終えたら、Ａ～Ｆの観点毎に\n＜十分に達成している＞＜困り感がある＞と直感的に思い浮かぶ子どもについて、それぞれ◎、△をつけます。\nすぐに名前が思い浮かばない子どもについては無印です。\n（このチェックシートを一人で行う場合は、概ね１０分～１５分の時間で終えて下さい。）",null,null,null,null,null,null,null,null,null,null,null,"複数の教師のチェックシートを集めて、「学級風土チェックまとめシート」入力画面に入力し、印刷します。\n 印刷した「学級風土チェックまとめシート」を使って話し合います。",null,null,null,null,null,null,null,null,"「学級風土チェックまとめシート」入力画面で、まとめ欄に最終評価を記入し、学級課題欄に、課題と思われることを記入します。（まとめ欄に最終チェックを入力しないと、個人プロフィール表に反映されません）"]
[]
[]
[]
["( )回目",null,"観察者名（　　　　　　　）",null,null,null,"◎","：十分に達成している",null,null,null,null,null,null,"△","：困り感、または課題がある",null,null,null,null,null,null,null,"無印：おおむね達成（子どもについては、思い浮かばない）",null,null,null,null,null,null,null,null,null,null,null,null,null,null,null,null,null,null,null,null,null,null,{"$f":"$G$7","v":"◎"}]
["学級風土の状況",null,null,null,null,null,1,{"$f":"G8+1","v":2},{"$f":"H8+1","v":3},4,5,6,7,8,9,10,11,12,13,14,15,16,17,18,19,20,21,22,23,24,25,26,27,28,29,30,31,32,33,34,35,36,37,38,39,40,{"$f":"$O$7","v":"△"}]
[null,null,null,null,null,null,{"$f":"\"B\"& (G8+4)","v":"B5"},{"$f":"\"B\"& (H8+4)","v":"B6"},"B7","B8","B9","B10","B11","B12","B13","B14","B15","B16","B17","B18","B19","B20","B21","B22","B23","B24","B25","B26","B27","B28","B29","B30","B31","B32","B33","B34","B35","B36","B37","B38","B39","B40","B41","B42","B43","B44"]
["観察の視点",null,{"$f":"風土説明!$C1","v":"具体の視点\n◎～△印"},null,{"$f":"風土説明!$D1","v":"社会的スキルと関連づけた観点\n◎～△印"},"学級の全般的印象",{"$f":"'データ(1)'!$B$6","v":0},{"$f":"'データ(1)'!$B$7","v":0},{"$f":"'データ(1)'!$B$8","v":0},{"$f":"'データ(1)'!$B$9","v":0},{"$f":"'データ(1)'!$B$10","v":0},{"$f":"'データ(1)'!$B$11","v":0},{"$f":"'データ(1)'!$B$12","v":0},{"$f":"'データ(1)'!$B$13","v":0},{"$f":"'データ(1)'!$B$14","v":0},{"$f":"'データ(1)'!$B$15","v":0},{"$f":"'データ(1)'!$B$16","v":0},{"$f":"'データ(1)'!$B$17","v":0},{"$f":"'データ(1)'!$B$18","v":0},{"$f":"'データ(1)'!$B$19","v":0},{"$f":"'データ(1)'!$B$20","v":0},{"$f":"'データ(1)'!$B$21","v":0},{"$f":"'データ(1)'!$B$22","v":0},{"$f":"'データ(1)'!$B$23","v":0},{"$f":"'データ(1)'!$B$24","v":0},{"$f":"'データ(1)'!$B$25","v":0},{"$f":"'データ(1)'!$B$26","v":0},{"$f":"'データ(1)'!$B$27","v":0},{"$f":"'データ(1)'!$B$28","v":0},{"$f":"'データ(1)'!$B$29","v":0},{"$f":"'データ(1)'!$B$30","v":0},{"$f":"'データ(1)'!$B$31","v":0},{"$f":"'データ(1)'!$B$32","v":0},{"$f":"'データ(1)'!$B$33","v":0},{"$f":"'データ(1)'!$B$34","v":0},{"$f":"'データ(1)'!$B$35","v":0},{"$f":"'データ(1)'!$B$36","v":0},{"$f":"'データ(1)'!$B$37","v":0},{"$f":"'データ(1)'!$B$38","v":0},{"$f":"'データ(1)'!$B$39","v":0},{"$f":"'データ(1)'!$B$40","v":0},{"$f":"'データ(1)'!$B$41","v":0},{"$f":"'データ(1)'!$B$42","v":0},{"$f":"'データ(1)'!$B$43","v":0},{"$f":"'データ(1)'!$B$44","v":0},{"$f":"'データ(1)'!$B$45","v":0}]
["自\n分\nづ\nく\nり",{"$f":"風土説明!$B2","v":"Ａ\n公正\n（自己効力感）"},{"$f":"風土説明!$C2","v":"よいことはよい、悪いことは悪いと言える雰囲気がある"},{"$f":"風土説明!D2","v":"場の雰囲気や人の意見に流されず、自分の意見や感じ方を表明できる（①②）"},{"$f":"風土説明!$D2","v":"場の雰囲気や人の意見に流されず、自分の意見や感じ方を表明できる（①②）"}]
[null,{"$f":"風土説明!$B3","v":"Ｂ\n寛容\n（自尊感情）"},{"$f":"風土説明!$C3","v":"失敗や意見の違いを温かく認め、包み込んでいこうとする雰囲気がある"},{"$f":"風土説明!D3","v":"互いのよさや違いを認め、尊重していこうとする（③④）"},{"$f":"風土説明!$D3","v":"互いのよさや違いを認め、尊重していこうとする（③④）"}]
["仲\n間\nづ\nく\nり",{"$f":"風土説明!$B4","v":"Ｃ\n自己表現\n（含かかわり）"},{"$f":"風土説明!$C4","v":"率直かつ適切な意志の伝達や感情交流がある"},{"$f":"風土説明!D4","v":"友達との明快なコミュニケーションがとれる（⑤～⑪）"},{"$f":"風土説明!$D4","v":"友達との明快なコミュニケーションがとれる（⑤～⑪）"}]
[null,{"$f":"風土説明!$B5","v":"Ｄ\n配慮"},{"$f":"風土説明!$C5","v":"思いやりのある言動・行動が自然に現れる"},{"$f":"風土説明!D5","v":"友達の気持ちを推しはかって行動ができる（⑫～⑯）"},{"$f":"風土説明!$D5","v":"友達の気持ちを推しはかって行動ができる（⑫～⑯）"}]
["集\n団\nづ\nく\nり",{"$f":"風土説明!$B6","v":"Ｅ\n課題遂行"},{"$f":"風土説明!$C6","v":"グループの目的や課題解決に意欲をもつ"},{"$f":"風土説明!D6","v":"集団の課題・目標を達成するために話し合いを進めている（⑱）"},{"$f":"風土説明!$D6","v":"集団の課題・目標を達成するために話し合いを進めている（⑱）"}]
[null,{"$f":"風土説明!$B7","v":"Ｆ\n合意形成"},{"$f":"風土説明!$C7","v":"意見や感情の違いを認めながら、集団の意見をまとめようとする"},{"$f":"風土説明!D7","v":"みんなの意見を上手に取り入れて話し合いの調整をしている（⑰）"},{"$f":"風土説明!$D7","v":"みんなの意見を上手に取り入れて話し合いの調整をしている（⑰）"}]
[]
["課題記入欄"]

{"sheet":"基準値","index":12,"n_rows":30,"n_cols":8,"rows_kept":30,"cut":false,"hidden":false,"merged":[[19,5,29,5],[1,3,9,3],[1,4,18,4],[10,3,18,3],[19,0,20,0],[19,1,19,2],[19,3,19,4]]}
["学年","自分づくり","仲間づくり",null,null,"中以上","高学年","低学年"]
["小１",32,47,"男子","平均値","中１","小３","小１"]
["小２",32,47,null,null,"中２","小４","小２"]
["小３",26,45,null,null,"中３","小５"]
["小４",26,45,null,null,"高一","小６"]
["小５",25,45,null,null,"高二"]
["小６",25,45,null,null,"高三"]
["中１",25,45]
["中２",24,45]
["中３",24,45]
["小１",33,49,"女子"]
["小２",33,49]
["小３",26,46]
["小４",26,46]
["小５",25,46]
["小６",25,46]
["中１",24,46]
["中２",23,46]
["中３",23,46]
[null,"自分づくり",null,"仲間づくり",null,"７割域"]
[null,"最小","最大","最小","最大"]
["小１",26,38,39,56]
["小２",26,38,39,56]
["小３",22,33,38,53]
["小４",22,33,38,53]
["小５",20,30,38,53]
["小６",20,30,38,53]
["中１",20,29,38,53]
["中２",19,28,38,52]
["中３",20,28,38,53]

{"sheet":"段階","index":13,"n_rows":83,"n_cols":13,"rows_kept":83,"cut":false,"hidden":true,"merged":[[46,0,46,8],[0,0,0,8],[40,0,40,8]]}
[]
["段階",{"$f":"質問項目!$C$2","v":"自己効力感"},{"$f":"質問項目!$C$6","v":"自尊感情"},{"$f":"質問項目!$C$22 & \"男\"","v":"共感・配慮男"},{"$f":"質問項目!$C$22 & \"女\"","v":"共感・配慮女"},{"$f":"質問項目!$C$16","v":"自己表現"},{"$f":"質問項目!$C$9","v":"心配傾向"},{"$f":"質問項目!$C$12","v":"学級居心地感"},{"$f":"質問項目!$C$28","v":"かかわり"}]
[1,null,null,null,null,null,null,null,null,null,null,8,1]
[2,null,null,null,null,null,null,null,null,null,null,13,2]
[3,1,null,null,null,null,1,1,null,null,null,17,3]
[4,1,1,null,null,null,1,1,1,null,null,19,4]
[5,1,1,null,null,null,1,1,1,null,null,20,5]
[6,1,1,1,1,1,2,1,1]
[7,1,1,1,1,1,2,1,1,null,11,{"$f":"VLOOKUP(K9,基本段階,2)","v":3}]
[8,2,1,1,1,1,3,1,1]
[9,2,2,1,1,1,3,2,1]
[10,3,2,1,1,1,3,2,1]
[11,3,2,1,1,1,4,3,1]
[12,3,3,1,1,1,4,3,2]
[13,4,3,1,1,1,5,3,2]
[14,4,3,1,1,1,5,4,2]
[15,5,4,1,1,1,5,5,3]
[16,null,4,1,1,2,null,null,3]
[17,null,4,2,1,2,null,null,3]
[18,null,5,2,1,2,null,null,4]
[19,null,5,2,2,3,null,null,4]
[20,null,null,3,2,3,null,null,5]
[21,null,null,3,2,3]
[22,null,null,3,3,3]
[23,null,null,3,3,3]
[24,null,null,3,3,4]
[25,null,null,4,3,4]
[26,null,null,4,4,4]
[27,null,null,4,4,5]
[28,null,null,5,4,5]
[29,null,null,5,5,5]
[30,null,null,5,5,5]
["段階",{"$f":"質問項目!$C$2","v":"自己効力感"},{"$f":"質問項目!$C$6","v":"自尊感情"},{"$f":"質問項目!$C$22 & \"男\"","v":"共感・配慮男"},{"$f":"質問項目!$C$22 & \"女\"","v":"共感・配慮女"},{"$f":"質問項目!$C$16","v":"自己表現"},{"$f":"質問項目!$C$9","v":"心配傾向"},{"$f":"質問項目!$C$12","v":"学級居心地感"},{"$f":"質問項目!$C$28","v":"かかわり"}]
[1,7,8,16,18,15,5,8,11]
[2,9,11,19,21,18,7,10,14]
[3,12,14,24,25,23,10,13,17]
[4,14,17,27,28,26,12,14,19]
[5,15,20,30,30,30,15,15,20]
["min",3,4,6,6,6,3,3,4]
["max",15,20,30,30,30,15,15,20]
[]
[1,{"$f":"B34-B39+1","v":5},{"$f":"C34-C39+1","v":5},11,13,10,3,6,8]
[2,{"$f":"B35-B34","v":2},{"$f":"C35-C34","v":3},3,3,3,2,2,3]
[3,{"$f":"B36-B35","v":3},{"$f":"C36-C35","v":3},5,4,5,3,3,3]
[4,{"$f":"B37-B36","v":2},{"$f":"C37-C36","v":3},3,3,3,2,1,2]
[5,{"$f":"B38-B37","v":1},{"$f":"C38-C37","v":3},3,2,4,3,1,1]
[]
[1,{"$f":"1/B42","v":0.2},0.2,9.0909090909090912E-2,7.6923076923076927E-2,0.1,0.33333333333333331,0.16666666666666666,0.125]
[2,0.5,0.33333333333333331,0.33333333333333331,0.33333333333333331,0.33333333333333331,0.5,0.5,0.33333333333333331]
[3,0.33333333333333331,0.33333333333333331,0.2,0.25,0.2,0.33333333333333331,0.33333333333333331,0.33333333333333331]
[4,{"$f":"1/B45","v":0.5},0.33333333333333331,0.33333333333333331,0.33333333333333331,0.33333333333333331,0.5,1,0.5]
[5,{"$f":"1/B46","v":1},0.33333333333333331,0.33333333333333331,0.5,0.25,0.33333333333333331,1,1]
["段階",{"$f":"質問項目!$C$2","v":"自己効力感"},{"$f":"質問項目!$C$6","v":"自尊感情"},{"$f":"質問項目!$C$22 & \"男\"","v":"共感・配慮男"},{"$f":"質問項目!$C$22 & \"女\"","v":"共感・配慮女"},{"$f":"質問項目!$C$16","v":"自己表現"},{"$f":"質問項目!$C$9","v":"心配傾向"},{"$f":"質問項目!$C$12","v":"学級居心地感"},{"$f":"質問項目!$C$28","v":"かかわり"}]
[1]
[2]
[3,0.2,null,null,null,null,0.33333333333333331,0.16666666666666666]
[4,0.4,0.2,null,null,null,0.66666666666666663,0.33333333333333331,0.125]
[5,0.6,0.4,null,null,null,1,0.5,0.25]
[6,0.8,0.6,9.0909090909090912E-2,7.6923076923076927E-2,0.1,1.5,0.66666666666666663,0.375]
[7,1,0.8,0.18181818181818182,0.15384615384615385,0.2,2,0.83333333333333337,0.5]
[8,1.5,1,0.27272727272727271,0.23076923076923078,0.3,2.3333333333333335,1,0.625]
[9,2,1.333,0.36363636363636365,0.30769230769230771,0.4,2.6666666666666665,1.5,0.75]
[10,2.3330000000000002,1.6659999999999999,0.45454545454545453,0.38461538461538464,0.5,3,2,0.875]
[11,2.6659999999999999,2,0.54545454545454541,0.46153846153846156,0.6,3.5,2.3332999999999999,1]
[12,3,2.33,0.63636363636363635,0.53846153846153844,0.7,4,2.6665999999999999,1.333]
[13,3.5,2.66,0.72727272727272729,0.61538461538461542,0.8,4.333333333333333,3,1.6659999999999999]
[14,4,3,0.81818181818181823,0.69230769230769229,0.9,4.666666666666667,4,2]
[15,5,3.3330000000000002,0.90909090909090906,0.76923076923076927,1,5,5,2.3330000000000002]
[16,null,3.66,1,0.84615384615384615,1.3333333333333333,null,null,2.6659999999999999]
[17,null,4,1.3333333333333333,0.92307692307692313,1.6666666666666667,null,null,3]
[18,null,4.33,1.6666666666666667,1,2,null,null,3.5]
[19,null,4.66,2,1.3333333333333333,2.2000000000000002,null,null,4]
[20,null,5,2.2000000000000002,1.6666666666666667,2.4,null,null,5]
[21,null,null,2.4,2,2.6]
[22,null,null,2.6,2.25,2.8]
[23,null,null,2.8,2.5,3]
[24,null,null,3,2.75,3.3333333333333335]
[25,null,null,3.3333333333333335,3,3.6666666666666665]
[26,null,null,3.6666666666666665,3.3333333333333335,4]
[27,null,null,4,3.6666666666666665,4.25]
[28,null,null,4.333333333333333,4,4.5]
[29,null,null,4.666666666666667,4.5,4.75]
[30,null,null,5,5,5]

{"sheet":"段階表","index":14,"n_rows":63,"n_cols":163,"rows_kept":63,"cut":false,"hidden":false,"merged":[]}
[null,"自尊感情小１男","自尊感情小２男","自尊感情小３男","自尊感情小４男","自尊感情小５男","自尊感情小６男","自尊感情中１男","自尊感情中２男","自尊感情中３男","自尊感情小１女","自尊感情小２女","自尊感情小３女","自尊感情小４女","自尊感情小５女","自尊感情小６女","自尊感情中１女","自尊感情中２女","自尊感情中３女","自己効力感小１男","自己効力感小２男","自己効力感小３男","自己効力感小４男","自己効力感小５男","自己効力感小６男","自己効力感中１男","自己効力感中２男","自己効力感中３男","自己効力感小１女","自己効力感小２女","自己効力感小３女","自己効力感小４女","自己効力感小５女","自己効力感小６女","自己効力感中１女","自己効力感中２女","自己効力感中３女","共感・配慮小１男","共感・配慮小２男","共感・配慮小３男","共感・配慮小４男","共感・配慮小５男","共感・配慮小６男","共感・配慮中１男","共感・配慮中２男","共感・配慮中３男","共感・配慮小１女","共感・配慮小２女","共感・配慮小３女","共感・配慮小４女","共感・配慮小５女","共感・配慮小６女","共感・配慮中１女","共感・配慮中２女","共感・配慮中３女","自己表現小１男","自己表現小２男","自己表現小３男","自己表現小４男","自己表現小５男","自己表現小６男","自己表現中１男","自己表現中２男","自己表現中３男","自己表現小１女","自己表現小２女","自己表現小３女","自己表現小４女","自己表現小５女","自己表現小６女","自己表現中１女","自己表現中２女","自己表現中３女","学級居心地感小１男","学級居心地感小２男","学級居心地感小３男","学級居心地感小４男","学級居心地感小５男","学級居心地感小６男","学級居心地感中１男","学級居心地感中２男","学級居心地感中３男","学級居心地感小１女","学級居心地感小２女","学級居心地感小３女","学級居心地感小４女","学級居心地感小５女","学級居心地感小６女","学級居心地感中１女","学級居心地感中２女","学級居心地感中３女","かかわり小１男","かかわり小２男","かかわり小３男","かかわり小４男","かかわり小５男","かかわり小６男","かかわり中１男","かかわり中２男","かかわり中３男","かかわり小１女","かかわり小２女","かかわり小３女","かかわり小４女","かかわり小５女","かかわり小６女","かかわり中１女","かかわり中２女","かかわり中３女","心配傾向小１男","心配傾向小２男","心配傾向小３男","心配傾向小４男","心配傾向小５男","心配傾向小６男","心配傾向中１男","心配傾向中２男","心配傾向中３男","心配傾向小１女","心配傾向小２女","心配傾向小３女","心配傾向小４女","心配傾向小５女","心配傾向小６女","心配傾向中１女","心配傾向中２女","心配傾向中３女","自分づくり小１男","自分づくり小２男","自分づくり小３男","自分づくり小４男","自分づくり小５男","自分づくり小６男","自分づくり中１男","自分づくり中２男","自分づくり中３男","自分づくり小１女","自分づくり小２女","自分づくり小３女","自分づくり小４女","自分づくり小５女","自分づくり小６女","自分づくり中１女","自分づくり中２女","自分づくり中３女","仲間づくり小１男","仲間づくり小２男","仲間づくり小３男","仲間づくり小４男","仲間づくり小５男","仲間づくり小６男","仲間づくり中１男","仲間づくり中２男","仲間づくり中３男","仲間づくり小１女","仲間づくり小２女","仲間づくり小３女","仲間づくり小４女","仲間づくり小５女","仲間づくり小６女","仲間づくり中１女","仲間づくり中２女","仲間づくり中３女"]
[null,2,3,4,5,6,7,8,9,10,11,12,13,14,15,16,17,18,19,20,21,22,23,24,25,26,27,28,29,30,31,32,33,34,35,36,37,38,39,40,41,42,43,44,45,46,47,48,49,50,51,52,53,54,55,56,57,58,59,60,61,62,63,64,65,66,67,68,69,70,71,72,73,74,75,76,77,78,79,80,81,82,83,84,85,86,87,88,89,90,91,92,93,94,95,96,97,98,99,100,101,102,103,104,105,106,107,108,109,110,111,112,113,114,115,116,117,118,119,120,121,122,123,124,125,126,127,128,129,130,131,132,133,134,135,136,137,138,139,140,141,142,143,144,145,146,147,148,149,150,151,152,153,154,155,156,157,158,159,160,161,162,163]
[null,"自尊感情小１男","自尊感情小２男","自尊感情小３男","自尊感情小４男","自尊感情小５男","自尊感情小６男","自尊感情中１男","自尊感情中２男","自尊感情中３男","自尊感情小１女","自尊感情小２女","自尊感情小３女","自尊感情小４女","自尊感情小５女","自尊感情小６女","自尊感情中１女","自尊感情中２女","自尊感情中３女","自己効力感小１男","自己効力感小２男","自己効力感小３男","自己効力感小４男","自己効力感小５男","自己効力感小６男","自己効力感中１男","自己効力感中２男","自己効力感中３男","自己効力感小１女","自己効力感小２女","自己効力感小３女","自己効力感小４女","自己効力感小５女","自己効力感小６女","自己効力感中１女","自己効力感中２女","自己効力感中３女","共感・配慮小１男","共感・配慮小２男","共感・配慮小３男","共感・配慮小４男","共感・配慮小５男","共感・配慮小６男","共感・配慮中１男","共感・配慮中２男","共感・配慮中３男","共感・配慮小１女","共感・配慮小２女","共感・配慮小３女","共感・配慮小４女","共感・配慮小５女","共感・配慮小６女","共感・配慮中１女","共感・配慮中２女","共感・配慮中３女","自己表現小１男","自己表現小２男","自己表現小３男","自己表現小４男","自己表現小５男","自己表現小６男","自己表現中１男","自己表現中２男","自己表現中３男","自己表現小１女","自己表現小２女","自己表現小３女","自己表現小４女","自己表現小５女","自己表現小６女","自己表現中１女","自己表現中２女","自己表現中３女","学級居心地感小１男","学級居心地感小２男","学級居心地感小３男","学級居心地感小４男","学級居心地感小５男","学級居心地感小６男","学級居心地感中１男","学級居心地感中２男","学級居心地感中３男","学級居心地感小１女","学級居心地感小２女","学級居心地感小３女","学級居心地感小４女","学級居心地感小５女","学級居心地感小６女","学級居心地感中１女","学級居心地感中２女","学級居心地感中３女","かかわり小１男","かかわり小２男","かかわり小３男","かかわり小４男","かかわり小５男","かかわり小６男","かかわり中１男","かかわり中２男","かかわり中３男","かかわり小１女","かかわり小２女","かかわり小３女","かかわり小４女","かかわり小５女","かかわり小６女","かかわり中１女","かかわり中２女","かかわり中３女","心配傾向小１男","心配傾向小２男","心配傾向小３男","心配傾向小４男","心配傾向小５男","心配傾向小６男","心配傾向中１男","心配傾向中２男","心配傾向中３男","心配傾向小１女","心配傾向小２女","心配傾向小３女","心配傾向小４女","心配傾向小５女","心配傾向小６女","心配傾向中１女","心配傾向中２女","心配傾向中３女","自分づくり小１男","自分づくり小２男","自分づくり小３男","自分づくり小４男","自分づくり小５男","自分づくり小６男","自分づくり中１男","自分づくり中２男","自分づくり中３男","自分づくり小１女","自分づくり小２女","自分づくり小３女","自分づくり小４女","自分づくり小５女","自分づくり小６女","自分づくり中１女","自分づくり中２女","自分づくり中３女","仲間づくり小１男","仲間づくり小２男","仲間づくり小３男","仲間づくり小４男","仲間づくり小５男","仲間づくり小６男","仲間づくり中１男","仲間づくり中２男","仲間づくり中３男","仲間づくり小１女","仲間づくり小２女","仲間づくり小３女","仲間づくり小４女","仲間づくり小５女","仲間づくり小６女","仲間づくり中１女","仲間づくり中２女","仲間づくり中３女"]
[1]
[2]
[3,null,null,1,1,1,1,1,1,1,null,null,1,1,1,1,1,1,1,null,null,null,null,null,null,null,null,null,null,null,null,null,null,null,null,null,null,null,null,null,null,null,null,null,null,null,null,null,null,null,null,null,null,null,null,null,null,null,null,null,null,null,null,null,null,null,null,null,null,null,null,null,null,null,null,null,null,null,null,null,null,null,null,null,null,null,null,null,null,null,null,null,null,null,null,null,null,null,null,null,null,null,null,null,null,null,null,null,null,null,null,1,1,1,1,1,1,1,null,null,1,1,1,1,1,1,1]
[4,1,1,1,1,1,1,1,1,1,1,1,1,1,1,1,1,1,1,1,1,1,1,1,1,1,1,1,1,1,1,1,1,1,1,1,1,null,null,null,null,null,null,null,null,null,null,null,null,null,null,null,null,null,null,null,null,null,null,null,null,null,null,null,null,null,null,null,null,null,null,null,null,1,1,1,1,1,1,1,1,1,1,1,1,1,1,1,1,1,1,1,1,1,1,1,1,1,1,1,1,1,1,1,1,1,1,1,1,null,null,1,1,1,1,1,1,1,null,null,1,1,1,1,1,1,1]
[5,1,1,1,1,2,2,1,2,1,1,1,1,1,1,1,2,2,1,1,1,1,1,1,1,1,1,1,1,1,1,1,1,1,1,1,1,null,null,null,null,null,null,null,null,null,null,null,null,null,null,null,null,null,null,null,null,null,null,null,null,null,null,null,null,null,null,null,null,null,null,null,null,1,1,1,1,1,1,1,1,1,1,1,1,1,1,1,1,1,1,1,1,1,1,1,1,1,1,1,1,1,1,1,1,1,1,1,1,null,null,2,2,2,2,2,1,1,null,null,1,1,2,2,1,1,1]
[6,1,1,2,2,2,2,2,2,2,1,1,2,2,2,2,2,2,2,1,1,1,1,1,1,1,1,1,1,1,1,1,1,1,1,1,1,1,1,1,1,1,1,1,1,1,1,1,1,1,1,1,1,1,1,1,1,1,1,1,1,1,1,1,1,1,1,1,1,1,1,1,1,1,1,1,1,1,1,1,1,1,1,1,1,1,1,1,1,1,1,1,1,1,1,1,1,1,1,1,1,1,1,1,1,1,1,1,1,null,null,2,2,2,2,2,2,2,null,null,2,2,2,2,2,2,2]
[7,1,1,2,2,2,2,2,2,2,1,1,2,2,2,2,2,2,2,1,1,1,1,1,1,1,1,1,1,1,1,1,1,1,1,1,1,1,1,1,1,1,1,1,1,1,1,1,1,1,1,1,1,1,1,1,1,1,1,1,1,1,1,1,1,1,1,1,1,1,1,1,1,1,1,1,1,1,1,1,1,1,1,1,1,1,1,1,1,1,1,1,1,1,1,1,1,1,1,1,1,1,1,1,1,1,1,1,1,null,null,3,3,3,3,2,2,2,null,null,2,2,2,2,2,2,2]
[8,1,1,2,2,2,2,2,2,2,1,1,2,2,2,2,2,3,2,1,1,1,1,1,1,1,1,1,1,1,1,1,1,1,1,1,1,1,1,1,1,1,1,1,1,1,1,1,1,1,1,1,1,1,1,1,1,1,1,1,1,1,1,1,1,1,1,1,1,1,1,1,1,1,1,1,1,1,1,1,1,1,1,1,1,1,1,1,1,1,1,1,1,1,1,1,1,1,1,1,1,1,1,1,1,1,1,1,1,null,null,3,3,3,3,3,3,3,null,null,3,3,3,3,3,3,3]
[9,2,2,2,2,3,3,3,3,3,1,1,3,3,3,3,3,3,3,1,1,1,1,1,1,1,1,1,1,1,1,1,1,1,1,1,1,1,1,1,1,1,1,1,1,1,1,1,1,1,1,1,1,1,1,1,1,1,1,1,1,1,1,1,1,1,1,1,1,1,1,1,1,1,1,1,1,1,1,1,1,1,1,1,1,1,1,1,1,1,1,1,1,1,1,1,1,1,1,1,1,1,1,1,1,1,1,1,1,null,null,3,3,3,3,3,3,3,null,null,3,3,3,3,3,3,3]
[10,2,2,3,3,3,3,3,3,3,2,2,3,3,3,3,3,4,3,1,1,2,2,2,2,2,2,2,1,1,1,1,2,2,2,1,1,1,1,1,1,1,1,1,1,1,1,1,1,1,1,1,1,1,1,1,1,1,1,1,1,1,1,1,1,1,1,1,1,1,1,1,1,1,1,1,1,2,2,1,1,1,1,1,1,1,1,1,1,2,2,1,1,1,1,1,1,1,1,1,1,1,1,1,1,1,1,1,1,null,null,3,3,3,3,3,3,3,null,null,3,3,3,3,3,3,3]
[11,2,2,3,3,3,3,3,3,3,2,2,3,3,3,3,3,4,4,1,1,2,2,2,2,2,2,2,1,1,2,2,2,2,2,2,2,1,1,1,1,1,1,1,1,1,1,1,1,1,1,1,1,1,1,1,1,1,1,1,1,1,1,1,1,1,1,1,1,1,1,1,1,2,2,2,2,2,2,2,2,2,1,1,1,1,2,2,1,2,2,2,2,2,2,1,1,1,2,2,2,2,1,1,1,1,1,1,1,null,null,4,4,4,4,4,4,3,null,null,3,3,3,3,3,3,3]
[12,2,2,3,3,3,3,3,3,4,2,2,3,3,4,4,4,4,4,2,2,2,2,2,2,2,2,2,1,1,2,2,2,2,2,2,2,1,1,1,1,1,1,1,1,1,1,1,1,1,1,1,1,1,1,1,1,1,1,1,1,1,1,1,1,1,1,1,1,1,1,1,1,2,2,2,2,2,2,2,2,2,2,2,2,2,2,2,2,3,2,2,2,2,2,2,2,2,2,2,2,2,2,2,2,2,2,2,2,null,null,4,4,4,4,4,4,4,null,null,4,4,4,4,4,4,4]
[13,3,3,3,3,4,4,4,4,4,2,2,4,4,4,4,4,5,5,2,2,2,2,3,3,3,3,3,2,2,2,2,3,3,3,3,3,1,1,1,1,1,1,1,1,1,1,1,1,1,1,1,1,1,1,1,1,1,1,1,1,1,1,1,1,1,1,1,1,1,1,1,1,2,2,2,2,2,2,2,2,2,2,2,2,2,2,2,2,3,2,2,2,2,2,2,2,2,2,2,2,2,2,2,2,2,2,2,2,null,null,4,4,4,4,5,4,4,null,null,4,4,4,4,4,4,4]
[14,3,3,4,4,4,4,4,4,4,3,3,4,4,5,5,5,5,5,2,2,3,3,3,3,3,3,3,2,2,3,3,3,3,3,3,3,1,1,1,1,1,1,1,1,1,1,1,1,1,1,1,1,1,1,1,1,1,1,1,1,1,1,1,1,1,1,1,1,1,1,1,1,2,2,3,3,3,3,3,3,3,2,2,2,2,3,3,2,3,3,2,2,2,2,2,2,2,3,3,2,2,2,2,3,3,2,3,3,null,null,5,5,5,5,5,5,5,null,null,5,5,5,5,5,5,5]
[15,3,3,5,5,5,5,5,5,5,3,3,5,5,5,5,5,5,5,2,2,3,3,3,3,3,3,3,2,2,3,3,3,3,3,3,3,1,1,1,1,1,1,1,1,1,1,1,1,1,1,1,1,1,1,1,1,2,2,2,2,1,2,1,1,1,2,2,2,2,2,2,1,3,3,3,3,3,3,3,3,3,2,2,3,3,3,3,3,3,3,3,3,3,3,3,3,3,3,3,3,3,3,3,3,3,3,3,3,null,null,5,5,5,5,5,5,5,null,null,5,5,5,5,5,5,5]
[16,3,3,null,null,null,null,null,null,null,3,3,null,null,null,null,null,null,null,3,3,3,3,3,3,3,3,4,3,3,3,3,4,4,4,4,4,2,2,1,1,1,1,1,1,1,1,1,1,1,1,1,1,1,1,2,2,2,2,2,2,2,2,2,2,2,2,2,2,2,2,2,2,3,3,3,3,3,3,3,3,3,3,3,3,3,3,3,3,3,3,3,3,3,3,3,3,3,3,3,3,3,3,3,3,3,3,3,3]
[17,3,3,null,null,null,null,null,null,null,3,3,null,null,null,null,null,null,null,3,3,4,4,4,4,4,4,4,3,3,3,3,4,4,4,4,4,2,2,2,2,2,2,1,1,1,1,1,1,1,1,1,1,1,1,2,2,2,2,2,2,2,2,2,2,2,2,2,2,2,2,2,2,3,3,3,3,3,3,3,3,3,3,3,3,3,3,3,3,4,3,3,3,3,3,3,3,3,4,4,3,3,3,3,3,3,3,3,3]
[18,4,4,null,null,null,null,null,null,null,4,4,null,null,null,null,null,null,null,3,3,4,4,4,4,4,4,4,3,3,4,4,4,4,4,4,4,2,2,2,2,2,2,2,2,2,1,1,1,1,1,1,1,1,1,2,2,2,2,2,2,2,2,2,2,2,2,2,3,3,2,2,2,4,4,4,4,4,4,4,4,4,3,3,3,3,4,4,4,4,4,3,3,3,3,4,4,4,4,4,3,3,3,3,4,4,4,4,4]
[19,4,4,null,null,null,null,null,null,null,4,4,null,null,null,null,null,null,null,4,4,4,4,5,5,5,5,5,4,4,4,4,5,5,5,5,5,2,2,2,2,2,2,2,2,2,2,2,2,2,2,2,2,1,2,2,2,2,2,2,2,2,3,2,2,2,3,3,3,3,2,3,3,4,4,4,4,4,4,4,4,4,4,4,4,4,4,4,4,4,4,4,4,4,4,4,4,4,4,4,4,4,4,4,4,4,4,4,4]
[20,5,5,null,null,null,null,null,null,null,5,5,null,null,null,null,null,null,null,5,5,5,5,5,5,5,5,5,5,5,5,5,5,5,5,5,5,2,2,2,2,2,2,2,2,2,2,2,2,2,2,2,2,2,2,3,3,3,3,3,3,3,3,3,2,2,3,3,3,3,3,3,3,5,5,5,5,5,5,5,5,5,5,5,5,5,5,5,5,5,5,5,5,5,5,5,5,5,5,5,5,5,5,5,5,5,5,5,5]
[21,null,null,null,null,null,null,null,null,null,null,null,null,null,null,null,null,null,null,null,null,null,null,null,null,null,null,null,null,null,null,null,null,null,null,null,null,2,2,3,3,3,3,3,2,3,2,2,2,2,2,2,2,2,2,3,3,3,3,3,3,3,3,3,3,3,3,3,3,3,3,3,3]
[22,null,null,null,null,null,null,null,null,null,null,null,null,null,null,null,null,null,null,null,null,null,null,null,null,null,null,null,null,null,null,null,null,null,null,null,null,3,3,3,3,3,3,3,3,3,2,2,2,2,3,3,3,2,2,3,3,3,3,3,3,3,3,3,3,3,3,3,3,3,3,3,3]
[23,null,null,null,null,null,null,null,null,null,null,null,null,null,null,null,null,null,null,null,null,null,null,null,null,null,null,null,null,null,null,null,null,null,null,null,null,3,3,3,3,3,3,3,3,3,2,2,3,3,3,3,3,3,3,3,3,3,3,3,3,3,3,3,3,3,3,3,3,3,3,4,3]
[24,null,null,null,null,null,null,null,null,null,null,null,null,null,null,null,null,null,null,null,null,null,null,null,null,null,null,null,null,null,null,null,null,null,null,null,null,3,3,3,3,3,3,3,3,3,3,3,3,3,3,3,3,3,3,3,3,3,3,3,3,4,4,4,3,3,3,3,4,4,4,4,4]
[25,null,null,null,null,null,null,null,null,null,null,null,null,null,null,null,null,null,null,null,null,null,null,null,null,null,null,null,null,null,null,null,null,null,null,null,null,3,3,3,3,3,3,4,3,4,3,3,3,3,3,3,3,3,3,3,3,4,4,4,4,4,4,4,3,3,4,4,4,4,4,4,4]
[26,null,null,null,null,null,null,null,null,null,null,null,null,null,null,null,null,null,null,null,null,null,null,null,null,null,null,null,null,null,null,null,null,null,null,null,null,3,3,4,4,4,4,4,4,4,3,3,3,3,3,3,3,3,3,3,3,4,4,4,4,4,4,4,3,3,4,4,4,4,4,4,4]
[27,null,null,null,null,null,null,null,null,null,null,null,null,null,null,null,null,null,null,null,null,null,null,null,null,null,null,null,null,null,null,null,null,null,null,null,null,4,4,4,4,4,4,4,4,4,3,3,4,4,4,4,4,4,4,4,4,4,4,4,4,4,4,4,3,3,4,4,4,4,4,5,4]
[28,null,null,null,null,null,null,null,null,null,null,null,null,null,null,null,null,null,null,null,null,null,null,null,null,null,null,null,null,null,null,null,null,null,null,null,null,4,4,4,4,4,4,4,4,4,4,4,4,4,4,4,4,4,4,4,4,4,4,4,4,4,5,5,4,4,4,4,5,5,5,5,5]
[29,null,null,null,null,null,null,null,null,null,null,null,null,null,null,null,null,null,null,null,null,null,null,null,null,null,null,null,null,null,null,null,null,null,null,null,null,4,4,4,4,5,5,5,4,4,4,4,4,4,4,4,4,4,4,4,4,5,5,5,5,5,5,5,4,4,5,5,5,5,5,5,5]
[30,null,null,null,null,null,null,null,null,null,null,null,null,null,null,null,null,null,null,null,null,null,null,null,null,null,null,null,null,null,null,null,null,null,null,null,null,5,5,5,5,5,5,5,5,5,5,5,5,5,5,5,5,5,5,5,5,5,5,5,5,5,5,5,5,5,5,5,5,5,5,5,5]
[31]
[32]
[33]
[34]
[35]
[36]
[37]
[38]
[39]
[40]
[41]
[42]
[43]
[44]
[45]
[46]
[47]
[48]
[49]
[50]
[51]
[52]
[53]
[54]
[55]
[56]
[57]
[58]
[59]
[60]

{"sheet":"質問項目","index":15,"n_rows":31,"n_cols":9,"rows_kept":31,"cut":false,"hidden":false,"merged":[[1,0,10,0],[15,0,30,0],[11,2,14,2],[11,0,14,0],[1,2,4,2],[5,2,7,2],[15,2,20,2],[21,2,26,2],[8,2,10,2],[1,1,7,1],[15,1,26,1],[8,1,10,1],[11,1,14,1],[27,2,30,2],[27,1,30,1]]}
["項目","項目名","因子","番号","内容","表示","順番",{"$f":"D1","v":"番号"},"内容"]
["A","自分づくり","自己効力感",1,"うまくいかなくても最後まで頑張る",{"$f":"D2&\"_\"&E2","v":"1_うまくいかなくても最後まで頑張る"},null,1,{"$f":"E2","v":"うまくいかなくても最後まで頑張る"}]
[null,null,null,2,"人の役に立っている",{"$f":"D3&\"_\"&E3","v":"2_人の役に立っている"},null,2,"人の役に立っている"]
[null,null,null,8,"頑張れば成績は良くなる","8_頑張れば成績は良くなる",null,8,"頑張れば成績は良くなる"]
[null,null,null,10,"とにかくやってみる","10_とにかくやってみる",null,{"$f":"D5","v":10},"とにかくやってみる"]
[null,null,"自尊感情",4,"自分を大切だと思う","4_自分を大切だと思う",null,{"$f":"D6","v":4},"自分を大切だと思う"]
[null,null,null,5,"自分が好きだ","5_自分が好きだ",null,5,"自分が好きだ"]
[null,null,null,7,"いろいろなよいところがある","7_いろいろなよいところがある",null,7,"いろいろなよいところがある"]
[null,"心配傾向","心配傾向",3,"うまくいかないかと心配","3_うまくいかないかと心配",null,3,"うまくいかないかと心配"]
[null,null,null,6,"にげだしてしまう","6_にげだしてしまう",null,6,"にげだしてしまう"]
[null,null,null,9,"いいなりになる","9_いいなりになる",null,9,"いいなりになる"]
["C","学級居心地感","学級居心地感",11,"クラスの友達と一緒で楽しい","11_クラスの友達と一緒で楽しい",null,11,"クラスの友達と一緒で楽しい"]
[null,null,null,12,"クラスの友達に大切にされる","12_クラスの友達に大切にされる",null,{"$f":"D13","v":12},"クラスの友達に大切にされる"]
[null,null,null,13,"クラスが気に入っている","13_クラスが気に入っている",null,{"$f":"D14","v":13},"クラスが気に入っている"]
[null,null,null,14,"このクラスになってよかった","14_このクラスになってよかった",null,14,"このクラスになってよかった"]
["B","仲間づくり","自己表現",1,"アイデアを出せる","1_アイデアを出せる",null,1,"アイデアを出せる"]
[null,null,null,2,"遊びに誘える","2_遊びに誘える",null,2,"遊びに誘える"]
[null,null,null,4,"いやなときははっきり断れる","4_いやなときははっきり断れる",null,4,"いやなときははっきり断れる"]
[null,null,null,5,"わからなければ上手に質問できる","5_わからなければ上手に質問できる",null,5,"わからなければ上手に質問できる"]
[null,null,null,8,"人と違っていても意見が言える","8_人と違っていても意見が言える",null,8,"人と違っていても意見が言える"]
[null,null,null,11,"友達の話に入れる","11_友達の話に入れる",null,11,"友達の話に入れる"]
[null,null,"共感・配慮",3,"励ましたりなぐさめたりできる","3_励ましたりなぐさめたりできる",null,3,"励ましたりなぐさめたりできる"]
[null,null,null,6,"一緒に喜ぶことができる","6_一緒に喜ぶことができる",null,6,"一緒に喜ぶことができる"]
[null,null,null,7,"悪いと思ったら謝れる","7_悪いと思ったら謝れる",null,7,"悪いと思ったら謝れる"]
[null,null,null,9,"最後まで話を聞くことができる","9_最後まで話を聞くことができる",null,9,"最後まで話を聞くことができる"]
[null,null,null,10,"相手の気持ちを考えて頼む","10_相手の気持ちを考えて頼む",null,10,"相手の気持ちを考えて頼む"]
[null,null,null,12,"他の人の気持ちを考え我慢できる","12_他の人の気持ちを考え我慢できる",null,12,"他の人の気持ちを考え我慢できる"]
[null,"かかわり","かかわり",2,"遊びに誘える","2_遊びに誘える",null,2,"遊びに誘える"]
[null,null,null,3,"励ましたりなぐさめたりできる","3_励ましたりなぐさめたりできる",null,3,"励ましたりなぐさめたりできる"]
[null,null,null,6,"一緒に喜ぶことができる","6_一緒に喜ぶことができる",null,6,"一緒に喜ぶことができる"]
[null,null,null,11,"友達の話に入れる","11_友達の話に入れる",null,11,"友達の話に入れる"]

{"sheet":"風土説明","index":16,"n_rows":7,"n_cols":4,"rows_kept":7,"cut":false,"hidden":false,"merged":[[0,0,0,1],[1,0,2,0],[3,0,4,0],[5,0,6,0]]}
["観察の視点",null,"具体の視点\n◎～△印","社会的スキルと関連づけた観点\n◎～△印"]
["自\n分\nづ\nく\nり","Ａ\n公正\n（自己効力感）","よいことはよい、悪いことは悪いと言える雰囲気がある","場の雰囲気や人の意見に流されず、自分の意見や感じ方を表明できる（①②）"]
[null,"Ｂ\n寛容\n（自尊感情）","失敗や意見の違いを温かく認め、包み込んでいこうとする雰囲気がある","互いのよさや違いを認め、尊重していこうとする（③④）"]
["仲\n間\nづ\nく\nり","Ｃ\n自己表現\n（含かかわり）","率直かつ適切な意志の伝達や感情交流がある","友達との明快なコミュニケーションがとれる（⑤～⑪）"]
[null,"Ｄ\n配慮","思いやりのある言動・行動が自然に現れる","友達の気持ちを推しはかって行動ができる（⑫～⑯）"]
["集\n団\nづ\nく\nり","Ｅ\n課題遂行","グループの目的や課題解決に意欲をもつ","集団の課題・目標を達成するために話し合いを進めている（⑱）"]
[null,"Ｆ\n合意形成","意見や感情の違いを認めながら、集団の意見をまとめようとする","みんなの意見を上手に取り入れて話し合いの調整をしている（⑰）"]